| Back to Multiple platform build/check report for BioC 3.14 |
|
This page was generated on 2022-04-13 12:05:28 -0400 (Wed, 13 Apr 2022).
| Hostname | OS | Arch (*) | R version | Installed pkgs |
|---|---|---|---|---|
| nebbiolo2 | Linux (Ubuntu 20.04.4 LTS) | x86_64 | 4.1.3 (2022-03-10) -- "One Push-Up" | 4324 |
| tokay2 | Windows Server 2012 R2 Standard | x64 | 4.1.3 (2022-03-10) -- "One Push-Up" | 4077 |
| machv2 | macOS 10.14.6 Mojave | x86_64 | 4.1.3 (2022-03-10) -- "One Push-Up" | 4137 |
| Click on any hostname to see more info about the system (e.g. compilers) (*) as reported by 'uname -p', except on Windows and Mac OS X | ||||
|
To the developers/maintainers of the hypeR package: - Please allow up to 24 hours (and sometimes 48 hours) for your latest push to git@git.bioconductor.org:packages/hypeR.git to reflect on this report. See How and When does the builder pull? When will my changes propagate? for more information. - Make sure to use the following settings in order to reproduce any error or warning you see on this page. |
| Package 894/2083 | Hostname | OS / Arch | INSTALL | BUILD | CHECK | BUILD BIN | ||||||||
| hypeR 1.10.0 (landing page) Anthony Federico
| nebbiolo2 | Linux (Ubuntu 20.04.4 LTS) / x86_64 | OK | OK | OK | |||||||||
| tokay2 | Windows Server 2012 R2 Standard / x64 | OK | OK | ERROR | OK | |||||||||
| machv2 | macOS 10.14.6 Mojave / x86_64 | OK | OK | OK | OK | |||||||||
| Package: hypeR |
| Version: 1.10.0 |
| Command: /home/biocbuild/bbs-3.14-bioc/R/bin/R CMD check --install=check:hypeR.install-out.txt --library=/home/biocbuild/bbs-3.14-bioc/R/library --no-vignettes --timings hypeR_1.10.0.tar.gz |
| StartedAt: 2022-04-12 07:49:44 -0400 (Tue, 12 Apr 2022) |
| EndedAt: 2022-04-12 07:52:20 -0400 (Tue, 12 Apr 2022) |
| EllapsedTime: 155.8 seconds |
| RetCode: 0 |
| Status: OK |
| CheckDir: hypeR.Rcheck |
| Warnings: 0 |
##############################################################################
##############################################################################
###
### Running command:
###
### /home/biocbuild/bbs-3.14-bioc/R/bin/R CMD check --install=check:hypeR.install-out.txt --library=/home/biocbuild/bbs-3.14-bioc/R/library --no-vignettes --timings hypeR_1.10.0.tar.gz
###
##############################################################################
##############################################################################
* using log directory ‘/home/biocbuild/bbs-3.14-bioc/meat/hypeR.Rcheck’
* using R version 4.1.3 (2022-03-10)
* using platform: x86_64-pc-linux-gnu (64-bit)
* using session charset: UTF-8
* using option ‘--no-vignettes’
* checking for file ‘hypeR/DESCRIPTION’ ... OK
* this is package ‘hypeR’ version ‘1.10.0’
* package encoding: UTF-8
* checking package namespace information ... OK
* checking package dependencies ... OK
* checking if this is a source package ... OK
* checking if there is a namespace ... OK
* checking for hidden files and directories ... OK
* checking for portable file names ... OK
* checking for sufficient/correct file permissions ... OK
* checking whether package ‘hypeR’ can be installed ... OK
* checking installed package size ... OK
* checking package directory ... OK
* checking ‘build’ directory ... OK
* checking DESCRIPTION meta-information ... OK
* checking top-level files ... OK
* checking for left-over files ... OK
* checking index information ... OK
* checking package subdirectories ... OK
* checking R files for non-ASCII characters ... OK
* checking R files for syntax errors ... OK
* checking whether the package can be loaded ... OK
* checking whether the package can be loaded with stated dependencies ... OK
* checking whether the package can be unloaded cleanly ... OK
* checking whether the namespace can be loaded with stated dependencies ... OK
* checking whether the namespace can be unloaded cleanly ... OK
* checking dependencies in R code ... OK
* checking S3 generic/method consistency ... OK
* checking replacement functions ... OK
* checking foreign function calls ... OK
* checking R code for possible problems ... NOTE
.dots_multi_plot : <anonymous>: no visible binding for global variable
‘pval’
.dots_multi_plot : <anonymous>: no visible binding for global variable
‘fdr’
.dots_multi_plot : <anonymous>: no visible binding for global variable
‘label’
.dots_multi_plot: no visible global function definition for ‘head’
.dots_multi_plot: no visible binding for global variable ‘significance’
.dots_multi_plot: no visible binding for global variable ‘signature’
.dots_multi_plot: no visible binding for global variable ‘label’
.dots_multi_plot: no visible binding for global variable ‘size’
.dots_plot: no visible binding for global variable ‘pval’
.dots_plot: no visible binding for global variable ‘fdr’
.dots_plot: no visible binding for global variable ‘significance’
.dots_plot: no visible binding for global variable ‘size’
.enrichment_map: no visible binding for global variable ‘pval’
.enrichment_map: no visible binding for global variable ‘fdr’
.find_members: no visible binding for global variable ‘from’
.find_members: no visible binding for global variable ‘to’
.hiearchy_map: no visible binding for global variable ‘pval’
.hiearchy_map: no visible binding for global variable ‘fdr’
.hiearchy_map : <anonymous>: no visible binding for global variable
‘label’
.hyper_enrichment: no visible global function definition for ‘is’
.ks_enrichment: no visible global function definition for ‘is’
enrichr_available: no visible binding for global variable ‘.’
ggvenn: no visible binding for global variable ‘x’
ggvenn: no visible binding for global variable ‘y’
hyp_dots: no visible global function definition for ‘is’
hyp_emap: no visible global function definition for ‘is’
hyp_hmap: no visible global function definition for ‘is’
hyp_show: no visible global function definition for ‘is’
hyp_to_excel: no visible global function definition for ‘is’
hyp_to_graph: no visible global function definition for ‘is’
hyp_to_rmd: no visible global function definition for ‘is’
hyp_to_rmd : <anonymous>: no visible global function definition for
‘is’
hyp_to_table: no visible global function definition for ‘is’
hyp_to_table: no visible global function definition for ‘write.table’
hypeR: no visible global function definition for ‘is’
hypeR: no visible global function definition for ‘packageVersion’
hypeR: no visible global function definition for ‘head’
msigdb_available: no visible binding for global variable ‘gs_cat’
msigdb_available: no visible binding for global variable ‘gs_subcat’
msigdb_download: no visible binding for global variable ‘gs_name’
msigdb_download: no visible binding for global variable ‘gene_symbol’
msigdb_version: no visible global function definition for
‘packageVersion’
rctbl_build: no visible global function definition for ‘is’
Undefined global functions or variables:
. fdr from gene_symbol gs_cat gs_name gs_subcat head is label
packageVersion pval signature significance size to write.table x y
Consider adding
importFrom("methods", "is", "signature")
importFrom("utils", "head", "packageVersion", "write.table")
to your NAMESPACE file (and ensure that your DESCRIPTION Imports field
contains 'methods').
* checking Rd files ... OK
* checking Rd metadata ... OK
* checking Rd cross-references ... OK
* checking for missing documentation entries ... OK
* checking for code/documentation mismatches ... OK
* checking Rd \usage sections ... OK
* checking Rd contents ... OK
* checking for unstated dependencies in examples ... OK
* checking files in ‘vignettes’ ... OK
* checking examples ... OK
Examples with CPU (user + system) or elapsed time > 5s
user system elapsed
msigdb_available 18.368 1.844 20.447
hyp_hmap 6.404 0.208 7.416
* checking for unstated dependencies in ‘tests’ ... OK
* checking tests ...
Running ‘testthat.R’
OK
* checking for unstated dependencies in vignettes ... OK
* checking package vignettes in ‘inst/doc’ ... OK
* checking running R code from vignettes ... SKIPPED
* checking re-building of vignette outputs ... SKIPPED
* checking PDF version of manual ... OK
* DONE
Status: 1 NOTE
See
‘/home/biocbuild/bbs-3.14-bioc/meat/hypeR.Rcheck/00check.log’
for details.
hypeR.Rcheck/00install.out
############################################################################## ############################################################################## ### ### Running command: ### ### /home/biocbuild/bbs-3.14-bioc/R/bin/R CMD INSTALL hypeR ### ############################################################################## ############################################################################## * installing to library ‘/home/biocbuild/bbs-3.14-bioc/R/library’ * installing *source* package ‘hypeR’ ... ** using staged installation ** R ** data ** inst ** byte-compile and prepare package for lazy loading ** help *** installing help indices ** building package indices ** installing vignettes ** testing if installed package can be loaded from temporary location ** testing if installed package can be loaded from final location ** testing if installed package keeps a record of temporary installation path * DONE (hypeR)
hypeR.Rcheck/tests/testthat.Rout
R version 4.1.3 (2022-03-10) -- "One Push-Up"
Copyright (C) 2022 The R Foundation for Statistical Computing
Platform: x86_64-pc-linux-gnu (64-bit)
R is free software and comes with ABSOLUTELY NO WARRANTY.
You are welcome to redistribute it under certain conditions.
Type 'license()' or 'licence()' for distribution details.
R is a collaborative project with many contributors.
Type 'contributors()' for more information and
'citation()' on how to cite R or R packages in publications.
Type 'demo()' for some demos, 'help()' for on-line help, or
'help.start()' for an HTML browser interface to help.
Type 'q()' to quit R.
> library(testthat)
> library(magrittr)
Attaching package: 'magrittr'
The following objects are masked from 'package:testthat':
equals, is_less_than, not
> library(hypeR)
>
> test_check("hypeR")
inline R code fragments
label: setup (with options)
List of 2
$ echo : logi FALSE
$ message: logi FALSE
ordinary text without R code
label: 1 (with options)
List of 2
$ fig.width: num 8.25
$ fig.align: chr "center"
ordinary text without R code
/usr/bin/pandoc +RTS -K512m -RTS hyp.1.knit.md --to html4 --from markdown+autolink_bare_uris+tex_math_single_backslash --output hyp.1.html --lua-filter /home/biocbuild/bbs-3.14-bioc/R/library/rmarkdown/rmarkdown/lua/pagebreak.lua --lua-filter /home/biocbuild/bbs-3.14-bioc/R/library/rmarkdown/rmarkdown/lua/latex-div.lua --self-contained --variable bs3=TRUE --standalone --section-divs --table-of-contents --toc-depth 1 --variable toc_float=1 --variable toc_selectors=h1 --variable toc_collapsed=1 --variable toc_smooth_scroll=1 --variable toc_print=1 --template /home/biocbuild/bbs-3.14-bioc/R/library/rmarkdown/rmd/h/default.html --no-highlight --variable highlightjs=1 --variable theme=united --mathjax --variable 'mathjax-url=https://mathjax.rstudio.com/latest/MathJax.js?config=TeX-AMS-MML_HTMLorMML' --include-in-header /tmp/RtmpOQotwW/rmarkdown-str3313fe32c149.html --variable code_folding=hide --variable code_menu=1
inline R code fragments
label: setup (with options)
List of 2
$ echo : logi FALSE
$ message: logi FALSE
ordinary text without R code
label: 1 (with options)
List of 2
$ fig.width: num 8.25
$ fig.align: chr "center"
ordinary text without R code
label: 2 (with options)
List of 2
$ fig.width: num 8.25
$ fig.align: chr "center"
ordinary text without R code
label: 3 (with options)
List of 2
$ fig.width: num 8.25
$ fig.align: chr "center"
ordinary text without R code
/usr/bin/pandoc +RTS -K512m -RTS multihyp.1.knit.md --to html4 --from markdown+autolink_bare_uris+tex_math_single_backslash --output multihyp.1.html --lua-filter /home/biocbuild/bbs-3.14-bioc/R/library/rmarkdown/rmarkdown/lua/pagebreak.lua --lua-filter /home/biocbuild/bbs-3.14-bioc/R/library/rmarkdown/rmarkdown/lua/latex-div.lua --self-contained --variable bs3=TRUE --standalone --section-divs --table-of-contents --toc-depth 1 --variable toc_float=1 --variable toc_selectors=h1 --variable toc_collapsed=1 --variable toc_smooth_scroll=1 --variable toc_print=1 --template /home/biocbuild/bbs-3.14-bioc/R/library/rmarkdown/rmd/h/default.html --no-highlight --variable highlightjs=1 --variable theme=united --mathjax --variable 'mathjax-url=https://mathjax.rstudio.com/latest/MathJax.js?config=TeX-AMS-MML_HTMLorMML' --include-in-header /tmp/RtmpOQotwW/rmarkdown-str3313fe6c14ca1c.html --variable code_folding=hide --variable code_menu=1
inline R code fragments
label: setup (with options)
List of 2
$ echo : logi FALSE
$ message: logi FALSE
ordinary text without R code
label: 1 (with options)
List of 2
$ fig.width: num 8.25
$ fig.align: chr "center"
ordinary text without R code
label: 2 (with options)
List of 2
$ fig.width: num 8.25
$ fig.align: chr "center"
ordinary text without R code
label: 3 (with options)
List of 2
$ fig.width: num 8.25
$ fig.align: chr "center"
ordinary text without R code
label: 4 (with options)
List of 2
$ fig.width: num 8.25
$ fig.align: chr "center"
ordinary text without R code
label: 5 (with options)
List of 2
$ fig.width: num 8.25
$ fig.align: chr "center"
ordinary text without R code
label: 6 (with options)
List of 2
$ fig.width: num 8.25
$ fig.align: chr "center"
ordinary text without R code
label: 7 (with options)
List of 2
$ fig.width: num 8.25
$ fig.align: chr "center"
ordinary text without R code
label: 8 (with options)
List of 2
$ fig.width: num 8.25
$ fig.align: chr "center"
ordinary text without R code
label: 9 (with options)
List of 2
$ fig.width: num 8.25
$ fig.align: chr "center"
ordinary text without R code
/usr/bin/pandoc +RTS -K512m -RTS lmultihyp.1.knit.md --to html4 --from markdown+autolink_bare_uris+tex_math_single_backslash --output lmultihyp.1.html --lua-filter /home/biocbuild/bbs-3.14-bioc/R/library/rmarkdown/rmarkdown/lua/pagebreak.lua --lua-filter /home/biocbuild/bbs-3.14-bioc/R/library/rmarkdown/rmarkdown/lua/latex-div.lua --self-contained --variable bs3=TRUE --standalone --section-divs --table-of-contents --toc-depth 1 --variable toc_float=1 --variable toc_selectors=h1 --variable toc_collapsed=1 --variable toc_smooth_scroll=1 --variable toc_print=1 --template /home/biocbuild/bbs-3.14-bioc/R/library/rmarkdown/rmd/h/default.html --no-highlight --variable highlightjs=1 --variable theme=united --mathjax --variable 'mathjax-url=https://mathjax.rstudio.com/latest/MathJax.js?config=TeX-AMS-MML_HTMLorMML' --include-in-header /tmp/RtmpOQotwW/rmarkdown-str3313fefdffd32.html --variable code_folding=hide --variable code_menu=1
inline R code fragments
label: setup (with options)
List of 2
$ echo : logi FALSE
$ message: logi FALSE
ordinary text without R code
label: 1 (with options)
List of 2
$ fig.width: num 8.25
$ fig.align: chr "center"
ordinary text without R code
/usr/bin/pandoc +RTS -K512m -RTS hyp.2.knit.md --to html4 --from markdown+autolink_bare_uris+tex_math_single_backslash --output hyp.2.html --lua-filter /home/biocbuild/bbs-3.14-bioc/R/library/rmarkdown/rmarkdown/lua/pagebreak.lua --lua-filter /home/biocbuild/bbs-3.14-bioc/R/library/rmarkdown/rmarkdown/lua/latex-div.lua --self-contained --variable bs3=TRUE --standalone --section-divs --table-of-contents --toc-depth 1 --variable toc_float=1 --variable toc_selectors=h1 --variable toc_collapsed=1 --variable toc_smooth_scroll=1 --variable toc_print=1 --template /home/biocbuild/bbs-3.14-bioc/R/library/rmarkdown/rmd/h/default.html --no-highlight --variable highlightjs=1 --variable theme=united --mathjax --variable 'mathjax-url=https://mathjax.rstudio.com/latest/MathJax.js?config=TeX-AMS-MML_HTMLorMML' --include-in-header /tmp/RtmpOQotwW/rmarkdown-str3313fe42f985e3.html --variable code_folding=hide --variable code_menu=1
inline R code fragments
label: setup (with options)
List of 2
$ echo : logi FALSE
$ message: logi FALSE
ordinary text without R code
label: 1 (with options)
List of 2
$ fig.width: num 8.25
$ fig.align: chr "center"
ordinary text without R code
label: 2 (with options)
List of 2
$ fig.width: num 8.25
$ fig.align: chr "center"
ordinary text without R code
label: 3 (with options)
List of 2
$ fig.width: num 8.25
$ fig.align: chr "center"
ordinary text without R code
/usr/bin/pandoc +RTS -K512m -RTS multihyp.2.knit.md --to html4 --from markdown+autolink_bare_uris+tex_math_single_backslash --output multihyp.2.html --lua-filter /home/biocbuild/bbs-3.14-bioc/R/library/rmarkdown/rmarkdown/lua/pagebreak.lua --lua-filter /home/biocbuild/bbs-3.14-bioc/R/library/rmarkdown/rmarkdown/lua/latex-div.lua --self-contained --variable bs3=TRUE --standalone --section-divs --table-of-contents --toc-depth 1 --variable toc_float=1 --variable toc_selectors=h1 --variable toc_collapsed=1 --variable toc_smooth_scroll=1 --variable toc_print=1 --template /home/biocbuild/bbs-3.14-bioc/R/library/rmarkdown/rmd/h/default.html --no-highlight --variable highlightjs=1 --variable theme=united --mathjax --variable 'mathjax-url=https://mathjax.rstudio.com/latest/MathJax.js?config=TeX-AMS-MML_HTMLorMML' --include-in-header /tmp/RtmpOQotwW/rmarkdown-str3313fe70a60d83.html --variable code_folding=hide --variable code_menu=1
inline R code fragments
label: setup (with options)
List of 2
$ echo : logi FALSE
$ message: logi FALSE
ordinary text without R code
label: 1 (with options)
List of 2
$ fig.width: num 8.25
$ fig.align: chr "center"
ordinary text without R code
label: 2 (with options)
List of 2
$ fig.width: num 8.25
$ fig.align: chr "center"
ordinary text without R code
label: 3 (with options)
List of 2
$ fig.width: num 8.25
$ fig.align: chr "center"
ordinary text without R code
label: 4 (with options)
List of 2
$ fig.width: num 8.25
$ fig.align: chr "center"
ordinary text without R code
label: 5 (with options)
List of 2
$ fig.width: num 8.25
$ fig.align: chr "center"
ordinary text without R code
label: 6 (with options)
List of 2
$ fig.width: num 8.25
$ fig.align: chr "center"
ordinary text without R code
label: 7 (with options)
List of 2
$ fig.width: num 8.25
$ fig.align: chr "center"
ordinary text without R code
label: 8 (with options)
List of 2
$ fig.width: num 8.25
$ fig.align: chr "center"
ordinary text without R code
label: 9 (with options)
List of 2
$ fig.width: num 8.25
$ fig.align: chr "center"
ordinary text without R code
/usr/bin/pandoc +RTS -K512m -RTS lmultihyp.2.knit.md --to html4 --from markdown+autolink_bare_uris+tex_math_single_backslash --output lmultihyp.2.html --lua-filter /home/biocbuild/bbs-3.14-bioc/R/library/rmarkdown/rmarkdown/lua/pagebreak.lua --lua-filter /home/biocbuild/bbs-3.14-bioc/R/library/rmarkdown/rmarkdown/lua/latex-div.lua --self-contained --variable bs3=TRUE --standalone --section-divs --table-of-contents --toc-depth 1 --variable toc_float=1 --variable toc_selectors=h1 --variable toc_collapsed=1 --variable toc_smooth_scroll=1 --variable toc_print=1 --template /home/biocbuild/bbs-3.14-bioc/R/library/rmarkdown/rmd/h/default.html --no-highlight --variable highlightjs=1 --variable theme=united --mathjax --variable 'mathjax-url=https://mathjax.rstudio.com/latest/MathJax.js?config=TeX-AMS-MML_HTMLorMML' --include-in-header /tmp/RtmpOQotwW/rmarkdown-str3313fe11de7c64.html --variable code_folding=hide --variable code_menu=1
inline R code fragments
label: setup (with options)
List of 2
$ echo : logi FALSE
$ message: logi FALSE
ordinary text without R code
label: 1 (with options)
List of 2
$ fig.width: num 8.25
$ fig.align: chr "center"
ordinary text without R code
label: 2 (with options)
List of 2
$ fig.width: num 8.25
$ fig.align: chr "center"
ordinary text without R code
label: 3 (with options)
List of 2
$ fig.width: num 8.25
$ fig.align: chr "center"
ordinary text without R code
label: 4 (with options)
List of 2
$ fig.width: num 8.25
$ fig.align: chr "center"
ordinary text without R code
label: 5 (with options)
List of 2
$ fig.width: num 8.25
$ fig.align: chr "center"
ordinary text without R code
label: 6 (with options)
List of 2
$ fig.width: num 8.25
$ fig.align: chr "center"
ordinary text without R code
label: 7 (with options)
List of 2
$ fig.width: num 8.25
$ fig.align: chr "center"
ordinary text without R code
label: 8 (with options)
List of 2
$ fig.width: num 8.25
$ fig.align: chr "center"
ordinary text without R code
label: 9 (with options)
List of 2
$ fig.width: num 8.25
$ fig.align: chr "center"
ordinary text without R code
/usr/bin/pandoc +RTS -K512m -RTS lmultihyp.3.knit.md --to html4 --from markdown+autolink_bare_uris+tex_math_single_backslash --output lmultihyp.3.html --lua-filter /home/biocbuild/bbs-3.14-bioc/R/library/rmarkdown/rmarkdown/lua/pagebreak.lua --lua-filter /home/biocbuild/bbs-3.14-bioc/R/library/rmarkdown/rmarkdown/lua/latex-div.lua --self-contained --variable bs3=TRUE --standalone --section-divs --table-of-contents --toc-depth 1 --variable toc_float=1 --variable toc_selectors=h1 --variable toc_collapsed=1 --variable toc_smooth_scroll=1 --variable toc_print=1 --template /home/biocbuild/bbs-3.14-bioc/R/library/rmarkdown/rmd/h/default.html --no-highlight --variable highlightjs=1 --variable theme=united --mathjax --variable 'mathjax-url=https://mathjax.rstudio.com/latest/MathJax.js?config=TeX-AMS-MML_HTMLorMML' --include-in-header /tmp/RtmpOQotwW/rmarkdown-str3313fe67de76d6.html --variable code_folding=hide --variable code_menu=1
inline R code fragments
label: setup (with options)
List of 2
$ echo : logi FALSE
$ message: logi FALSE
ordinary text without R code
label: 1 (with options)
List of 2
$ fig.width: num 8.25
$ fig.align: chr "center"
ordinary text without R code
/usr/bin/pandoc +RTS -K512m -RTS hyp.4.knit.md --to html4 --from markdown+autolink_bare_uris+tex_math_single_backslash --output hyp.4.html --lua-filter /home/biocbuild/bbs-3.14-bioc/R/library/rmarkdown/rmarkdown/lua/pagebreak.lua --lua-filter /home/biocbuild/bbs-3.14-bioc/R/library/rmarkdown/rmarkdown/lua/latex-div.lua --self-contained --variable bs3=TRUE --standalone --section-divs --table-of-contents --toc-depth 1 --variable toc_float=1 --variable toc_selectors=h1 --variable toc_collapsed=1 --variable toc_smooth_scroll=1 --variable toc_print=1 --template /home/biocbuild/bbs-3.14-bioc/R/library/rmarkdown/rmd/h/default.html --no-highlight --variable highlightjs=1 --variable theme=united --mathjax --variable 'mathjax-url=https://mathjax.rstudio.com/latest/MathJax.js?config=TeX-AMS-MML_HTMLorMML' --include-in-header /tmp/RtmpOQotwW/rmarkdown-str3313fe138135dc.html --variable code_folding=hide --variable code_menu=1
inline R code fragments
label: setup (with options)
List of 2
$ echo : logi FALSE
$ message: logi FALSE
ordinary text without R code
label: 1 (with options)
List of 2
$ fig.width: num 8.25
$ fig.align: chr "center"
ordinary text without R code
label: 2 (with options)
List of 2
$ fig.width: num 8.25
$ fig.align: chr "center"
ordinary text without R code
label: 3 (with options)
List of 2
$ fig.width: num 8.25
$ fig.align: chr "center"
ordinary text without R code
/usr/bin/pandoc +RTS -K512m -RTS multihyp.4.knit.md --to html4 --from markdown+autolink_bare_uris+tex_math_single_backslash --output multihyp.4.html --lua-filter /home/biocbuild/bbs-3.14-bioc/R/library/rmarkdown/rmarkdown/lua/pagebreak.lua --lua-filter /home/biocbuild/bbs-3.14-bioc/R/library/rmarkdown/rmarkdown/lua/latex-div.lua --self-contained --variable bs3=TRUE --standalone --section-divs --table-of-contents --toc-depth 1 --variable toc_float=1 --variable toc_selectors=h1 --variable toc_collapsed=1 --variable toc_smooth_scroll=1 --variable toc_print=1 --template /home/biocbuild/bbs-3.14-bioc/R/library/rmarkdown/rmd/h/default.html --no-highlight --variable highlightjs=1 --variable theme=united --mathjax --variable 'mathjax-url=https://mathjax.rstudio.com/latest/MathJax.js?config=TeX-AMS-MML_HTMLorMML' --include-in-header /tmp/RtmpOQotwW/rmarkdown-str3313fe5478eb5d.html --variable code_folding=hide --variable code_menu=1
inline R code fragments
label: setup (with options)
List of 2
$ echo : logi FALSE
$ message: logi FALSE
ordinary text without R code
label: 1 (with options)
List of 2
$ fig.width: num 8.25
$ fig.align: chr "center"
ordinary text without R code
label: 2 (with options)
List of 2
$ fig.width: num 8.25
$ fig.align: chr "center"
ordinary text without R code
label: 3 (with options)
List of 2
$ fig.width: num 8.25
$ fig.align: chr "center"
ordinary text without R code
label: 4 (with options)
List of 2
$ fig.width: num 8.25
$ fig.align: chr "center"
ordinary text without R code
/usr/bin/pandoc +RTS -K512m -RTS combo.1.knit.md --to html4 --from markdown+autolink_bare_uris+tex_math_single_backslash --output combo.1.html --lua-filter /home/biocbuild/bbs-3.14-bioc/R/library/rmarkdown/rmarkdown/lua/pagebreak.lua --lua-filter /home/biocbuild/bbs-3.14-bioc/R/library/rmarkdown/rmarkdown/lua/latex-div.lua --self-contained --variable bs3=TRUE --standalone --section-divs --table-of-contents --toc-depth 1 --variable toc_float=1 --variable toc_selectors=h1 --variable toc_collapsed=1 --variable toc_smooth_scroll=1 --variable toc_print=1 --template /home/biocbuild/bbs-3.14-bioc/R/library/rmarkdown/rmd/h/default.html --no-highlight --variable highlightjs=1 --variable theme=united --mathjax --variable 'mathjax-url=https://mathjax.rstudio.com/latest/MathJax.js?config=TeX-AMS-MML_HTMLorMML' --include-in-header /tmp/RtmpOQotwW/rmarkdown-str3313fe46d96a2f.html --variable code_folding=hide --variable code_menu=1
inline R code fragments
label: setup (with options)
List of 2
$ echo : logi FALSE
$ message: logi FALSE
ordinary text without R code
label: 1 (with options)
List of 2
$ fig.width: num 8.25
$ fig.align: chr "center"
ordinary text without R code
label: 2 (with options)
List of 2
$ fig.width: num 8.25
$ fig.align: chr "center"
ordinary text without R code
label: 3 (with options)
List of 2
$ fig.width: num 8.25
$ fig.align: chr "center"
ordinary text without R code
label: 4 (with options)
List of 2
$ fig.width: num 8.25
$ fig.align: chr "center"
ordinary text without R code
/usr/bin/pandoc +RTS -K512m -RTS combo.2.knit.md --to html4 --from markdown+autolink_bare_uris+tex_math_single_backslash --output combo.2.html --lua-filter /home/biocbuild/bbs-3.14-bioc/R/library/rmarkdown/rmarkdown/lua/pagebreak.lua --lua-filter /home/biocbuild/bbs-3.14-bioc/R/library/rmarkdown/rmarkdown/lua/latex-div.lua --self-contained --variable bs3=TRUE --standalone --section-divs --table-of-contents --toc-depth 1 --variable toc_float=1 --variable toc_selectors=h1 --variable toc_collapsed=1 --variable toc_smooth_scroll=1 --variable toc_print=1 --template /home/biocbuild/bbs-3.14-bioc/R/library/rmarkdown/rmd/h/default.html --no-highlight --variable highlightjs=1 --variable theme=united --mathjax --variable 'mathjax-url=https://mathjax.rstudio.com/latest/MathJax.js?config=TeX-AMS-MML_HTMLorMML' --include-in-header /tmp/RtmpOQotwW/rmarkdown-str3313fe3f8981c2.html --variable code_folding=hide --variable code_menu=1
inline R code fragments
label: setup (with options)
List of 2
$ echo : logi FALSE
$ message: logi FALSE
ordinary text without R code
label: 1 (with options)
List of 2
$ fig.width: num 8.25
$ fig.align: chr "center"
ordinary text without R code
label: 2 (with options)
List of 2
$ fig.width: num 8.25
$ fig.align: chr "center"
ordinary text without R code
label: 3 (with options)
List of 2
$ fig.width: num 8.25
$ fig.align: chr "center"
ordinary text without R code
label: 4 (with options)
List of 2
$ fig.width: num 8.25
$ fig.align: chr "center"
ordinary text without R code
label: unnamed-chunk-1
ordinary text without R code
/usr/bin/pandoc +RTS -K512m -RTS combo.3.knit.md --to html4 --from markdown+autolink_bare_uris+tex_math_single_backslash --output combo.3.html --lua-filter /home/biocbuild/bbs-3.14-bioc/R/library/rmarkdown/rmarkdown/lua/pagebreak.lua --lua-filter /home/biocbuild/bbs-3.14-bioc/R/library/rmarkdown/rmarkdown/lua/latex-div.lua --self-contained --variable bs3=TRUE --standalone --section-divs --table-of-contents --toc-depth 1 --variable toc_float=1 --variable toc_selectors=h1 --variable toc_collapsed=1 --variable toc_smooth_scroll=1 --variable toc_print=1 --template /home/biocbuild/bbs-3.14-bioc/R/library/rmarkdown/rmd/h/default.html --no-highlight --variable highlightjs=1 --variable theme=united --mathjax --variable 'mathjax-url=https://mathjax.rstudio.com/latest/MathJax.js?config=TeX-AMS-MML_HTMLorMML' --include-in-header /tmp/RtmpOQotwW/rmarkdown-str3313fe108d216c.html --variable code_folding=hide --variable code_menu=1
[ FAIL 0 | WARN 0 | SKIP 0 | PASS 409 ]
>
> proc.time()
user system elapsed
59.605 1.186 60.847
hypeR.Rcheck/hypeR-Ex.timings
| name | user | system | elapsed | |
| clean_genesets | 2.445 | 0.232 | 2.678 | |
| dot-format_str | 0 | 0 | 0 | |
| dot-string_args | 0 | 0 | 0 | |
| enrichr_available | 0.142 | 0.024 | 0.442 | |
| enrichr_download | 0.138 | 0.004 | 4.350 | |
| enrichr_gsets | 0.144 | 0.000 | 0.402 | |
| gsets | 0.001 | 0.000 | 0.001 | |
| hyp | 0.008 | 0.004 | 0.012 | |
| hyp_dots | 0.930 | 0.268 | 1.198 | |
| hyp_emap | 1.121 | 0.144 | 1.265 | |
| hyp_hmap | 6.404 | 0.208 | 7.416 | |
| hyp_show | 0.681 | 0.072 | 0.758 | |
| hyp_to_excel | 0.994 | 0.060 | 1.055 | |
| hyp_to_graph | 2.118 | 0.056 | 2.224 | |
| hyp_to_table | 0.709 | 0.076 | 0.785 | |
| hypeR | 0.739 | 0.076 | 0.815 | |
| hyperdb_available | 0.038 | 0.000 | 0.269 | |
| hyperdb_gsets | 0.04 | 0.00 | 0.27 | |
| hyperdb_rgsets | 0.045 | 0.000 | 0.105 | |
| msigdb_available | 18.368 | 1.844 | 20.447 | |
| msigdb_check_species | 0.000 | 0.000 | 0.001 | |
| msigdb_download | 0.326 | 0.076 | 0.401 | |
| msigdb_gsets | 0.314 | 0.096 | 0.410 | |
| msigdb_info | 0.001 | 0.000 | 0.001 | |
| msigdb_species | 0.017 | 0.000 | 0.017 | |
| msigdb_version | 0 | 0 | 0 | |
| multihyp | 0.000 | 0.001 | 0.000 | |
| rctbl_build | 0.477 | 0.091 | 0.567 | |
| rctbl_hyp | 0.367 | 0.028 | 0.395 | |
| rctbl_mhyp | 0.505 | 0.060 | 0.566 | |