| Back to Multiple platform build/check report for BioC 3.14 |
|
This page was generated on 2022-04-13 12:06:38 -0400 (Wed, 13 Apr 2022).
| Hostname | OS | Arch (*) | R version | Installed pkgs |
|---|---|---|---|---|
| nebbiolo2 | Linux (Ubuntu 20.04.4 LTS) | x86_64 | 4.1.3 (2022-03-10) -- "One Push-Up" | 4324 |
| tokay2 | Windows Server 2012 R2 Standard | x64 | 4.1.3 (2022-03-10) -- "One Push-Up" | 4077 |
| machv2 | macOS 10.14.6 Mojave | x86_64 | 4.1.3 (2022-03-10) -- "One Push-Up" | 4137 |
| Click on any hostname to see more info about the system (e.g. compilers) (*) as reported by 'uname -p', except on Windows and Mac OS X | ||||
|
To the developers/maintainers of the girafe package: - Please allow up to 24 hours (and sometimes 48 hours) for your latest push to git@git.bioconductor.org:packages/girafe.git to reflect on this report. See How and When does the builder pull? When will my changes propagate? for more information. - Make sure to use the following settings in order to reproduce any error or warning you see on this page. |
| Package 783/2083 | Hostname | OS / Arch | INSTALL | BUILD | CHECK | BUILD BIN | ||||||||
| girafe 1.46.0 (landing page) J. Toedling
| nebbiolo2 | Linux (Ubuntu 20.04.4 LTS) / x86_64 | OK | OK | OK | |||||||||
| tokay2 | Windows Server 2012 R2 Standard / x64 | OK | OK | OK | OK | |||||||||
| machv2 | macOS 10.14.6 Mojave / x86_64 | OK | OK | OK | OK | |||||||||
| Package: girafe |
| Version: 1.46.0 |
| Command: rm -rf girafe.buildbin-libdir && mkdir girafe.buildbin-libdir && C:\Users\biocbuild\bbs-3.14-bioc\R\bin\R.exe CMD INSTALL --merge-multiarch --build --library=girafe.buildbin-libdir girafe_1.46.0.tar.gz |
| StartedAt: 2022-04-13 06:20:26 -0400 (Wed, 13 Apr 2022) |
| EndedAt: 2022-04-13 06:21:29 -0400 (Wed, 13 Apr 2022) |
| EllapsedTime: 63.7 seconds |
| RetCode: 0 |
| Status: OK |
| PackageFile: girafe_1.46.0.zip |
| PackageFileSize: 2.212 MiB |
##############################################################################
##############################################################################
###
### Running command:
###
### rm -rf girafe.buildbin-libdir && mkdir girafe.buildbin-libdir && C:\Users\biocbuild\bbs-3.14-bioc\R\bin\R.exe CMD INSTALL --merge-multiarch --build --library=girafe.buildbin-libdir girafe_1.46.0.tar.gz
###
##############################################################################
##############################################################################
install for i386
* installing *source* package 'girafe' ...
** using staged installation
** libs
"C:/rtools40/mingw32/bin/"g++ -std=gnu++11 -I"C:/Users/BIOCBU~1/BBS-3~1.14-/R/include" -DNDEBUG -I"C:/extsoft/include" -O2 -Wall -mfpmath=sse -msse2 -mstackrealign -c coverage.cpp -o coverage.o
"C:/rtools40/mingw32/bin/"gcc -I"C:/Users/BIOCBU~1/BBS-3~1.14-/R/include" -DNDEBUG -I"C:/extsoft/include" -O2 -Wall -std=gnu99 -mfpmath=sse -msse2 -mstackrealign -c girafe_init.c -o girafe_init.o
C:/rtools40/mingw32/bin/g++ -std=gnu++11 -shared -s -static-libgcc -o girafe.dll tmp.def coverage.o girafe_init.o -LC:/extsoft/lib/i386 -LC:/extsoft/lib -LC:/Users/BIOCBU~1/BBS-3~1.14-/R/bin/i386 -lR
installing to C:/Users/biocbuild/bbs-3.14-bioc/meat/girafe.buildbin-libdir/00LOCK-girafe/00new/girafe/libs/i386
** R
** inst
** byte-compile and prepare package for lazy loading
No methods found in package 'IRanges' for requests: 'score', 'score<-', 'sort' when loading 'girafe'
Creating a generic function for 'sample' from package 'base' in package 'girafe'
** help
*** installing help indices
converting help for package 'girafe'
finding HTML links ... done
AlignedGenomeIntervals-class html
agiFromBam html
countReadsAnnotated html
fracOverlap html
getFeatureCounts html
girafe-internal html
intPhred html
medianByPosition html
negbinomsig html
perWindow html
plotAligned html
plotReads html
plotnegbinomfit html
reduce-extras html
trimAdapter html
weightedConsensusMatrix html
whichNearestMethods html
** building package indices
** installing vignettes
** testing if installed package can be loaded from temporary location
No methods found in package 'IRanges' for requests: 'score', 'score<-', 'sort' when loading 'girafe'
** testing if installed package can be loaded from final location
No methods found in package 'IRanges' for requests: 'score', 'score<-', 'sort' when loading 'girafe'
** testing if installed package keeps a record of temporary installation path
install for x64
* installing *source* package 'girafe' ...
** libs
"C:/rtools40/mingw64/bin/"g++ -std=gnu++11 -I"C:/Users/BIOCBU~1/BBS-3~1.14-/R/include" -DNDEBUG -I"C:/extsoft/include" -O2 -Wall -mfpmath=sse -msse2 -mstackrealign -c coverage.cpp -o coverage.o
"C:/rtools40/mingw64/bin/"gcc -I"C:/Users/BIOCBU~1/BBS-3~1.14-/R/include" -DNDEBUG -I"C:/extsoft/include" -O2 -Wall -std=gnu99 -mfpmath=sse -msse2 -mstackrealign -c girafe_init.c -o girafe_init.o
C:/rtools40/mingw64/bin/g++ -std=gnu++11 -shared -s -static-libgcc -o girafe.dll tmp.def coverage.o girafe_init.o -LC:/extsoft/lib/x64 -LC:/extsoft/lib -LC:/Users/BIOCBU~1/BBS-3~1.14-/R/bin/x64 -lR
installing to C:/Users/biocbuild/bbs-3.14-bioc/meat/girafe.buildbin-libdir/girafe/libs/x64
** testing if installed package can be loaded
No methods found in package 'IRanges' for requests: 'score', 'score<-', 'sort' when loading 'girafe'
* MD5 sums
packaged installation of 'girafe' as girafe_1.46.0.zip
* DONE (girafe)