| Back to Multiple platform build/check report for BioC 3.14 |
|
This page was generated on 2022-04-13 12:08:03 -0400 (Wed, 13 Apr 2022).
| Hostname | OS | Arch (*) | R version | Installed pkgs |
|---|---|---|---|---|
| nebbiolo2 | Linux (Ubuntu 20.04.4 LTS) | x86_64 | 4.1.3 (2022-03-10) -- "One Push-Up" | 4324 |
| tokay2 | Windows Server 2012 R2 Standard | x64 | 4.1.3 (2022-03-10) -- "One Push-Up" | 4077 |
| machv2 | macOS 10.14.6 Mojave | x86_64 | 4.1.3 (2022-03-10) -- "One Push-Up" | 4137 |
| Click on any hostname to see more info about the system (e.g. compilers) (*) as reported by 'uname -p', except on Windows and Mac OS X | ||||
|
To the developers/maintainers of the genefilter package: - Please allow up to 24 hours (and sometimes 48 hours) for your latest push to git@git.bioconductor.org:packages/genefilter.git to reflect on this report. See How and When does the builder pull? When will my changes propagate? for more information. - Make sure to use the following settings in order to reproduce any error or warning you see on this page. |
| Package 722/2083 | Hostname | OS / Arch | INSTALL | BUILD | CHECK | BUILD BIN | ||||||||
| genefilter 1.76.0 (landing page) Bioconductor Package Maintainer
| nebbiolo2 | Linux (Ubuntu 20.04.4 LTS) / x86_64 | OK | OK | WARNINGS | |||||||||
| tokay2 | Windows Server 2012 R2 Standard / x64 | OK | OK | WARNINGS | OK | |||||||||
| machv2 | macOS 10.14.6 Mojave / x86_64 | OK | OK | OK | OK | |||||||||
| Package: genefilter |
| Version: 1.76.0 |
| Command: rm -rf genefilter.buildbin-libdir && mkdir genefilter.buildbin-libdir && /Users/biocbuild/BBS/utils/build-universal.sh genefilter_1.76.0.tar.gz /Library/Frameworks/R.framework/Resources/bin/R genefilter.buildbin-libdir |
| StartedAt: 2022-04-12 20:46:05 -0400 (Tue, 12 Apr 2022) |
| EndedAt: 2022-04-12 20:46:48 -0400 (Tue, 12 Apr 2022) |
| EllapsedTime: 43.2 seconds |
| RetCode: 0 |
| Status: OK |
| PackageFile: genefilter_1.76.0.tgz |
| PackageFileSize: 1.174 MiB |
##############################################################################
##############################################################################
###
### Running command:
###
### rm -rf genefilter.buildbin-libdir && mkdir genefilter.buildbin-libdir && /Users/biocbuild/BBS/utils/build-universal.sh genefilter_1.76.0.tar.gz /Library/Frameworks/R.framework/Resources/bin/R genefilter.buildbin-libdir
###
##############################################################################
##############################################################################
>>>>>>>
>>>>>>> INSTALLATION WITH 'R CMD INSTALL --preclean --no-multiarch --library=genefilter.buildbin-libdir genefilter_1.76.0.tar.gz'
>>>>>>>
* installing *source* package ‘genefilter’ ...
** using staged installation
** libs
clang++ -mmacosx-version-min=10.13 -std=gnu++14 -I"/Library/Frameworks/R.framework/Resources/include" -DNDEBUG -I/usr/local/include -fPIC -Wall -g -O2 -c half_range_mode.cpp -o half_range_mode.o
clang -mmacosx-version-min=10.13 -I"/Library/Frameworks/R.framework/Resources/include" -DNDEBUG -I/usr/local/include -fPIC -Wall -g -O2 -c init.c -o init.o
clang -mmacosx-version-min=10.13 -I"/Library/Frameworks/R.framework/Resources/include" -DNDEBUG -I/usr/local/include -fPIC -Wall -g -O2 -c nd.c -o nd.o
clang -mmacosx-version-min=10.13 -I"/Library/Frameworks/R.framework/Resources/include" -DNDEBUG -I/usr/local/include -fPIC -Wall -g -O2 -c pAUC.c -o pAUC.o
clang -mmacosx-version-min=10.13 -I"/Library/Frameworks/R.framework/Resources/include" -DNDEBUG -I/usr/local/include -fPIC -Wall -g -O2 -c rowPAUCs.c -o rowPAUCs.o
clang -mmacosx-version-min=10.13 -I"/Library/Frameworks/R.framework/Resources/include" -DNDEBUG -I/usr/local/include -fPIC -Wall -g -O2 -c rowttests.c -o rowttests.o
gfortran -mmacosx-version-min=10.13 -fno-optimize-sibling-calls -fPIC -Wall -g -O2 -c ttest.f -o ttest.o
ttest.f:47:12:
dm=dm1-dm2
1
Warning: Possible change of value in conversion from REAL(8) to REAL(4) at (1) [-Wconversion]
ttest.f:50:12:
dm=dm1/dm2
1
Warning: Possible change of value in conversion from REAL(8) to REAL(4) at (1) [-Wconversion]
ttest.f:59:13:
tst=(dm1-dm2)/sqrt((1.d0/ng1+1.d0/ng2)*(dss1+dss2)/(ng1+ng2-2))
1
Warning: Possible change of value in conversion from REAL(8) to REAL(4) at (1) [-Wconversion]
ttest.f:62:10:
tst=(dm1-dm2)/sqrt(dss1/((ng1-1)*ng1)+dss2/((ng2-1)*ng2))
1
Warning: Possible change of value in conversion from REAL(8) to REAL(4) at (1) [-Wconversion]
clang++ -mmacosx-version-min=10.13 -std=gnu++14 -dynamiclib -Wl,-headerpad_max_install_names -undefined dynamic_lookup -single_module -multiply_defined suppress -L/Library/Frameworks/R.framework/Resources/lib -L/usr/local/lib -o genefilter.so half_range_mode.o init.o nd.o pAUC.o rowPAUCs.o rowttests.o ttest.o -L/usr/local/gfortran/lib/gcc/x86_64-apple-darwin18/8.2.0 -L/usr/local/gfortran/lib -lgfortran -lquadmath -lm -F/Library/Frameworks/R.framework/.. -framework R -Wl,-framework -Wl,CoreFoundation
installing to /Users/biocbuild/bbs-3.14-bioc/meat/genefilter.buildbin-libdir/00LOCK-genefilter/00new/genefilter/libs
** R
** data
*** moving datasets to lazyload DB
** inst
** byte-compile and prepare package for lazy loading
** help
*** installing help indices
** building package indices
** installing vignettes
** testing if installed package can be loaded from temporary location
** checking absolute paths in shared objects and dynamic libraries
** testing if installed package can be loaded from final location
** testing if installed package keeps a record of temporary installation path
* DONE (genefilter)
>>>>>>>
>>>>>>> FIXING LINKS FOR genefilter.buildbin-libdir/genefilter/libs/genefilter.so
>>>>>>>
install_name_tool -change "/usr/local/lib/libgcc_s.1.dylib" "/Library/Frameworks/R.framework/Versions/4.1/Resources/lib/libgcc_s.1.dylib" "genefilter.buildbin-libdir/genefilter/libs/genefilter.so"
install_name_tool -change "/usr/local/lib/libgfortran.5.dylib" "/Library/Frameworks/R.framework/Versions/4.1/Resources/lib/libgfortran.5.dylib" "genefilter.buildbin-libdir/genefilter/libs/genefilter.so"
install_name_tool -change "/usr/local/lib/libquadmath.0.dylib" "/Library/Frameworks/R.framework/Versions/4.1/Resources/lib/libquadmath.0.dylib" "genefilter.buildbin-libdir/genefilter/libs/genefilter.so"
install_name_tool -change "/usr/local/gfortran/lib/libgfortran.5.dylib" "/Library/Frameworks/R.framework/Versions/4.1/Resources/lib/libgfortran.5.dylib" "genefilter.buildbin-libdir/genefilter/libs/genefilter.so"
install_name_tool -change "/usr/local/gfortran/lib/libquadmath.0.dylib" "/Library/Frameworks/R.framework/Versions/4.1/Resources/lib/libquadmath.0.dylib" "genefilter.buildbin-libdir/genefilter/libs/genefilter.so"