| Back to Multiple platform build/check report for BioC 3.14 |
|
This page was generated on 2022-04-13 12:06:36 -0400 (Wed, 13 Apr 2022).
| Hostname | OS | Arch (*) | R version | Installed pkgs |
|---|---|---|---|---|
| nebbiolo2 | Linux (Ubuntu 20.04.4 LTS) | x86_64 | 4.1.3 (2022-03-10) -- "One Push-Up" | 4324 |
| tokay2 | Windows Server 2012 R2 Standard | x64 | 4.1.3 (2022-03-10) -- "One Push-Up" | 4077 |
| machv2 | macOS 10.14.6 Mojave | x86_64 | 4.1.3 (2022-03-10) -- "One Push-Up" | 4137 |
| Click on any hostname to see more info about the system (e.g. compilers) (*) as reported by 'uname -p', except on Windows and Mac OS X | ||||
|
To the developers/maintainers of the gemini package: - Please allow up to 24 hours (and sometimes 48 hours) for your latest push to git@git.bioconductor.org:packages/gemini.git to reflect on this report. See How and When does the builder pull? When will my changes propagate? for more information. - Make sure to use the following settings in order to reproduce any error or warning you see on this page. |
| Package 713/2083 | Hostname | OS / Arch | INSTALL | BUILD | CHECK | BUILD BIN | ||||||||
| gemini 1.8.0 (landing page) Sidharth Jain
| nebbiolo2 | Linux (Ubuntu 20.04.4 LTS) / x86_64 | OK | OK | OK | |||||||||
| tokay2 | Windows Server 2012 R2 Standard / x64 | OK | OK | OK | OK | |||||||||
| machv2 | macOS 10.14.6 Mojave / x86_64 | OK | OK | OK | OK | |||||||||
| Package: gemini |
| Version: 1.8.0 |
| Command: rm -rf gemini.buildbin-libdir && mkdir gemini.buildbin-libdir && C:\Users\biocbuild\bbs-3.14-bioc\R\bin\R.exe CMD INSTALL --merge-multiarch --build --library=gemini.buildbin-libdir gemini_1.8.0.tar.gz |
| StartedAt: 2022-04-13 06:16:25 -0400 (Wed, 13 Apr 2022) |
| EndedAt: 2022-04-13 06:16:51 -0400 (Wed, 13 Apr 2022) |
| EllapsedTime: 26.3 seconds |
| RetCode: 0 |
| Status: OK |
| PackageFile: gemini_1.8.0.zip |
| PackageFileSize: 4.172 MiB |
##############################################################################
##############################################################################
###
### Running command:
###
### rm -rf gemini.buildbin-libdir && mkdir gemini.buildbin-libdir && C:\Users\biocbuild\bbs-3.14-bioc\R\bin\R.exe CMD INSTALL --merge-multiarch --build --library=gemini.buildbin-libdir gemini_1.8.0.tar.gz
###
##############################################################################
##############################################################################
install for i386
* installing *source* package 'gemini' ...
** using staged installation
** R
** data
** inst
** byte-compile and prepare package for lazy loading
** help
*** installing help indices
converting help for package 'gemini'
finding HTML links ... done
Input html
Model html
Sgene2Pguides_hash html
Sguide2Pguides_hash html
compound html
counts html
dot-median_normalize html
gemini_boxplot html
gemini_calculate_lfc html
gemini_create_input html
gemini_inference html
gemini_initialize html
gemini_parallelization html
gemini_plot_mae html
gemini_prepare_input html
gemini_score html
guide.annotation html
initialize_s html
initialize_tau html
initialize_x html
initialize_y html
pipe html
sample.replicate.annotation html
update_mae html
update_s_pb html
update_tau_pb html
update_x_pb html
update_y_pb html
** building package indices
** installing vignettes
** testing if installed package can be loaded from temporary location
** testing if installed package can be loaded from final location
** testing if installed package keeps a record of temporary installation path
install for x64
* installing *source* package 'gemini' ...
** testing if installed package can be loaded
* MD5 sums
packaged installation of 'gemini' as gemini_1.8.0.zip
* DONE (gemini)