| Back to Multiple platform build/check report for BioC 3.14 | 
 | 
This page was generated on 2022-04-13 12:06:35 -0400 (Wed, 13 Apr 2022).
| Hostname | OS | Arch (*) | R version | Installed pkgs | 
|---|---|---|---|---|
| nebbiolo2 | Linux (Ubuntu 20.04.4 LTS) | x86_64 | 4.1.3 (2022-03-10) -- "One Push-Up" | 4324 | 
| tokay2 | Windows Server 2012 R2 Standard | x64 | 4.1.3 (2022-03-10) -- "One Push-Up" | 4077 | 
| machv2 | macOS 10.14.6 Mojave | x86_64 | 4.1.3 (2022-03-10) -- "One Push-Up" | 4137 | 
| Click on any hostname to see more info about the system (e.g. compilers) (*) as reported by 'uname -p', except on Windows and Mac OS X | ||||
| To the developers/maintainers of the gcapc package: - Please allow up to 24 hours (and sometimes 48 hours) for your latest push to git@git.bioconductor.org:packages/gcapc.git to reflect on this report. See How and When does the builder pull? When will my changes propagate? for more information. - Make sure to use the following settings in order to reproduce any error or warning you see on this page. | 
| Package 702/2083 | Hostname | OS / Arch | INSTALL | BUILD | CHECK | BUILD BIN | ||||||||
| gcapc 1.18.0  (landing page) Mingxiang Teng 
 | nebbiolo2 | Linux (Ubuntu 20.04.4 LTS) / x86_64 | OK | OK | OK |  | ||||||||
| tokay2 | Windows Server 2012 R2 Standard / x64 | OK | OK | OK | OK |  | ||||||||
| machv2 | macOS 10.14.6 Mojave / x86_64 | OK | OK | OK | OK |  | ||||||||
| Package: gcapc | 
| Version: 1.18.0 | 
| Command: C:\cygwin\bin\curl.exe -O http://155.52.207.166/BBS/3.14/bioc/src/contrib/gcapc_1.18.0.tar.gz && rm -rf gcapc.buildbin-libdir && mkdir gcapc.buildbin-libdir && C:\Users\biocbuild\bbs-3.14-bioc\R\bin\R.exe CMD INSTALL --merge-multiarch --build --library=gcapc.buildbin-libdir gcapc_1.18.0.tar.gz && C:\Users\biocbuild\bbs-3.14-bioc\R\bin\R.exe CMD INSTALL gcapc_1.18.0.zip && rm gcapc_1.18.0.tar.gz gcapc_1.18.0.zip | 
| StartedAt: 2022-04-12 06:16:36 -0400 (Tue, 12 Apr 2022) | 
| EndedAt: 2022-04-12 06:17:21 -0400 (Tue, 12 Apr 2022) | 
| EllapsedTime: 45.5 seconds | 
| RetCode: 0 | 
| Status: OK | 
##############################################################################
##############################################################################
###
### Running command:
###
###   C:\cygwin\bin\curl.exe -O http://155.52.207.166/BBS/3.14/bioc/src/contrib/gcapc_1.18.0.tar.gz && rm -rf gcapc.buildbin-libdir && mkdir gcapc.buildbin-libdir && C:\Users\biocbuild\bbs-3.14-bioc\R\bin\R.exe CMD INSTALL --merge-multiarch --build --library=gcapc.buildbin-libdir gcapc_1.18.0.tar.gz && C:\Users\biocbuild\bbs-3.14-bioc\R\bin\R.exe CMD INSTALL gcapc_1.18.0.zip && rm gcapc_1.18.0.tar.gz gcapc_1.18.0.zip
###
##############################################################################
##############################################################################
  % Total    % Received % Xferd  Average Speed   Time    Time     Time  Current
                                 Dload  Upload   Total   Spent    Left  Speed
  0     0    0     0    0     0      0      0 --:--:-- --:--:-- --:--:--     0
 25 3419k   25  872k    0     0  1169k      0  0:00:02 --:--:--  0:00:02 1169k
 86 3419k   86 2968k    0     0  1697k      0  0:00:02  0:00:01  0:00:01 1697k
100 3419k  100 3419k    0     0  1798k      0  0:00:01  0:00:01 --:--:-- 1797k
install for i386
* installing *source* package 'gcapc' ...
** using staged installation
** R
** inst
** byte-compile and prepare package for lazy loading
** help
*** installing help indices
  converting help for package 'gcapc'
    finding HTML links ... done
    bindWidth                               html  
    gcEffects                               html  
    gcapcPeaks                              html  
    peaksCAT                                html  
    read5endCoverage                        html  
    refinePeaks                             html  
    refineSites                             html  
** building package indices
** installing vignettes
** testing if installed package can be loaded from temporary location
** testing if installed package can be loaded from final location
** testing if installed package keeps a record of temporary installation path
install for x64
* installing *source* package 'gcapc' ...
** testing if installed package can be loaded
* MD5 sums
packaged installation of 'gcapc' as gcapc_1.18.0.zip
* DONE (gcapc)
* installing to library 'C:/Users/biocbuild/bbs-3.14-bioc/R/library'
package 'gcapc' successfully unpacked and MD5 sums checked