| Back to Multiple platform build/check report for BioC 3.14 |
|
This page was generated on 2022-04-13 12:08:01 -0400 (Wed, 13 Apr 2022).
| Hostname | OS | Arch (*) | R version | Installed pkgs |
|---|---|---|---|---|
| nebbiolo2 | Linux (Ubuntu 20.04.4 LTS) | x86_64 | 4.1.3 (2022-03-10) -- "One Push-Up" | 4324 |
| tokay2 | Windows Server 2012 R2 Standard | x64 | 4.1.3 (2022-03-10) -- "One Push-Up" | 4077 |
| machv2 | macOS 10.14.6 Mojave | x86_64 | 4.1.3 (2022-03-10) -- "One Push-Up" | 4137 |
| Click on any hostname to see more info about the system (e.g. compilers) (*) as reported by 'uname -p', except on Windows and Mac OS X | ||||
|
To the developers/maintainers of the fmrs package: - Please allow up to 24 hours (and sometimes 48 hours) for your latest push to git@git.bioconductor.org:packages/fmrs.git to reflect on this report. See How and When does the builder pull? When will my changes propagate? for more information. - Make sure to use the following settings in order to reproduce any error or warning you see on this page. |
| Package 680/2083 | Hostname | OS / Arch | INSTALL | BUILD | CHECK | BUILD BIN | ||||||||
| fmrs 1.4.0 (landing page) Farhad Shokoohi
| nebbiolo2 | Linux (Ubuntu 20.04.4 LTS) / x86_64 | OK | OK | OK | |||||||||
| tokay2 | Windows Server 2012 R2 Standard / x64 | OK | OK | OK | OK | |||||||||
| machv2 | macOS 10.14.6 Mojave / x86_64 | OK | OK | OK | OK | |||||||||
| Package: fmrs |
| Version: 1.4.0 |
| Command: /Library/Frameworks/R.framework/Resources/bin/R CMD check --install=check:fmrs.install-out.txt --library=/Library/Frameworks/R.framework/Resources/library --no-vignettes --timings fmrs_1.4.0.tar.gz |
| StartedAt: 2022-04-12 13:25:40 -0400 (Tue, 12 Apr 2022) |
| EndedAt: 2022-04-12 13:26:53 -0400 (Tue, 12 Apr 2022) |
| EllapsedTime: 73.6 seconds |
| RetCode: 0 |
| Status: OK |
| CheckDir: fmrs.Rcheck |
| Warnings: 0 |
############################################################################## ############################################################################## ### ### Running command: ### ### /Library/Frameworks/R.framework/Resources/bin/R CMD check --install=check:fmrs.install-out.txt --library=/Library/Frameworks/R.framework/Resources/library --no-vignettes --timings fmrs_1.4.0.tar.gz ### ############################################################################## ############################################################################## * using log directory ‘/Users/biocbuild/bbs-3.14-bioc/meat/fmrs.Rcheck’ * using R version 4.1.3 (2022-03-10) * using platform: x86_64-apple-darwin17.0 (64-bit) * using session charset: UTF-8 * using option ‘--no-vignettes’ * checking for file ‘fmrs/DESCRIPTION’ ... OK * checking extension type ... Package * this is package ‘fmrs’ version ‘1.4.0’ * package encoding: UTF-8 * checking package namespace information ... OK * checking package dependencies ... OK * checking if this is a source package ... OK * checking if there is a namespace ... OK * checking for hidden files and directories ... OK * checking for portable file names ... OK * checking for sufficient/correct file permissions ... OK * checking whether package ‘fmrs’ can be installed ... OK * checking installed package size ... OK * checking package directory ... OK * checking ‘build’ directory ... OK * checking DESCRIPTION meta-information ... OK * checking top-level files ... OK * checking for left-over files ... OK * checking index information ... OK * checking package subdirectories ... OK * checking R files for non-ASCII characters ... OK * checking R files for syntax errors ... OK * checking whether the package can be loaded ... OK * checking whether the package can be loaded with stated dependencies ... OK * checking whether the package can be unloaded cleanly ... OK * checking whether the namespace can be loaded with stated dependencies ... OK * checking whether the namespace can be unloaded cleanly ... OK * checking dependencies in R code ... OK * checking S3 generic/method consistency ... OK * checking replacement functions ... OK * checking foreign function calls ... OK * checking R code for possible problems ... OK * checking Rd files ... OK * checking Rd metadata ... OK * checking Rd cross-references ... OK * checking for missing documentation entries ... OK * checking for code/documentation mismatches ... OK * checking Rd \usage sections ... OK * checking Rd contents ... OK * checking for unstated dependencies in examples ... OK * checking line endings in C/C++/Fortran sources/headers ... OK * checking compiled code ... NOTE Note: information on .o files is not available * checking files in ‘vignettes’ ... OK * checking examples ... OK * checking for unstated dependencies in ‘tests’ ... OK * checking tests ... Running ‘testthat.R’ OK * checking for unstated dependencies in vignettes ... OK * checking package vignettes in ‘inst/doc’ ... OK * checking running R code from vignettes ... SKIPPED * checking re-building of vignette outputs ... SKIPPED * checking PDF version of manual ... OK * DONE Status: 1 NOTE See ‘/Users/biocbuild/bbs-3.14-bioc/meat/fmrs.Rcheck/00check.log’ for details.
fmrs.Rcheck/00install.out
############################################################################## ############################################################################## ### ### Running command: ### ### /Library/Frameworks/R.framework/Resources/bin/R CMD INSTALL fmrs ### ############################################################################## ############################################################################## * installing to library ‘/Library/Frameworks/R.framework/Versions/4.1/Resources/library’ * installing *source* package ‘fmrs’ ... ** using staged installation ** libs clang -mmacosx-version-min=10.13 -I"/Library/Frameworks/R.framework/Resources/include" -DNDEBUG -I/usr/local/include -fPIC -Wall -g -O2 -c fmrs.c -o fmrs.o clang -mmacosx-version-min=10.13 -I"/Library/Frameworks/R.framework/Resources/include" -DNDEBUG -I/usr/local/include -fPIC -Wall -g -O2 -c fmrs_init.c -o fmrs_init.o clang -mmacosx-version-min=10.13 -dynamiclib -Wl,-headerpad_max_install_names -undefined dynamic_lookup -single_module -multiply_defined suppress -L/Library/Frameworks/R.framework/Resources/lib -L/usr/local/lib -o fmrs.so fmrs.o fmrs_init.o -F/Library/Frameworks/R.framework/.. -framework R -Wl,-framework -Wl,CoreFoundation installing to /Library/Frameworks/R.framework/Versions/4.1/Resources/library/00LOCK-fmrs/00new/fmrs/libs ** R ** inst ** byte-compile and prepare package for lazy loading ** help *** installing help indices ** building package indices ** installing vignettes ** testing if installed package can be loaded from temporary location ** checking absolute paths in shared objects and dynamic libraries ** testing if installed package can be loaded from final location ** testing if installed package keeps a record of temporary installation path * DONE (fmrs)
fmrs.Rcheck/tests/testthat.Rout
R version 4.1.3 (2022-03-10) -- "One Push-Up"
Copyright (C) 2022 The R Foundation for Statistical Computing
Platform: x86_64-apple-darwin17.0 (64-bit)
R is free software and comes with ABSOLUTELY NO WARRANTY.
You are welcome to redistribute it under certain conditions.
Type 'license()' or 'licence()' for distribution details.
R is a collaborative project with many contributors.
Type 'contributors()' for more information and
'citation()' on how to cite R or R packages in publications.
Type 'demo()' for some demos, 'help()' for on-line help, or
'help.start()' for an HTML browser interface to help.
Type 'q()' to quit R.
> library(testthat)
> library(fmrs)
BugReports: https://github.com/shokoohi/fmrs/issues
>
> test_check("fmrs")
[ FAIL 0 | WARN 0 | SKIP 0 | PASS 1 ]
>
> proc.time()
user system elapsed
2.681 0.233 2.892
fmrs.Rcheck/fmrs-Ex.timings
| name | user | system | elapsed | |
| BIC-methods | 0.045 | 0.005 | 0.051 | |
| coefficients-methods | 0.721 | 0.021 | 0.742 | |
| dispersion-methods | 0.063 | 0.002 | 0.065 | |
| fitted-methods | 0.064 | 0.001 | 0.065 | |
| fmrs.gendata-methods | 0.008 | 0.001 | 0.009 | |
| fmrs.mle-methods | 0.062 | 0.003 | 0.064 | |
| fmrs.tunsel-methods | 0.130 | 0.002 | 0.133 | |
| fmrs.varsel-methods | 0.215 | 0.003 | 0.218 | |
| logLik-methods | 0.053 | 0.002 | 0.055 | |
| mixProp-methods | 0.056 | 0.001 | 0.057 | |
| ncomp-methods | 0.064 | 0.001 | 0.064 | |
| ncov-methods | 0.061 | 0.001 | 0.061 | |
| nobs-methods | 0.061 | 0.002 | 0.063 | |
| residuals-methods | 0.058 | 0.002 | 0.060 | |
| summary-methods | 0.131 | 0.003 | 0.134 | |
| weights-methods | 0.058 | 0.002 | 0.059 | |