| Back to Multiple platform build/check report for BioC 3.14 |
|
This page was generated on 2022-04-13 12:06:34 -0400 (Wed, 13 Apr 2022).
| Hostname | OS | Arch (*) | R version | Installed pkgs |
|---|---|---|---|---|
| nebbiolo2 | Linux (Ubuntu 20.04.4 LTS) | x86_64 | 4.1.3 (2022-03-10) -- "One Push-Up" | 4324 |
| tokay2 | Windows Server 2012 R2 Standard | x64 | 4.1.3 (2022-03-10) -- "One Push-Up" | 4077 |
| machv2 | macOS 10.14.6 Mojave | x86_64 | 4.1.3 (2022-03-10) -- "One Push-Up" | 4137 |
| Click on any hostname to see more info about the system (e.g. compilers) (*) as reported by 'uname -p', except on Windows and Mac OS X | ||||
|
To the developers/maintainers of the flowMerge package: - Please allow up to 24 hours (and sometimes 48 hours) for your latest push to git@git.bioconductor.org:packages/flowMerge.git to reflect on this report. See How and When does the builder pull? When will my changes propagate? for more information. - Make sure to use the following settings in order to reproduce any error or warning you see on this page. |
| Package 666/2083 | Hostname | OS / Arch | INSTALL | BUILD | CHECK | BUILD BIN | ||||||||
| flowMerge 2.42.0 (landing page) Greg Finak
| nebbiolo2 | Linux (Ubuntu 20.04.4 LTS) / x86_64 | OK | OK | OK | |||||||||
| tokay2 | Windows Server 2012 R2 Standard / x64 | OK | OK | OK | OK | |||||||||
| machv2 | macOS 10.14.6 Mojave / x86_64 | OK | OK | OK | OK | |||||||||
| Package: flowMerge |
| Version: 2.42.0 |
| Command: C:\cygwin\bin\curl.exe -O http://155.52.207.166/BBS/3.14/bioc/src/contrib/flowMerge_2.42.0.tar.gz && rm -rf flowMerge.buildbin-libdir && mkdir flowMerge.buildbin-libdir && C:\Users\biocbuild\bbs-3.14-bioc\R\bin\R.exe CMD INSTALL --merge-multiarch --build --library=flowMerge.buildbin-libdir flowMerge_2.42.0.tar.gz && C:\Users\biocbuild\bbs-3.14-bioc\R\bin\R.exe CMD INSTALL flowMerge_2.42.0.zip && rm flowMerge_2.42.0.tar.gz flowMerge_2.42.0.zip |
| StartedAt: 2022-04-12 07:27:48 -0400 (Tue, 12 Apr 2022) |
| EndedAt: 2022-04-12 07:28:57 -0400 (Tue, 12 Apr 2022) |
| EllapsedTime: 68.8 seconds |
| RetCode: 0 |
| Status: OK |
##############################################################################
##############################################################################
###
### Running command:
###
### C:\cygwin\bin\curl.exe -O http://155.52.207.166/BBS/3.14/bioc/src/contrib/flowMerge_2.42.0.tar.gz && rm -rf flowMerge.buildbin-libdir && mkdir flowMerge.buildbin-libdir && C:\Users\biocbuild\bbs-3.14-bioc\R\bin\R.exe CMD INSTALL --merge-multiarch --build --library=flowMerge.buildbin-libdir flowMerge_2.42.0.tar.gz && C:\Users\biocbuild\bbs-3.14-bioc\R\bin\R.exe CMD INSTALL flowMerge_2.42.0.zip && rm flowMerge_2.42.0.tar.gz flowMerge_2.42.0.zip
###
##############################################################################
##############################################################################
% Total % Received % Xferd Average Speed Time Time Time Current
Dload Upload Total Spent Left Speed
0 0 0 0 0 0 0 0 --:--:-- --:--:-- --:--:-- 0
100 399k 100 399k 0 0 493k 0 --:--:-- --:--:-- --:--:-- 493k
100 399k 100 399k 0 0 493k 0 --:--:-- --:--:-- --:--:-- 493k
install for i386
* installing *source* package 'flowMerge' ...
** using staged installation
** R
** data
** byte-compile and prepare package for lazy loading
** help
*** installing help indices
converting help for package 'flowMerge'
finding HTML links ... done
NENT html
checkForRemoteErrors html
fitPiecewiseLinreg-methods html
fitPiecewiseLinreg html
flagOutliers-methods html
flagOutliers html
flowClust.res html
flowMerge-class html
finding level-2 HTML links ... done
flowMerge-internal html
flowMerge-package html
flowObj-class html
flowObj html
initPFlowMerge html
map html
merge-methods html
merge html
mergeClusters html
mergeClusters2 html
pFlowClust html
pFlowMerge html
plot-methods html
ptree html
show-methods html
split-methods html
summary-methods html
updateU html
** building package indices
** installing vignettes
** testing if installed package can be loaded from temporary location
** testing if installed package can be loaded from final location
** testing if installed package keeps a record of temporary installation path
install for x64
* installing *source* package 'flowMerge' ...
** testing if installed package can be loaded
* MD5 sums
packaged installation of 'flowMerge' as flowMerge_2.42.0.zip
* DONE (flowMerge)
* installing to library 'C:/Users/biocbuild/bbs-3.14-bioc/R/library'
package 'flowMerge' successfully unpacked and MD5 sums checked