| Back to Multiple platform build/check report for BioC 3.14 | 
 | 
This page was generated on 2022-04-13 12:06:32 -0400 (Wed, 13 Apr 2022).
| Hostname | OS | Arch (*) | R version | Installed pkgs | 
|---|---|---|---|---|
| nebbiolo2 | Linux (Ubuntu 20.04.4 LTS) | x86_64 | 4.1.3 (2022-03-10) -- "One Push-Up" | 4324 | 
| tokay2 | Windows Server 2012 R2 Standard | x64 | 4.1.3 (2022-03-10) -- "One Push-Up" | 4077 | 
| machv2 | macOS 10.14.6 Mojave | x86_64 | 4.1.3 (2022-03-10) -- "One Push-Up" | 4137 | 
| Click on any hostname to see more info about the system (e.g. compilers) (*) as reported by 'uname -p', except on Windows and Mac OS X | ||||
| To the developers/maintainers of the fcoex package: - Please allow up to 24 hours (and sometimes 48 hours) for your latest push to git@git.bioconductor.org:packages/fcoex.git to reflect on this report. See How and When does the builder pull? When will my changes propagate? for more information. - Make sure to use the following settings in order to reproduce any error or warning you see on this page. | 
| Package 631/2083 | Hostname | OS / Arch | INSTALL | BUILD | CHECK | BUILD BIN | ||||||||
| fcoex 1.8.0  (landing page) Tiago Lubiana 
 | nebbiolo2 | Linux (Ubuntu 20.04.4 LTS) / x86_64 | OK | OK | WARNINGS |  | ||||||||
| tokay2 | Windows Server 2012 R2 Standard / x64 | OK | OK | WARNINGS | OK |  | ||||||||
| machv2 | macOS 10.14.6 Mojave / x86_64 | OK | OK | WARNINGS | OK |  | ||||||||
| Package: fcoex | 
| Version: 1.8.0 | 
| Command: rm -rf fcoex.buildbin-libdir && mkdir fcoex.buildbin-libdir && C:\Users\biocbuild\bbs-3.14-bioc\R\bin\R.exe CMD INSTALL --merge-multiarch --build --library=fcoex.buildbin-libdir fcoex_1.8.0.tar.gz | 
| StartedAt: 2022-04-13 06:12:27 -0400 (Wed, 13 Apr 2022) | 
| EndedAt: 2022-04-13 06:13:44 -0400 (Wed, 13 Apr 2022) | 
| EllapsedTime: 77.0 seconds | 
| RetCode: 0 | 
| Status: OK | 
| PackageFile: fcoex_1.8.0.zip | 
| PackageFileSize: 2.367 MiB | 
##############################################################################
##############################################################################
###
### Running command:
###
###   rm -rf fcoex.buildbin-libdir && mkdir fcoex.buildbin-libdir && C:\Users\biocbuild\bbs-3.14-bioc\R\bin\R.exe CMD INSTALL --merge-multiarch --build --library=fcoex.buildbin-libdir fcoex_1.8.0.tar.gz
###
##############################################################################
##############################################################################
install for i386
* installing *source* package 'fcoex' ...
** using staged installation
** R
** data
*** moving datasets to lazyload DB
Registered S3 method overwritten by 'ggtree':
  method      from 
  identify.gg ggfun
Warning: replacing previous import 'Matrix::head' by 'utils::head' when loading 'fcoex'
in method for 'mod_ora' with signature '"fcoex"': no definition for class "fcoex"
** inst
** byte-compile and prepare package for lazy loading
Warning: replacing previous import 'Matrix::head' by 'utils::head' when loading 'fcoex'
in method for 'mod_ora' with signature '"fcoex"': no definition for class "fcoex"
** help
*** installing help indices
  converting help for package 'fcoex'
    finding HTML links ... done
    discretize                              html  
    dot-get_correlates                      html  
    fc                                      html  
    fcoex-class                             html  
    find_cbf_modules                        html  
    get_nets                                html  
    idents                                  html  
    mini_pbmc3k                             html  
    mod_colors                              html  
    mod_gene_num                            html  
    mod_names                               html  
    mod_ora                                 html  
    module_genes                            html  
    new_fcoex                               html  
    nmodules                                html  
    ora_data                                html  
    plot_one_interaction                    html  
    plot_ora                                html  
    plot_ora_single                         html  
    recluster                               html  
    save_plots                              html  
    show-fcoex-method                       html  
    show_net                                html  
    show_ora                                html  
** building package indices
** installing vignettes
** testing if installed package can be loaded from temporary location
Warning: replacing previous import 'Matrix::head' by 'utils::head' when loading 'fcoex'
** testing if installed package can be loaded from final location
Warning: replacing previous import 'Matrix::head' by 'utils::head' when loading 'fcoex'
** testing if installed package keeps a record of temporary installation path
install for x64
* installing *source* package 'fcoex' ...
** testing if installed package can be loaded
Warning: replacing previous import 'Matrix::head' by 'utils::head' when loading 'fcoex'
* MD5 sums
packaged installation of 'fcoex' as fcoex_1.8.0.zip
* DONE (fcoex)