| Back to Multiple platform build/check report for BioC 3.14 |
|
This page was generated on 2022-04-13 12:06:32 -0400 (Wed, 13 Apr 2022).
| Hostname | OS | Arch (*) | R version | Installed pkgs |
|---|---|---|---|---|
| nebbiolo2 | Linux (Ubuntu 20.04.4 LTS) | x86_64 | 4.1.3 (2022-03-10) -- "One Push-Up" | 4324 |
| tokay2 | Windows Server 2012 R2 Standard | x64 | 4.1.3 (2022-03-10) -- "One Push-Up" | 4077 |
| machv2 | macOS 10.14.6 Mojave | x86_64 | 4.1.3 (2022-03-10) -- "One Push-Up" | 4137 |
| Click on any hostname to see more info about the system (e.g. compilers) (*) as reported by 'uname -p', except on Windows and Mac OS X | ||||
|
To the developers/maintainers of the fastLiquidAssociation package: - Please allow up to 24 hours (and sometimes 48 hours) for your latest push to git@git.bioconductor.org:packages/fastLiquidAssociation.git to reflect on this report. See How and When does the builder pull? When will my changes propagate? for more information. - Make sure to use the following settings in order to reproduce any error or warning you see on this page. |
| Package 625/2083 | Hostname | OS / Arch | INSTALL | BUILD | CHECK | BUILD BIN | ||||||||
| fastLiquidAssociation 1.30.0 (landing page) Tina Gunderson
| nebbiolo2 | Linux (Ubuntu 20.04.4 LTS) / x86_64 | OK | OK | WARNINGS | |||||||||
| tokay2 | Windows Server 2012 R2 Standard / x64 | OK | OK | WARNINGS | OK | |||||||||
| machv2 | macOS 10.14.6 Mojave / x86_64 | OK | OK | WARNINGS | OK | |||||||||
| Package: fastLiquidAssociation |
| Version: 1.30.0 |
| Command: rm -rf fastLiquidAssociation.buildbin-libdir && mkdir fastLiquidAssociation.buildbin-libdir && C:\Users\biocbuild\bbs-3.14-bioc\R\bin\R.exe CMD INSTALL --merge-multiarch --build --library=fastLiquidAssociation.buildbin-libdir fastLiquidAssociation_1.30.0.tar.gz |
| StartedAt: 2022-04-13 06:12:00 -0400 (Wed, 13 Apr 2022) |
| EndedAt: 2022-04-13 06:12:50 -0400 (Wed, 13 Apr 2022) |
| EllapsedTime: 50.5 seconds |
| RetCode: 0 |
| Status: OK |
| PackageFile: fastLiquidAssociation_1.30.0.zip |
| PackageFileSize: 547.4 KiB |
##############################################################################
##############################################################################
###
### Running command:
###
### rm -rf fastLiquidAssociation.buildbin-libdir && mkdir fastLiquidAssociation.buildbin-libdir && C:\Users\biocbuild\bbs-3.14-bioc\R\bin\R.exe CMD INSTALL --merge-multiarch --build --library=fastLiquidAssociation.buildbin-libdir fastLiquidAssociation_1.30.0.tar.gz
###
##############################################################################
##############################################################################
install for i386
* installing *source* package 'fastLiquidAssociation' ...
** using staged installation
** R
** data
** inst
** byte-compile and prepare package for lazy loading
** help
*** installing help indices
converting help for package 'fastLiquidAssociation'
finding HTML links ... done
fastLiquidAssociation-package html
fastMLA-methods html
finding level-2 HTML links ... done
Rd warning: C:/Users/biocbuild/bbs-3.14-bioc/tmpdir/RtmpS630w4/R.INSTALLdd542c365283/fastLiquidAssociation/man/fastMLA-methods.Rd:59: missing link 'WGCNA'
fastboots.GLA-methods html
mass.CNM-methods html
testmat html
** building package indices
** installing vignettes
** testing if installed package can be loaded from temporary location
** testing if installed package can be loaded from final location
** testing if installed package keeps a record of temporary installation path
install for x64
* installing *source* package 'fastLiquidAssociation' ...
** testing if installed package can be loaded
* MD5 sums
packaged installation of 'fastLiquidAssociation' as fastLiquidAssociation_1.30.0.zip
* DONE (fastLiquidAssociation)