| Back to Multiple platform build/check report for BioC 3.14 |
|
This page was generated on 2022-04-13 12:05:20 -0400 (Wed, 13 Apr 2022).
| Hostname | OS | Arch (*) | R version | Installed pkgs |
|---|---|---|---|---|
| nebbiolo2 | Linux (Ubuntu 20.04.4 LTS) | x86_64 | 4.1.3 (2022-03-10) -- "One Push-Up" | 4324 |
| tokay2 | Windows Server 2012 R2 Standard | x64 | 4.1.3 (2022-03-10) -- "One Push-Up" | 4077 |
| machv2 | macOS 10.14.6 Mojave | x86_64 | 4.1.3 (2022-03-10) -- "One Push-Up" | 4137 |
| Click on any hostname to see more info about the system (e.g. compilers) (*) as reported by 'uname -p', except on Windows and Mac OS X | ||||
|
To the developers/maintainers of the farms package: - Please allow up to 24 hours (and sometimes 48 hours) for your latest push to git@git.bioconductor.org:packages/farms.git to reflect on this report. See How and When does the builder pull? When will my changes propagate? for more information. - Make sure to use the following settings in order to reproduce any error or warning you see on this page. |
| Package 624/2083 | Hostname | OS / Arch | INSTALL | BUILD | CHECK | BUILD BIN | ||||||||
| farms 1.46.0 (landing page) Djork-Arne Clevert
| nebbiolo2 | Linux (Ubuntu 20.04.4 LTS) / x86_64 | OK | OK | OK | |||||||||
| tokay2 | Windows Server 2012 R2 Standard / x64 | OK | OK | OK | OK | |||||||||
| machv2 | macOS 10.14.6 Mojave / x86_64 | OK | OK | OK | OK | |||||||||
| Package: farms |
| Version: 1.46.0 |
| Command: /home/biocbuild/bbs-3.14-bioc/R/bin/R CMD check --install=check:farms.install-out.txt --library=/home/biocbuild/bbs-3.14-bioc/R/library --no-vignettes --timings farms_1.46.0.tar.gz |
| StartedAt: 2022-04-12 07:24:55 -0400 (Tue, 12 Apr 2022) |
| EndedAt: 2022-04-12 07:25:21 -0400 (Tue, 12 Apr 2022) |
| EllapsedTime: 25.6 seconds |
| RetCode: 0 |
| Status: OK |
| CheckDir: farms.Rcheck |
| Warnings: 0 |
##############################################################################
##############################################################################
###
### Running command:
###
### /home/biocbuild/bbs-3.14-bioc/R/bin/R CMD check --install=check:farms.install-out.txt --library=/home/biocbuild/bbs-3.14-bioc/R/library --no-vignettes --timings farms_1.46.0.tar.gz
###
##############################################################################
##############################################################################
* using log directory ‘/home/biocbuild/bbs-3.14-bioc/meat/farms.Rcheck’
* using R version 4.1.3 (2022-03-10)
* using platform: x86_64-pc-linux-gnu (64-bit)
* using session charset: UTF-8
* using option ‘--no-vignettes’
* checking for file ‘farms/DESCRIPTION’ ... OK
* checking extension type ... Package
* this is package ‘farms’ version ‘1.46.0’
* checking package namespace information ... NOTE
Namespace with empty importFrom: ‘methods’
* checking package dependencies ... OK
* checking if this is a source package ... OK
* checking if there is a namespace ... OK
* checking for hidden files and directories ... OK
* checking for portable file names ... OK
* checking for sufficient/correct file permissions ... OK
* checking whether package ‘farms’ can be installed ... OK
* checking installed package size ... OK
* checking package directory ... OK
* checking ‘build’ directory ... OK
* checking DESCRIPTION meta-information ... NOTE
Malformed Description field: should contain one or more complete sentences.
Packages listed in more than one of Depends, Imports, Suggests, Enhances:
‘affy’ ‘MASS’ ‘methods’ ‘Biobase’
A package should be listed in only one of these fields.
* checking top-level files ... OK
* checking for left-over files ... OK
* checking index information ... OK
* checking package subdirectories ... OK
* checking R files for non-ASCII characters ... OK
* checking R files for syntax errors ... OK
* checking whether the package can be loaded ... OK
* checking whether the package can be loaded with stated dependencies ... OK
* checking whether the package can be unloaded cleanly ... OK
* checking whether the namespace can be loaded with stated dependencies ... OK
* checking whether the namespace can be unloaded cleanly ... OK
* checking dependencies in R code ... NOTE
'library' or 'require' calls to packages already attached by Depends:
‘affy’ ‘methods’
Please remove these calls from your code.
'library' or 'require' calls in package code:
‘Biobase’ ‘utils’
Please use :: or requireNamespace() instead.
See section 'Suggested packages' in the 'Writing R Extensions' manual.
Namespaces in Imports field not imported from:
‘Biobase’ ‘MASS’
All declared Imports should be used.
Package in Depends field not imported from: ‘MASS’
These packages need to be imported from (in the NAMESPACE file)
for when this namespace is loaded but not attached.
* checking S3 generic/method consistency ... OK
* checking replacement functions ... OK
* checking foreign function calls ... OK
* checking R code for possible problems ... NOTE
File ‘farms/R/zzz.R’:
.onLoad calls:
require("methods", quietly = TRUE)
packageStartupMessage(" _ ", "\n", "| | ", "\n", "| | __, ,_ _ _ _ , ", "\n", "|/ / | / | / |/ |/ | / \\_", "\n", "|__/\\_/|_/ |_/ | | |_/ \\/ ", "\n", "|\\ ", "\n", "|/ ", "\n")
require(utils)
require(Biobase, quietly = TRUE)
require(affy, quietly = TRUE)
packageStartupMessage("Citation: S. Hochreiter et al.,", "\n", "A new summarization method for affymetrix probe level data,", "\n", "Bioinformatics, 22, 8, 943-949, 2006", "\n", "\n", "Citation: W. Talloen et al.,", "\n", "I/NI-calls for the exclusion of non-informative genes: a highly effective filtering tool for microarray data,", "\n", "Bioinformatics, 23, 21, 2897-2902, 2007", "\n", "BibTex: enter 'toBibtex(citation(\"farms\"))'", "\n\n", "Homepage: http://www.bioinf.jku.at/software/farms/farms.html", "\n\n", "FARMS Package Version ", version, "\n")
packageStartupMessage("\n", "Changes in FARMS:", "\n", "For all changes previous to 1.3.0, see the farms vignette.", "\n", "Version 1.3.0: Added I/NI-calls for filtering", "\n", " Adjusted Hyperparameters for alternative CDFs,", "\n", " probes set standardized, weighted mean", "\n", " Works now with R >= 2.8 and Bioconductor 2.3,", "\n", " Changed termination criterion, initialization values,", "\n", " factors and loadings scaled, added argument robust", "\n", " Update for R-2.11", "\n", " Updated I/NI-Call for Laplace-FARMS version,", "\n", " Maximum likelihood correlation structure given", "\n", " non-negative constraints", "\n", "Version 1.4.0: Default centering changed to median", "\n", "Version 1.8.x: Suppression of spurious correlation (Laplace-FARMS)", "\n")
Package startup functions should not change the search path.
See section ‘Good practice’ in '?.onAttach'.
plot,INI_Calls-missing: no visible global function definition for
‘truehist’
Undefined global functions or variables:
truehist
* checking Rd files ... OK
* checking Rd metadata ... OK
* checking Rd cross-references ... OK
* checking for missing documentation entries ... OK
* checking for code/documentation mismatches ... OK
* checking Rd \usage sections ... OK
* checking Rd contents ... OK
* checking for unstated dependencies in examples ... OK
* checking contents of ‘data’ directory ... OK
* checking data for non-ASCII characters ... OK
* checking data for ASCII and uncompressed saves ... OK
* checking files in ‘vignettes’ ... OK
* checking examples ... OK
* checking for unstated dependencies in vignettes ... OK
* checking package vignettes in ‘inst/doc’ ... OK
* checking running R code from vignettes ... SKIPPED
* checking re-building of vignette outputs ... SKIPPED
* checking PDF version of manual ... OK
* DONE
Status: 4 NOTEs
See
‘/home/biocbuild/bbs-3.14-bioc/meat/farms.Rcheck/00check.log’
for details.
farms.Rcheck/00install.out
############################################################################## ############################################################################## ### ### Running command: ### ### /home/biocbuild/bbs-3.14-bioc/R/bin/R CMD INSTALL farms ### ############################################################################## ############################################################################## * installing to library ‘/home/biocbuild/bbs-3.14-bioc/R/library’ * installing *source* package ‘farms’ ... ** using staged installation ** R ** data ** inst ** byte-compile and prepare package for lazy loading ** help *** installing help indices ** building package indices ** installing vignettes ** testing if installed package can be loaded from temporary location ** testing if installed package can be loaded from final location ** testing if installed package keeps a record of temporary installation path * DONE (farms)
farms.Rcheck/farms-Ex.timings
| name | user | system | elapsed | |
| INI_Calls-class | 0.093 | 0.012 | 0.105 | |
| INIcalls-methods | 0.114 | 0.000 | 0.113 | |
| expFarms | 0.015 | 0.000 | 0.015 | |
| generateExprVal.method.farms | 0.002 | 0.000 | 0.002 | |
| getI_Eset-methods | 0.024 | 0.000 | 0.024 | |
| getI_ProbeSets-methods | 0.027 | 0.000 | 0.028 | |
| getNI_Eset-methods | 0.021 | 0.004 | 0.025 | |
| getNI_ProbeSets-methods | 0.024 | 0.000 | 0.025 | |
| lFarms | 0.022 | 0.003 | 0.025 | |
| plot-methods | 0.028 | 0.000 | 0.028 | |
| qFarms | 0.016 | 0.000 | 0.016 | |
| summary-methods | 0.025 | 0.000 | 0.026 | |