| Back to Multiple platform build/check report for BioC 3.14 |
|
This page was generated on 2022-04-13 12:07:58 -0400 (Wed, 13 Apr 2022).
| Hostname | OS | Arch (*) | R version | Installed pkgs |
|---|---|---|---|---|
| nebbiolo2 | Linux (Ubuntu 20.04.4 LTS) | x86_64 | 4.1.3 (2022-03-10) -- "One Push-Up" | 4324 |
| tokay2 | Windows Server 2012 R2 Standard | x64 | 4.1.3 (2022-03-10) -- "One Push-Up" | 4077 |
| machv2 | macOS 10.14.6 Mojave | x86_64 | 4.1.3 (2022-03-10) -- "One Push-Up" | 4137 |
| Click on any hostname to see more info about the system (e.g. compilers) (*) as reported by 'uname -p', except on Windows and Mac OS X | ||||
|
To the developers/maintainers of the esATAC package: - Please allow up to 24 hours (and sometimes 48 hours) for your latest push to git@git.bioconductor.org:packages/esATAC.git to reflect on this report. See How and When does the builder pull? When will my changes propagate? for more information. - Make sure to use the following settings in order to reproduce any error or warning you see on this page. |
| Package 604/2083 | Hostname | OS / Arch | INSTALL | BUILD | CHECK | BUILD BIN | ||||||||
| esATAC 1.16.0 (landing page) Zheng Wei
| nebbiolo2 | Linux (Ubuntu 20.04.4 LTS) / x86_64 | OK | OK | OK | |||||||||
| tokay2 | Windows Server 2012 R2 Standard / x64 | OK | OK | OK | OK | |||||||||
| machv2 | macOS 10.14.6 Mojave / x86_64 | OK | OK | OK | OK | |||||||||
| Package: esATAC |
| Version: 1.16.0 |
| Command: /Library/Frameworks/R.framework/Resources/bin/R CMD check --install=check:esATAC.install-out.txt --library=/Library/Frameworks/R.framework/Resources/library --no-vignettes --timings esATAC_1.16.0.tar.gz |
| StartedAt: 2022-04-12 13:06:49 -0400 (Tue, 12 Apr 2022) |
| EndedAt: 2022-04-12 13:16:57 -0400 (Tue, 12 Apr 2022) |
| EllapsedTime: 608.4 seconds |
| RetCode: 0 |
| Status: OK |
| CheckDir: esATAC.Rcheck |
| Warnings: 0 |
##############################################################################
##############################################################################
###
### Running command:
###
### /Library/Frameworks/R.framework/Resources/bin/R CMD check --install=check:esATAC.install-out.txt --library=/Library/Frameworks/R.framework/Resources/library --no-vignettes --timings esATAC_1.16.0.tar.gz
###
##############################################################################
##############################################################################
* using log directory ‘/Users/biocbuild/bbs-3.14-bioc/meat/esATAC.Rcheck’
* using R version 4.1.3 (2022-03-10)
* using platform: x86_64-apple-darwin17.0 (64-bit)
* using session charset: UTF-8
* using option ‘--no-vignettes’
* checking for file ‘esATAC/DESCRIPTION’ ... OK
* checking extension type ... Package
* this is package ‘esATAC’ version ‘1.16.0’
* package encoding: UTF-8
* checking package namespace information ... OK
* checking package dependencies ... OK
* checking if this is a source package ... OK
* checking if there is a namespace ... OK
* checking for hidden files and directories ... NOTE
Found the following hidden files and directories:
.BBSoptions
These were most likely included in error. See section ‘Package
structure’ in the ‘Writing R Extensions’ manual.
* checking for portable file names ... OK
* checking for sufficient/correct file permissions ... OK
* checking whether package ‘esATAC’ can be installed ... OK
* checking installed package size ... NOTE
installed size is 6.4Mb
sub-directories of 1Mb or more:
extdata 5.1Mb
* checking package directory ... OK
* checking ‘build’ directory ... OK
* checking DESCRIPTION meta-information ... OK
* checking top-level files ... OK
* checking for left-over files ... OK
* checking index information ... OK
* checking package subdirectories ... OK
* checking R files for non-ASCII characters ... OK
* checking R files for syntax errors ... OK
* checking whether the package can be loaded ... OK
* checking whether the package can be loaded with stated dependencies ... OK
* checking whether the package can be unloaded cleanly ... OK
* checking whether the namespace can be loaded with stated dependencies ... OK
* checking whether the namespace can be unloaded cleanly ... OK
* checking dependencies in R code ... NOTE
Unexported objects imported by ':::' calls:
‘ShortRead:::.ShortReadQQA’ ‘ShortRead:::.qa_adapterContamination’
See the note in ?`:::` about the use of this operator.
* checking S3 generic/method consistency ... OK
* checking replacement functions ... OK
* checking foreign function calls ... OK
* checking R code for possible problems ... NOTE
processing,BedToBigWig: no visible binding for global variable ‘score’
Undefined global functions or variables:
score
* checking Rd files ... OK
* checking Rd metadata ... OK
* checking Rd cross-references ... OK
* checking for missing documentation entries ... OK
* checking for code/documentation mismatches ... OK
* checking Rd \usage sections ... OK
* checking Rd contents ... OK
* checking for unstated dependencies in examples ... OK
* checking line endings in C/C++/Fortran sources/headers ... OK
* checking line endings in Makefiles ... OK
* checking compilation flags in Makevars ... OK
* checking for GNU extensions in Makefiles ... OK
* checking for portable use of $(BLAS_LIBS) and $(LAPACK_LIBS) ... OK
* checking use of PKG_*FLAGS in Makefiles ... OK
* checking compiled code ... NOTE
Note: information on .o files is not available
* checking files in ‘vignettes’ ... OK
* checking examples ... OK
Examples with CPU (user + system) or elapsed time > 5s
user system elapsed
FindAdapter 0.763 0.100 28.399
Renamer 0.661 0.066 27.612
* checking for unstated dependencies in ‘tests’ ... OK
* checking tests ...
Running ‘testthat.R’
OK
* checking for unstated dependencies in vignettes ... OK
* checking package vignettes in ‘inst/doc’ ... OK
* checking running R code from vignettes ... SKIPPED
* checking re-building of vignette outputs ... SKIPPED
* checking PDF version of manual ... OK
* DONE
Status: 5 NOTEs
See
‘/Users/biocbuild/bbs-3.14-bioc/meat/esATAC.Rcheck/00check.log’
for details.
esATAC.Rcheck/00install.out
##############################################################################
##############################################################################
###
### Running command:
###
### /Library/Frameworks/R.framework/Resources/bin/R CMD INSTALL esATAC
###
##############################################################################
##############################################################################
* installing to library ‘/Library/Frameworks/R.framework/Versions/4.1/Resources/library’
* installing *source* package ‘esATAC’ ...
** using staged installation
** libs
clang++ -mmacosx-version-min=10.13 -std=gnu++11 -I"/Library/Frameworks/R.framework/Resources/include" -DNDEBUG -DNDEBUG -DPLF_SYS_LINUX -DR_EVN_FLAG -I'/Library/Frameworks/R.framework/Versions/4.1/Resources/library/Rcpp/include' -I/usr/local/include -fPIC -Wall -g -O2 -c BedLine.cpp -o BedLine.o
clang++ -mmacosx-version-min=10.13 -std=gnu++11 -I"/Library/Frameworks/R.framework/Resources/include" -DNDEBUG -DNDEBUG -DPLF_SYS_LINUX -DR_EVN_FLAG -I'/Library/Frameworks/R.framework/Versions/4.1/Resources/library/Rcpp/include' -I/usr/local/include -fPIC -Wall -g -O2 -c BedUtils.cpp -o BedUtils.o
clang++ -mmacosx-version-min=10.13 -std=gnu++11 -I"/Library/Frameworks/R.framework/Resources/include" -DNDEBUG -DNDEBUG -DPLF_SYS_LINUX -DR_EVN_FLAG -I'/Library/Frameworks/R.framework/Versions/4.1/Resources/library/Rcpp/include' -I/usr/local/include -fPIC -Wall -g -O2 -c ChrDivi.cpp -o ChrDivi.o
clang++ -mmacosx-version-min=10.13 -std=gnu++11 -I"/Library/Frameworks/R.framework/Resources/include" -DNDEBUG -DNDEBUG -DPLF_SYS_LINUX -DR_EVN_FLAG -I'/Library/Frameworks/R.framework/Versions/4.1/Resources/library/Rcpp/include' -I/usr/local/include -fPIC -Wall -g -O2 -c CutCountPre.cpp -o CutCountPre.o
clang++ -mmacosx-version-min=10.13 -std=gnu++11 -I"/Library/Frameworks/R.framework/Resources/include" -DNDEBUG -DNDEBUG -DPLF_SYS_LINUX -DR_EVN_FLAG -I'/Library/Frameworks/R.framework/Versions/4.1/Resources/library/Rcpp/include' -I/usr/local/include -fPIC -Wall -g -O2 -c CutSiteCount.cpp -o CutSiteCount.o
clang++ -mmacosx-version-min=10.13 -std=gnu++11 -I"/Library/Frameworks/R.framework/Resources/include" -DNDEBUG -DNDEBUG -DPLF_SYS_LINUX -DR_EVN_FLAG -I'/Library/Frameworks/R.framework/Versions/4.1/Resources/library/Rcpp/include' -I/usr/local/include -fPIC -Wall -g -O2 -c LibComplexQC.cpp -o LibComplexQC.o
clang++ -mmacosx-version-min=10.13 -std=gnu++11 -I"/Library/Frameworks/R.framework/Resources/include" -DNDEBUG -DNDEBUG -DPLF_SYS_LINUX -DR_EVN_FLAG -I'/Library/Frameworks/R.framework/Versions/4.1/Resources/library/Rcpp/include' -I/usr/local/include -fPIC -Wall -g -O2 -c RcppExports.cpp -o RcppExports.o
clang++ -mmacosx-version-min=10.13 -std=gnu++11 -I"/Library/Frameworks/R.framework/Resources/include" -DNDEBUG -DNDEBUG -DPLF_SYS_LINUX -DR_EVN_FLAG -I'/Library/Frameworks/R.framework/Versions/4.1/Resources/library/Rcpp/include' -I/usr/local/include -fPIC -Wall -g -O2 -c SortBed.cpp -o SortBed.o
clang++ -mmacosx-version-min=10.13 -std=gnu++11 -I"/Library/Frameworks/R.framework/Resources/include" -DNDEBUG -DNDEBUG -DPLF_SYS_LINUX -DR_EVN_FLAG -I'/Library/Frameworks/R.framework/Versions/4.1/Resources/library/Rcpp/include' -I/usr/local/include -fPIC -Wall -g -O2 -c rcpp_wrapper.cpp -o rcpp_wrapper.o
clang++ -mmacosx-version-min=10.13 -std=gnu++11 -I"/Library/Frameworks/R.framework/Resources/include" -DNDEBUG -DNDEBUG -DPLF_SYS_LINUX -DR_EVN_FLAG -I'/Library/Frameworks/R.framework/Versions/4.1/Resources/library/Rcpp/include' -I/usr/local/include -fPIC -Wall -g -O2 -c renamer.cpp -o renamer.o
clang++ -mmacosx-version-min=10.13 -std=gnu++11 -I"/Library/Frameworks/R.framework/Resources/include" -DNDEBUG -DNDEBUG -DPLF_SYS_LINUX -DR_EVN_FLAG -I'/Library/Frameworks/R.framework/Versions/4.1/Resources/library/Rcpp/include' -I/usr/local/include -fPIC -Wall -g -O2 -c sam2bed.cc -o sam2bed.o
sam2bed.cc:125:16: warning: unused variable 'xspm' [-Wunused-variable]
regmatch_t xspm[1];
^
sam2bed.cc:294:16: warning: unused variable 'xspm' [-Wunused-variable]
regmatch_t xspm[1];
^
2 warnings generated.
clang++ -mmacosx-version-min=10.13 -std=gnu++11 -dynamiclib -Wl,-headerpad_max_install_names -undefined dynamic_lookup -single_module -multiply_defined suppress -L/Library/Frameworks/R.framework/Resources/lib -L/usr/local/lib -o esATAC.so BedLine.o BedUtils.o ChrDivi.o CutCountPre.o CutSiteCount.o LibComplexQC.o RcppExports.o SortBed.o rcpp_wrapper.o renamer.o sam2bed.o -F/Library/Frameworks/R.framework/.. -framework R -Wl,-framework -Wl,CoreFoundation
installing to /Library/Frameworks/R.framework/Versions/4.1/Resources/library/00LOCK-esATAC/00new/esATAC/libs
** R
** inst
** byte-compile and prepare package for lazy loading
** help
*** installing help indices
** building package indices
** installing vignettes
** testing if installed package can be loaded from temporary location
** checking absolute paths in shared objects and dynamic libraries
** testing if installed package can be loaded from final location
** testing if installed package keeps a record of temporary installation path
* DONE (esATAC)
esATAC.Rcheck/tests/testthat.Rout
R version 4.1.3 (2022-03-10) -- "One Push-Up"
Copyright (C) 2022 The R Foundation for Statistical Computing
Platform: x86_64-apple-darwin17.0 (64-bit)
R is free software and comes with ABSOLUTELY NO WARRANTY.
You are welcome to redistribute it under certain conditions.
Type 'license()' or 'licence()' for distribution details.
R is a collaborative project with many contributors.
Type 'contributors()' for more information and
'citation()' on how to cite R or R packages in publications.
Type 'demo()' for some demos, 'help()' for on-line help, or
'help.start()' for an HTML browser interface to help.
Type 'q()' to quit R.
> library(testthat)
> library(esATAC)
Loading required package: Rsamtools
Loading required package: GenomeInfoDb
Loading required package: BiocGenerics
Attaching package: 'BiocGenerics'
The following objects are masked from 'package:stats':
IQR, mad, sd, var, xtabs
The following objects are masked from 'package:base':
Filter, Find, Map, Position, Reduce, anyDuplicated, append,
as.data.frame, basename, cbind, colnames, dirname, do.call,
duplicated, eval, evalq, get, grep, grepl, intersect, is.unsorted,
lapply, mapply, match, mget, order, paste, pmax, pmax.int, pmin,
pmin.int, rank, rbind, rownames, sapply, setdiff, sort, table,
tapply, union, unique, unsplit, which.max, which.min
Loading required package: S4Vectors
Loading required package: stats4
Attaching package: 'S4Vectors'
The following objects are masked from 'package:base':
I, expand.grid, unname
Loading required package: IRanges
Loading required package: GenomicRanges
Loading required package: Biostrings
Loading required package: XVector
Attaching package: 'Biostrings'
The following object is masked from 'package:base':
strsplit
Loading required package: ShortRead
Loading required package: BiocParallel
Loading required package: GenomicAlignments
Loading required package: SummarizedExperiment
Loading required package: MatrixGenerics
Loading required package: matrixStats
Attaching package: 'MatrixGenerics'
The following objects are masked from 'package:matrixStats':
colAlls, colAnyNAs, colAnys, colAvgsPerRowSet, colCollapse,
colCounts, colCummaxs, colCummins, colCumprods, colCumsums,
colDiffs, colIQRDiffs, colIQRs, colLogSumExps, colMadDiffs,
colMads, colMaxs, colMeans2, colMedians, colMins, colOrderStats,
colProds, colQuantiles, colRanges, colRanks, colSdDiffs, colSds,
colSums2, colTabulates, colVarDiffs, colVars, colWeightedMads,
colWeightedMeans, colWeightedMedians, colWeightedSds,
colWeightedVars, rowAlls, rowAnyNAs, rowAnys, rowAvgsPerColSet,
rowCollapse, rowCounts, rowCummaxs, rowCummins, rowCumprods,
rowCumsums, rowDiffs, rowIQRDiffs, rowIQRs, rowLogSumExps,
rowMadDiffs, rowMads, rowMaxs, rowMeans2, rowMedians, rowMins,
rowOrderStats, rowProds, rowQuantiles, rowRanges, rowRanks,
rowSdDiffs, rowSds, rowSums2, rowTabulates, rowVarDiffs, rowVars,
rowWeightedMads, rowWeightedMeans, rowWeightedMedians,
rowWeightedSds, rowWeightedVars
Loading required package: Biobase
Welcome to Bioconductor
Vignettes contain introductory material; view with
'browseVignettes()'. To cite Bioconductor, see
'citation("Biobase")', and for packages 'citation("pkgname")'.
Attaching package: 'Biobase'
The following object is masked from 'package:MatrixGenerics':
rowMedians
The following objects are masked from 'package:matrixStats':
anyMissing, rowMedians
Loading required package: pipeFrame
Attaching package: 'pipeFrame'
The following object is masked from 'package:ShortRead':
report
>
> test_check("esATAC")
[1] "2022-04-12 13:16:46 EDT"
[1] "2022-04-12 13:16:46 EDT"
[1] "2022-04-12 13:16:46 EDT"
[1] "2022-04-12 13:16:46 EDT"
[1] "2022-04-12 13:16:46 EDT"
[1] "2022-04-12 13:16:46 EDT"
[ FAIL 0 | WARN 0 | SKIP 0 | PASS 3 ]
>
> proc.time()
user system elapsed
26.987 1.252 28.201
esATAC.Rcheck/esATAC-Ex.timings
| name | user | system | elapsed | |
| BamToBed | 0.661 | 0.015 | 0.678 | |
| BedToBigWig | 0.096 | 0.006 | 0.103 | |
| BedUtils | 1.934 | 0.046 | 1.981 | |
| Bowtie2Mapping | 1.241 | 0.312 | 1.131 | |
| CutSiteCountR | 0.713 | 0.070 | 0.784 | |
| CutSitePre | 0.370 | 0.034 | 0.405 | |
| FRiPQC | 3.687 | 0.346 | 3.175 | |
| FastQC | 0.834 | 0.070 | 0.906 | |
| FindAdapter | 0.763 | 0.100 | 28.399 | |
| FragLenDistr | 0.097 | 0.003 | 0.101 | |
| LibComplexQC | 0.259 | 0.021 | 0.280 | |
| PeakCallingFseq | 0.474 | 0.048 | 0.522 | |
| PeakQC | 0.736 | 0.057 | 0.794 | |
| RGo | 0.001 | 0.001 | 0.001 | |
| RMotifScan | 0 | 0 | 0 | |
| RMotifScanPair | 0.000 | 0.001 | 0.001 | |
| RPeakAnno | 0.294 | 0.016 | 0.310 | |
| RPeakComp | 0.095 | 0.004 | 0.098 | |
| RSNPs | 0.219 | 0.011 | 0.230 | |
| RemoveAdapter | 0.249 | 0.050 | 0.299 | |
| Renamer | 0.661 | 0.066 | 27.612 | |
| Rsortbam | 0.080 | 0.014 | 0.136 | |
| SamToBam | 0.243 | 0.025 | 0.269 | |
| SamToBed | 0.338 | 0.025 | 0.364 | |
| TSSQC | 2.112 | 0.119 | 2.389 | |
| UnzipAndMerge | 0.034 | 0.008 | 0.042 | |
| atacPipe2 | 0.000 | 0.002 | 0.002 | |
| atacRepsPipe | 0.000 | 0.001 | 0.001 | |
| atacRepsPipe2 | 0.000 | 0.001 | 0.001 | |
| esATAC-package | 0.000 | 0.001 | 0.002 | |
| getMotifInfo | 0.015 | 0.001 | 0.015 | |