| Back to Multiple platform build/check report for BioC 3.14 |
|
This page was generated on 2022-04-13 12:06:31 -0400 (Wed, 13 Apr 2022).
| Hostname | OS | Arch (*) | R version | Installed pkgs |
|---|---|---|---|---|
| nebbiolo2 | Linux (Ubuntu 20.04.4 LTS) | x86_64 | 4.1.3 (2022-03-10) -- "One Push-Up" | 4324 |
| tokay2 | Windows Server 2012 R2 Standard | x64 | 4.1.3 (2022-03-10) -- "One Push-Up" | 4077 |
| machv2 | macOS 10.14.6 Mojave | x86_64 | 4.1.3 (2022-03-10) -- "One Push-Up" | 4137 |
| Click on any hostname to see more info about the system (e.g. compilers) (*) as reported by 'uname -p', except on Windows and Mac OS X | ||||
|
To the developers/maintainers of the epivizrChart package: - Please allow up to 24 hours (and sometimes 48 hours) for your latest push to git@git.bioconductor.org:packages/epivizrChart.git to reflect on this report. See How and When does the builder pull? When will my changes propagate? for more information. - Make sure to use the following settings in order to reproduce any error or warning you see on this page. |
| Package 597/2083 | Hostname | OS / Arch | INSTALL | BUILD | CHECK | BUILD BIN | ||||||||
| epivizrChart 1.16.0 (landing page) Hector Corrada Bravo
| nebbiolo2 | Linux (Ubuntu 20.04.4 LTS) / x86_64 | OK | OK | OK | |||||||||
| tokay2 | Windows Server 2012 R2 Standard / x64 | OK | OK | OK | OK | |||||||||
| machv2 | macOS 10.14.6 Mojave / x86_64 | OK | OK | OK | OK | |||||||||
| Package: epivizrChart |
| Version: 1.16.0 |
| Command: C:\cygwin\bin\curl.exe -O http://155.52.207.166/BBS/3.14/bioc/src/contrib/epivizrChart_1.16.0.tar.gz && rm -rf epivizrChart.buildbin-libdir && mkdir epivizrChart.buildbin-libdir && C:\Users\biocbuild\bbs-3.14-bioc\R\bin\R.exe CMD INSTALL --merge-multiarch --build --library=epivizrChart.buildbin-libdir epivizrChart_1.16.0.tar.gz && C:\Users\biocbuild\bbs-3.14-bioc\R\bin\R.exe CMD INSTALL epivizrChart_1.16.0.zip && rm epivizrChart_1.16.0.tar.gz epivizrChart_1.16.0.zip |
| StartedAt: 2022-04-12 06:50:06 -0400 (Tue, 12 Apr 2022) |
| EndedAt: 2022-04-12 06:53:05 -0400 (Tue, 12 Apr 2022) |
| EllapsedTime: 178.3 seconds |
| RetCode: 0 |
| Status: OK |
##############################################################################
##############################################################################
###
### Running command:
###
### C:\cygwin\bin\curl.exe -O http://155.52.207.166/BBS/3.14/bioc/src/contrib/epivizrChart_1.16.0.tar.gz && rm -rf epivizrChart.buildbin-libdir && mkdir epivizrChart.buildbin-libdir && C:\Users\biocbuild\bbs-3.14-bioc\R\bin\R.exe CMD INSTALL --merge-multiarch --build --library=epivizrChart.buildbin-libdir epivizrChart_1.16.0.tar.gz && C:\Users\biocbuild\bbs-3.14-bioc\R\bin\R.exe CMD INSTALL epivizrChart_1.16.0.zip && rm epivizrChart_1.16.0.tar.gz epivizrChart_1.16.0.zip
###
##############################################################################
##############################################################################
% Total % Received % Xferd Average Speed Time Time Time Current
Dload Upload Total Spent Left Speed
0 0 0 0 0 0 0 0 --:--:-- --:--:-- --:--:-- 0
8 2544k 8 226k 0 0 602k 0 0:00:04 --:--:-- 0:00:04 602k
57 2544k 57 1469k 0 0 1068k 0 0:00:02 0:00:01 0:00:01 1068k
100 2544k 100 2544k 0 0 1142k 0 0:00:02 0:00:02 --:--:-- 1143k
install for i386
* installing *source* package 'epivizrChart' ...
** using staged installation
** R
** data
*** moving datasets to lazyload DB
** inst
** byte-compile and prepare package for lazy loading
** help
*** installing help indices
converting help for package 'epivizrChart'
finding HTML links ... done
BlocksTrack-methods html
EpivizBlocksTrack-class html
EpivizChart-class html
EpivizChartDataMgr-class html
EpivizDataSource-class html
EpivizEnvironment-class html
EpivizGenesTrack-class html
EpivizHeatmapPlot-class html
EpivizIGVTrack-class html
EpivizLinePlot-class html
EpivizLineTrack-class html
EpivizNavigation-class html
EpivizScatterPlot-class html
EpivizStackedBlocksTrack-class html
EpivizStackedLinePlot-class html
EpivizStackedLineTrack-class html
EpivizViewComponent-class html
finding level-2 HTML links ... done
EpivizWebComponent-class html
HeatmapPlot-methods html
LinePlot-methods html
LineTrack-methods html
ScatterPlot-methods html
StackedBlocksTrack-methods html
StackedLinePlot-methods html
StackedLineTrack-methods html
append_region-methods html
bcode_eset html
cgi_gr html
chart_default_settings_colors html
dot-constructURL html
dot-initialize_chart html
dot-register_all_the_epiviz_things html
dot-settings_as_df html
epivizChart html
REDIRECT:topic Previous alias or file overwritten by alias: C:/Users/biocbuild/bbs-3.14-bioc/meat/epivizrChart.buildbin-libdir/00LOCK-epivizrChart/00new/epivizrChart/help/epivizChart.html
epivizEnv html
epivizNav html
get_available_chart_types html
get_registered_data_types html
json_parser html
json_writer html
plot-EpivizEnvironment-ANY-method html
rand_id html
sumexp html
tcga_colon_blocks html
tcga_colon_curves html
tcga_colon_expression html
** building package indices
** installing vignettes
** testing if installed package can be loaded from temporary location
** testing if installed package can be loaded from final location
** testing if installed package keeps a record of temporary installation path
install for x64
* installing *source* package 'epivizrChart' ...
** testing if installed package can be loaded
* MD5 sums
packaged installation of 'epivizrChart' as epivizrChart_1.16.0.zip
* DONE (epivizrChart)
* installing to library 'C:/Users/biocbuild/bbs-3.14-bioc/R/library'
package 'epivizrChart' successfully unpacked and MD5 sums checked