| Back to Multiple platform build/check report for BioC 3.14 |
|
This page was generated on 2022-04-13 12:06:31 -0400 (Wed, 13 Apr 2022).
| Hostname | OS | Arch (*) | R version | Installed pkgs |
|---|---|---|---|---|
| nebbiolo2 | Linux (Ubuntu 20.04.4 LTS) | x86_64 | 4.1.3 (2022-03-10) -- "One Push-Up" | 4324 |
| tokay2 | Windows Server 2012 R2 Standard | x64 | 4.1.3 (2022-03-10) -- "One Push-Up" | 4077 |
| machv2 | macOS 10.14.6 Mojave | x86_64 | 4.1.3 (2022-03-10) -- "One Push-Up" | 4137 |
| Click on any hostname to see more info about the system (e.g. compilers) (*) as reported by 'uname -p', except on Windows and Mac OS X | ||||
|
To the developers/maintainers of the epigenomix package: - Please allow up to 24 hours (and sometimes 48 hours) for your latest push to git@git.bioconductor.org:packages/epigenomix.git to reflect on this report. See How and When does the builder pull? When will my changes propagate? for more information. - Make sure to use the following settings in order to reproduce any error or warning you see on this page. |
| Package 590/2083 | Hostname | OS / Arch | INSTALL | BUILD | CHECK | BUILD BIN | ||||||||
| epigenomix 1.34.0 (landing page) Hans-Ulrich Klein
| nebbiolo2 | Linux (Ubuntu 20.04.4 LTS) / x86_64 | OK | OK | OK | |||||||||
| tokay2 | Windows Server 2012 R2 Standard / x64 | OK | OK | OK | OK | |||||||||
| machv2 | macOS 10.14.6 Mojave / x86_64 | OK | OK | OK | OK | |||||||||
| Package: epigenomix |
| Version: 1.34.0 |
| Command: rm -rf epigenomix.buildbin-libdir && mkdir epigenomix.buildbin-libdir && C:\Users\biocbuild\bbs-3.14-bioc\R\bin\R.exe CMD INSTALL --merge-multiarch --build --library=epigenomix.buildbin-libdir epigenomix_1.34.0.tar.gz |
| StartedAt: 2022-04-13 06:09:00 -0400 (Wed, 13 Apr 2022) |
| EndedAt: 2022-04-13 06:11:16 -0400 (Wed, 13 Apr 2022) |
| EllapsedTime: 136.5 seconds |
| RetCode: 0 |
| Status: OK |
| PackageFile: epigenomix_1.34.0.zip |
| PackageFileSize: 1.037 MiB |
##############################################################################
##############################################################################
###
### Running command:
###
### rm -rf epigenomix.buildbin-libdir && mkdir epigenomix.buildbin-libdir && C:\Users\biocbuild\bbs-3.14-bioc\R\bin\R.exe CMD INSTALL --merge-multiarch --build --library=epigenomix.buildbin-libdir epigenomix_1.34.0.tar.gz
###
##############################################################################
##############################################################################
install for i386
* installing *source* package 'epigenomix' ...
** using staged installation
** R
** data
** inst
** byte-compile and prepare package for lazy loading
** help
*** installing help indices
converting help for package 'epigenomix'
finding HTML links ... done
ChIPseqSet-class html
finding level-2 HTML links ... done
MixModel-class html
MixModelBayes-class html
MixModelML-class html
MixtureComponent-class html
bayesMixModel html
calculateCrossCorrelation html
eSet html
fpkm html
getAlignmentQuality html
integrateData html
mappedReads html
matchProbeToPromoter html
mlMixModel html
normalize html
normalizeChIP html
plotChains html
plotClassification html
plotComponents html
summarizeReads html
transToTSS html
** building package indices
** installing vignettes
** testing if installed package can be loaded from temporary location
** testing if installed package can be loaded from final location
** testing if installed package keeps a record of temporary installation path
install for x64
* installing *source* package 'epigenomix' ...
** testing if installed package can be loaded
* MD5 sums
packaged installation of 'epigenomix' as epigenomix_1.34.0.zip
* DONE (epigenomix)