| Back to Multiple platform build/check report for BioC 3.14 |
|
This page was generated on 2022-04-13 12:06:28 -0400 (Wed, 13 Apr 2022).
| Hostname | OS | Arch (*) | R version | Installed pkgs |
|---|---|---|---|---|
| nebbiolo2 | Linux (Ubuntu 20.04.4 LTS) | x86_64 | 4.1.3 (2022-03-10) -- "One Push-Up" | 4324 |
| tokay2 | Windows Server 2012 R2 Standard | x64 | 4.1.3 (2022-03-10) -- "One Push-Up" | 4077 |
| machv2 | macOS 10.14.6 Mojave | x86_64 | 4.1.3 (2022-03-10) -- "One Push-Up" | 4137 |
| Click on any hostname to see more info about the system (e.g. compilers) (*) as reported by 'uname -p', except on Windows and Mac OS X | ||||
|
To the developers/maintainers of the divergence package: - Please allow up to 24 hours (and sometimes 48 hours) for your latest push to git@git.bioconductor.org:packages/divergence.git to reflect on this report. See How and When does the builder pull? When will my changes propagate? for more information. - Make sure to use the following settings in order to reproduce any error or warning you see on this page. |
| Package 521/2083 | Hostname | OS / Arch | INSTALL | BUILD | CHECK | BUILD BIN | ||||||||
| divergence 1.10.0 (landing page) Wikum Dinalankara
| nebbiolo2 | Linux (Ubuntu 20.04.4 LTS) / x86_64 | OK | OK | OK | |||||||||
| tokay2 | Windows Server 2012 R2 Standard / x64 | OK | OK | OK | OK | |||||||||
| machv2 | macOS 10.14.6 Mojave / x86_64 | OK | OK | OK | OK | |||||||||
| Package: divergence |
| Version: 1.10.0 |
| Command: rm -rf divergence.buildbin-libdir && mkdir divergence.buildbin-libdir && C:\Users\biocbuild\bbs-3.14-bioc\R\bin\R.exe CMD INSTALL --merge-multiarch --build --library=divergence.buildbin-libdir divergence_1.10.0.tar.gz |
| StartedAt: 2022-04-13 06:04:19 -0400 (Wed, 13 Apr 2022) |
| EndedAt: 2022-04-13 06:05:15 -0400 (Wed, 13 Apr 2022) |
| EllapsedTime: 55.3 seconds |
| RetCode: 0 |
| Status: OK |
| PackageFile: divergence_1.10.0.zip |
| PackageFileSize: 1.981 MiB |
##############################################################################
##############################################################################
###
### Running command:
###
### rm -rf divergence.buildbin-libdir && mkdir divergence.buildbin-libdir && C:\Users\biocbuild\bbs-3.14-bioc\R\bin\R.exe CMD INSTALL --merge-multiarch --build --library=divergence.buildbin-libdir divergence_1.10.0.tar.gz
###
##############################################################################
##############################################################################
install for i386
* installing *source* package 'divergence' ...
** using staged installation
** R
** data
*** moving datasets to lazyload DB
** inst
** byte-compile and prepare package for lazy loading
** help
*** installing help indices
converting help for package 'divergence'
finding HTML links ... done
breastTCGA_ER html
breastTCGA_Group html
breastTCGA_Mat html
computeChiSquaredTest html
computeMultivariateBinaryMatrix html
computeMultivariateDigitization html
computeMultivariateSupport html
computeQuantileMatrix html
computeUnivariateDigitization html
computeUnivariateSupport html
computeUnivariateTernaryMatrix html
findMultivariateGammaWithSupport html
findUnivariateGammaWithSupport html
msigdb_Hallmarks html
** building package indices
** installing vignettes
** testing if installed package can be loaded from temporary location
** testing if installed package can be loaded from final location
** testing if installed package keeps a record of temporary installation path
install for x64
* installing *source* package 'divergence' ...
** testing if installed package can be loaded
* MD5 sums
packaged installation of 'divergence' as divergence_1.10.0.zip
* DONE (divergence)