| Back to Multiple platform build/check report for BioC 3.14 |
|
This page was generated on 2022-04-13 12:06:25 -0400 (Wed, 13 Apr 2022).
| Hostname | OS | Arch (*) | R version | Installed pkgs |
|---|---|---|---|---|
| nebbiolo2 | Linux (Ubuntu 20.04.4 LTS) | x86_64 | 4.1.3 (2022-03-10) -- "One Push-Up" | 4324 |
| tokay2 | Windows Server 2012 R2 Standard | x64 | 4.1.3 (2022-03-10) -- "One Push-Up" | 4077 |
| machv2 | macOS 10.14.6 Mojave | x86_64 | 4.1.3 (2022-03-10) -- "One Push-Up" | 4137 |
| Click on any hostname to see more info about the system (e.g. compilers) (*) as reported by 'uname -p', except on Windows and Mac OS X | ||||
|
To the developers/maintainers of the cytomapper package: - Please allow up to 24 hours (and sometimes 48 hours) for your latest push to git@git.bioconductor.org:packages/cytomapper.git to reflect on this report. See How and When does the builder pull? When will my changes propagate? for more information. - Make sure to use the following settings in order to reproduce any error or warning you see on this page. |
| Package 442/2083 | Hostname | OS / Arch | INSTALL | BUILD | CHECK | BUILD BIN | ||||||||
| cytomapper 1.6.0 (landing page) Nils Eling
| nebbiolo2 | Linux (Ubuntu 20.04.4 LTS) / x86_64 | OK | OK | OK | |||||||||
| tokay2 | Windows Server 2012 R2 Standard / x64 | OK | OK | OK | OK | |||||||||
| machv2 | macOS 10.14.6 Mojave / x86_64 | OK | OK | OK | OK | |||||||||
| Package: cytomapper |
| Version: 1.6.0 |
| Command: C:\cygwin\bin\curl.exe -O http://155.52.207.166/BBS/3.14/bioc/src/contrib/cytomapper_1.6.0.tar.gz && rm -rf cytomapper.buildbin-libdir && mkdir cytomapper.buildbin-libdir && C:\Users\biocbuild\bbs-3.14-bioc\R\bin\R.exe CMD INSTALL --merge-multiarch --build --library=cytomapper.buildbin-libdir cytomapper_1.6.0.tar.gz && C:\Users\biocbuild\bbs-3.14-bioc\R\bin\R.exe CMD INSTALL cytomapper_1.6.0.zip && rm cytomapper_1.6.0.tar.gz cytomapper_1.6.0.zip |
| StartedAt: 2022-04-12 06:16:40 -0400 (Tue, 12 Apr 2022) |
| EndedAt: 2022-04-12 06:18:57 -0400 (Tue, 12 Apr 2022) |
| EllapsedTime: 137.3 seconds |
| RetCode: 0 |
| Status: OK |
##############################################################################
##############################################################################
###
### Running command:
###
### C:\cygwin\bin\curl.exe -O http://155.52.207.166/BBS/3.14/bioc/src/contrib/cytomapper_1.6.0.tar.gz && rm -rf cytomapper.buildbin-libdir && mkdir cytomapper.buildbin-libdir && C:\Users\biocbuild\bbs-3.14-bioc\R\bin\R.exe CMD INSTALL --merge-multiarch --build --library=cytomapper.buildbin-libdir cytomapper_1.6.0.tar.gz && C:\Users\biocbuild\bbs-3.14-bioc\R\bin\R.exe CMD INSTALL cytomapper_1.6.0.zip && rm cytomapper_1.6.0.tar.gz cytomapper_1.6.0.zip
###
##############################################################################
##############################################################################
% Total % Received % Xferd Average Speed Time Time Time Current
Dload Upload Total Spent Left Speed
0 0 0 0 0 0 0 0 --:--:-- --:--:-- --:--:-- 0
4 17.7M 4 859k 0 0 1278k 0 0:00:14 --:--:-- 0:00:14 1278k
16 17.7M 16 3026k 0 0 1844k 0 0:00:09 0:00:01 0:00:08 1844k
33 17.7M 33 6177k 0 0 2337k 0 0:00:07 0:00:02 0:00:05 2337k
56 17.7M 56 10.0M 0 0 2811k 0 0:00:06 0:00:03 0:00:03 2811k
71 17.7M 71 12.6M 0 0 2793k 0 0:00:06 0:00:04 0:00:02 2793k
90 17.7M 90 16.0M 0 0 2917k 0 0:00:06 0:00:05 0:00:01 3138k
100 17.7M 100 17.7M 0 0 3002k 0 0:00:06 0:00:06 --:--:-- 3432k
install for i386
* installing *source* package 'cytomapper' ...
** using staged installation
** R
** data
** inst
** byte-compile and prepare package for lazy loading
** help
*** installing help indices
converting help for package 'cytomapper'
finding HTML links ... done
CytoImageList-manipulation html
finding level-2 HTML links ... done
CytoImageList-naming html
CytoImageList-subsetting html
CytoImageList html
cytomapperShiny html
loadImages html
measureObjects html
pancreasImages html
pancreasMasks html
pancreasSCE html
plotCells html
plotPixels html
plotting-param html
** building package indices
** installing vignettes
** testing if installed package can be loaded from temporary location
** testing if installed package can be loaded from final location
** testing if installed package keeps a record of temporary installation path
install for x64
* installing *source* package 'cytomapper' ...
** testing if installed package can be loaded
* MD5 sums
packaged installation of 'cytomapper' as cytomapper_1.6.0.zip
* DONE (cytomapper)
* installing to library 'C:/Users/biocbuild/bbs-3.14-bioc/R/library'
package 'cytomapper' successfully unpacked and MD5 sums checked