| Back to Multiple platform build/check report for BioC 3.14 | 
  | 
This page was generated on 2022-04-13 12:06:24 -0400 (Wed, 13 Apr 2022).
| Hostname | OS | Arch (*) | R version | Installed pkgs | 
|---|---|---|---|---|
| nebbiolo2 | Linux (Ubuntu 20.04.4 LTS) | x86_64 | 4.1.3 (2022-03-10) -- "One Push-Up" | 4324 | 
| tokay2 | Windows Server 2012 R2 Standard | x64 | 4.1.3 (2022-03-10) -- "One Push-Up" | 4077 | 
| machv2 | macOS 10.14.6 Mojave | x86_64 | 4.1.3 (2022-03-10) -- "One Push-Up" | 4137 | 
| Click on any hostname to see more info about the system (e.g. compilers) (*) as reported by 'uname -p', except on Windows and Mac OS X | ||||
| 
To the developers/maintainers of the customProDB package: - Please allow up to 24 hours (and sometimes 48 hours) for your latest push to git@git.bioconductor.org:packages/customProDB.git to reflect on this report. See How and When does the builder pull? When will my changes propagate? for more information. - Make sure to use the following settings in order to reproduce any error or warning you see on this page.  | 
| Package 433/2083 | Hostname | OS / Arch | INSTALL | BUILD | CHECK | BUILD BIN | ||||||||
| customProDB 1.34.0  (landing page) Xiaojing Wang 
  | nebbiolo2 | Linux (Ubuntu 20.04.4 LTS) / x86_64 | OK | OK | OK | |||||||||
| tokay2 | Windows Server 2012 R2 Standard / x64 | OK | OK | OK | OK | |||||||||
| machv2 | macOS 10.14.6 Mojave / x86_64 | OK | OK | OK | OK | |||||||||
| Package: customProDB | 
| Version: 1.34.0 | 
| Command: rm -rf customProDB.buildbin-libdir && mkdir customProDB.buildbin-libdir && C:\Users\biocbuild\bbs-3.14-bioc\R\bin\R.exe CMD INSTALL --merge-multiarch --build --library=customProDB.buildbin-libdir customProDB_1.34.0.tar.gz | 
| StartedAt: 2022-04-13 05:58:25 -0400 (Wed, 13 Apr 2022) | 
| EndedAt: 2022-04-13 05:59:40 -0400 (Wed, 13 Apr 2022) | 
| EllapsedTime: 74.4 seconds | 
| RetCode: 0 | 
| Status: OK | 
| PackageFile: customProDB_1.34.0.zip | 
| PackageFileSize: 838.4 KiB | 
##############################################################################
##############################################################################
###
### Running command:
###
###   rm -rf customProDB.buildbin-libdir && mkdir customProDB.buildbin-libdir && C:\Users\biocbuild\bbs-3.14-bioc\R\bin\R.exe CMD INSTALL --merge-multiarch --build --library=customProDB.buildbin-libdir customProDB_1.34.0.tar.gz
###
##############################################################################
##############################################################################
install for i386
* installing *source* package 'customProDB' ...
** using staged installation
** R
** inst
** byte-compile and prepare package for lazy loading
** help
*** installing help indices
  converting help for package 'customProDB'
    finding HTML links ... done
    Bed2Range                               html  
    InputVcf                                html  
    JunctionType                            html  
    Multiple_VCF                            html  
    OutputNovelJun                          html  
    OutputVarprocodingseq                   html  
    OutputVarproseq                         html  
    OutputVarproseq_single                  html  
    Outputaberrant                          html  
    Outputproseq                            html  
    OutputsharedPro                         html  
    Positionincoding                        html  
    PrepareAnnotationEnsembl                html  
    PrepareAnnotationRefseq                 html  
    SharedJunc                              html  
    Varlocation                             html  
    aaVariation                             html  
    calculateRPKM                           html  
    easyRun                                 html  
    easyRun_mul                             html  
** building package indices
** installing vignettes
** testing if installed package can be loaded from temporary location
** testing if installed package can be loaded from final location
** testing if installed package keeps a record of temporary installation path
install for x64
* installing *source* package 'customProDB' ...
** testing if installed package can be loaded
* MD5 sums
packaged installation of 'customProDB' as customProDB_1.34.0.zip
* DONE (customProDB)