| Back to Multiple platform build/check report for BioC 3.14 | 
  | 
This page was generated on 2022-04-13 12:07:51 -0400 (Wed, 13 Apr 2022).
| Hostname | OS | Arch (*) | R version | Installed pkgs | 
|---|---|---|---|---|
| nebbiolo2 | Linux (Ubuntu 20.04.4 LTS) | x86_64 | 4.1.3 (2022-03-10) -- "One Push-Up" | 4324 | 
| tokay2 | Windows Server 2012 R2 Standard | x64 | 4.1.3 (2022-03-10) -- "One Push-Up" | 4077 | 
| machv2 | macOS 10.14.6 Mojave | x86_64 | 4.1.3 (2022-03-10) -- "One Push-Up" | 4137 | 
| Click on any hostname to see more info about the system (e.g. compilers) (*) as reported by 'uname -p', except on Windows and Mac OS X | ||||
| 
To the developers/maintainers of the ctc package: - Please allow up to 24 hours (and sometimes 48 hours) for your latest push to git@git.bioconductor.org:packages/ctc.git to reflect on this report. See How and When does the builder pull? When will my changes propagate? for more information. - Make sure to use the following settings in order to reproduce any error or warning you see on this page.  | 
| Package 426/2083 | Hostname | OS / Arch | INSTALL | BUILD | CHECK | BUILD BIN | ||||||||
| ctc 1.68.0  (landing page) Antoine Lucas 
  | nebbiolo2 | Linux (Ubuntu 20.04.4 LTS) / x86_64 | OK | OK | OK | |||||||||
| tokay2 | Windows Server 2012 R2 Standard / x64 | OK | OK | OK | OK | |||||||||
| machv2 | macOS 10.14.6 Mojave / x86_64 | OK | OK | OK | OK | |||||||||
| Package: ctc | 
| Version: 1.68.0 | 
| Command: /Library/Frameworks/R.framework/Resources/bin/R CMD check --install=check:ctc.install-out.txt --library=/Library/Frameworks/R.framework/Resources/library --no-vignettes --timings ctc_1.68.0.tar.gz | 
| StartedAt: 2022-04-12 12:06:34 -0400 (Tue, 12 Apr 2022) | 
| EndedAt: 2022-04-12 12:07:03 -0400 (Tue, 12 Apr 2022) | 
| EllapsedTime: 28.9 seconds | 
| RetCode: 0 | 
| Status: OK | 
| CheckDir: ctc.Rcheck | 
| Warnings: 0 | 
##############################################################################
##############################################################################
###
### Running command:
###
###   /Library/Frameworks/R.framework/Resources/bin/R CMD check --install=check:ctc.install-out.txt --library=/Library/Frameworks/R.framework/Resources/library --no-vignettes --timings ctc_1.68.0.tar.gz
###
##############################################################################
##############################################################################
* using log directory ‘/Users/biocbuild/bbs-3.14-bioc/meat/ctc.Rcheck’
* using R version 4.1.3 (2022-03-10)
* using platform: x86_64-apple-darwin17.0 (64-bit)
* using session charset: UTF-8
* using option ‘--no-vignettes’
* checking for file ‘ctc/DESCRIPTION’ ... OK
* this is package ‘ctc’ version ‘1.68.0’
* checking package namespace information ... OK
* checking package dependencies ... OK
* checking if this is a source package ... OK
* checking if there is a namespace ... OK
* checking for hidden files and directories ... OK
* checking for portable file names ... OK
* checking for sufficient/correct file permissions ... OK
* checking whether package ‘ctc’ can be installed ... OK
* checking installed package size ... OK
* checking package directory ... OK
* checking ‘build’ directory ... OK
* checking DESCRIPTION meta-information ... NOTE
Malformed Title field: should not end in a period.
Malformed Description field: should contain one or more complete sentences.
* checking top-level files ... OK
* checking for left-over files ... OK
* checking index information ... OK
* checking package subdirectories ... OK
* checking R files for non-ASCII characters ... OK
* checking R files for syntax errors ... OK
* checking whether the package can be loaded ... OK
* checking whether the package can be loaded with stated dependencies ... OK
* checking whether the package can be unloaded cleanly ... OK
* checking whether the namespace can be loaded with stated dependencies ... OK
* checking whether the namespace can be unloaded cleanly ... OK
* checking dependencies in R code ... NOTE
'library' or 'require' call to ‘amap’ which was already attached by Depends.
  Please remove these calls from your code.
Package in Depends field not imported from: ‘amap’
  These packages need to be imported from (in the NAMESPACE file)
  for when this namespace is loaded but not attached.
* checking S3 generic/method consistency ... OK
* checking replacement functions ... OK
* checking foreign function calls ... OK
* checking R code for possible problems ... NOTE
.First.lib: warning in .packages(all = TRUE): partial argument match of
  'all' to 'all.available'
.onLoad: warning in .packages(all = TRUE): partial argument match of
  'all' to 'all.available'
hclust2treeview: warning in .packages(all = TRUE): partial argument
  match of 'all' to 'all.available'
hclust2treeview: no visible global function definition for ‘hclust’
hclust2treeview: no visible global function definition for ‘dist’
r2atr: no visible global function definition for ‘write.table’
r2cdt: no visible global function definition for ‘write.table’
r2cluster: no visible global function definition for ‘write.table’
r2gtr: no visible global function definition for ‘write.table’
r2xcluster: no visible global function definition for ‘write.table’
read.eisen: no visible global function definition for ‘read.table’
xcluster2r: no visible global function definition for ‘read.table’
Undefined global functions or variables:
  dist hclust read.table write.table
Consider adding
  importFrom("stats", "dist", "hclust")
  importFrom("utils", "read.table", "write.table")
to your NAMESPACE file.
* checking Rd files ... OK
* checking Rd metadata ... OK
* checking Rd cross-references ... OK
* checking for missing documentation entries ... OK
* checking for code/documentation mismatches ... OK
* checking Rd \usage sections ... OK
* checking Rd contents ... OK
* checking for unstated dependencies in examples ... OK
* checking sizes of PDF files under ‘inst/doc’ ... OK
* checking files in ‘vignettes’ ... OK
* checking examples ... OK
* checking for unstated dependencies in vignettes ... OK
* checking package vignettes in ‘inst/doc’ ... OK
* checking running R code from vignettes ... SKIPPED
* checking re-building of vignette outputs ... SKIPPED
* checking PDF version of manual ... OK
* DONE
Status: 3 NOTEs
See
  ‘/Users/biocbuild/bbs-3.14-bioc/meat/ctc.Rcheck/00check.log’
for details.
ctc.Rcheck/00install.out
############################################################################## ############################################################################## ### ### Running command: ### ### /Library/Frameworks/R.framework/Resources/bin/R CMD INSTALL ctc ### ############################################################################## ############################################################################## * installing to library ‘/Library/Frameworks/R.framework/Versions/4.1/Resources/library’ * installing *source* package ‘ctc’ ... ** using staged installation ** R ** demo ** exec ** byte-compile and prepare package for lazy loading ** help *** installing help indices ** building package indices ** installing vignettes ** testing if installed package can be loaded from temporary location ** testing if installed package can be loaded from final location ** testing if installed package keeps a record of temporary installation path * DONE (ctc)
ctc.Rcheck/ctc-Ex.timings
| name | user | system | elapsed | |
| hc2Newick | 0.025 | 0.006 | 0.030 | |
| hclust2treeview | 0.035 | 0.033 | 0.068 | |
| r2cluster | 0.005 | 0.001 | 0.006 | |
| r2gtr | 0.011 | 0.002 | 0.013 | |
| r2xcluster | 0.005 | 0.001 | 0.005 | |
| xcluster | 0.000 | 0.001 | 0.001 | |
| xcluster2r | 0.005 | 0.001 | 0.006 | |