| Back to Multiple platform build/check report for BioC 3.14 | 
 | 
This page was generated on 2022-04-13 12:06:23 -0400 (Wed, 13 Apr 2022).
| Hostname | OS | Arch (*) | R version | Installed pkgs | 
|---|---|---|---|---|
| nebbiolo2 | Linux (Ubuntu 20.04.4 LTS) | x86_64 | 4.1.3 (2022-03-10) -- "One Push-Up" | 4324 | 
| tokay2 | Windows Server 2012 R2 Standard | x64 | 4.1.3 (2022-03-10) -- "One Push-Up" | 4077 | 
| machv2 | macOS 10.14.6 Mojave | x86_64 | 4.1.3 (2022-03-10) -- "One Push-Up" | 4137 | 
| Click on any hostname to see more info about the system (e.g. compilers) (*) as reported by 'uname -p', except on Windows and Mac OS X | ||||
| To the developers/maintainers of the cosmiq package: - Please allow up to 24 hours (and sometimes 48 hours) for your latest push to git@git.bioconductor.org:packages/cosmiq.git to reflect on this report. See How and When does the builder pull? When will my changes propagate? for more information. - Make sure to use the following settings in order to reproduce any error or warning you see on this page. | 
| Package 405/2083 | Hostname | OS / Arch | INSTALL | BUILD | CHECK | BUILD BIN | ||||||||
| cosmiq 1.28.0  (landing page) David Fischer 
 | nebbiolo2 | Linux (Ubuntu 20.04.4 LTS) / x86_64 | OK | OK | OK |  | ||||||||
| tokay2 | Windows Server 2012 R2 Standard / x64 | OK | OK | OK | OK |  | ||||||||
| machv2 | macOS 10.14.6 Mojave / x86_64 | OK | OK | OK | OK |  | ||||||||
| Package: cosmiq | 
| Version: 1.28.0 | 
| Command: rm -rf cosmiq.buildbin-libdir && mkdir cosmiq.buildbin-libdir && C:\Users\biocbuild\bbs-3.14-bioc\R\bin\R.exe CMD INSTALL --merge-multiarch --build --library=cosmiq.buildbin-libdir cosmiq_1.28.0.tar.gz | 
| StartedAt: 2022-04-13 05:57:14 -0400 (Wed, 13 Apr 2022) | 
| EndedAt: 2022-04-13 05:58:06 -0400 (Wed, 13 Apr 2022) | 
| EllapsedTime: 51.7 seconds | 
| RetCode: 0 | 
| Status: OK | 
| PackageFile: cosmiq_1.28.0.zip | 
| PackageFileSize: 310.5 KiB | 
##############################################################################
##############################################################################
###
### Running command:
###
###   rm -rf cosmiq.buildbin-libdir && mkdir cosmiq.buildbin-libdir && C:\Users\biocbuild\bbs-3.14-bioc\R\bin\R.exe CMD INSTALL --merge-multiarch --build --library=cosmiq.buildbin-libdir cosmiq_1.28.0.tar.gz
###
##############################################################################
##############################################################################
install for i386
* installing *source* package 'cosmiq' ...
** using staged installation
** libs
"C:/rtools40/mingw32/bin/"gcc  -I"C:/Users/BIOCBU~1/BBS-3~1.14-/R/include" -DNDEBUG     -I"C:/extsoft/include"     -O2 -Wall  -std=gnu99 -mfpmath=sse -msse2 -mstackrealign  -c util.c -o util.o
C:/rtools40/mingw32/bin/gcc -shared -s -static-libgcc -o cosmiq.dll tmp.def util.o -LC:/extsoft/lib/i386 -LC:/extsoft/lib -LC:/Users/BIOCBU~1/BBS-3~1.14-/R/bin/i386 -lR
installing to C:/Users/biocbuild/bbs-3.14-bioc/meat/cosmiq.buildbin-libdir/00LOCK-cosmiq/00new/cosmiq/libs/i386
** R
** inst
** byte-compile and prepare package for lazy loading
** help
*** installing help indices
  converting help for package 'cosmiq'
    finding HTML links ... done
    combine_spectra                         html  
    cosmiq                                  html  
    create_datamatrix                       html  
    eicmatrix                               html  
    peakdetection                           html  
    quantify_combined                       html  
    retention_time                          html  
** building package indices
** installing vignettes
** testing if installed package can be loaded from temporary location
** testing if installed package can be loaded from final location
** testing if installed package keeps a record of temporary installation path
install for x64
* installing *source* package 'cosmiq' ...
** libs
"C:/rtools40/mingw64/bin/"gcc  -I"C:/Users/BIOCBU~1/BBS-3~1.14-/R/include" -DNDEBUG     -I"C:/extsoft/include"     -O2 -Wall  -std=gnu99 -mfpmath=sse -msse2 -mstackrealign  -c util.c -o util.o
C:/rtools40/mingw64/bin/gcc -shared -s -static-libgcc -o cosmiq.dll tmp.def util.o -LC:/extsoft/lib/x64 -LC:/extsoft/lib -LC:/Users/BIOCBU~1/BBS-3~1.14-/R/bin/x64 -lR
installing to C:/Users/biocbuild/bbs-3.14-bioc/meat/cosmiq.buildbin-libdir/cosmiq/libs/x64
** testing if installed package can be loaded
* MD5 sums
packaged installation of 'cosmiq' as cosmiq_1.28.0.zip
* DONE (cosmiq)