| Back to Multiple platform build/check report for BioC 3.14 |
|
This page was generated on 2022-04-13 12:07:49 -0400 (Wed, 13 Apr 2022).
| Hostname | OS | Arch (*) | R version | Installed pkgs |
|---|---|---|---|---|
| nebbiolo2 | Linux (Ubuntu 20.04.4 LTS) | x86_64 | 4.1.3 (2022-03-10) -- "One Push-Up" | 4324 |
| tokay2 | Windows Server 2012 R2 Standard | x64 | 4.1.3 (2022-03-10) -- "One Push-Up" | 4077 |
| machv2 | macOS 10.14.6 Mojave | x86_64 | 4.1.3 (2022-03-10) -- "One Push-Up" | 4137 |
| Click on any hostname to see more info about the system (e.g. compilers) (*) as reported by 'uname -p', except on Windows and Mac OS X | ||||
|
To the developers/maintainers of the cola package: - Please allow up to 24 hours (and sometimes 48 hours) for your latest push to git@git.bioconductor.org:packages/cola.git to reflect on this report. See How and When does the builder pull? When will my changes propagate? for more information. - Make sure to use the following settings in order to reproduce any error or warning you see on this page. |
| Package 373/2083 | Hostname | OS / Arch | INSTALL | BUILD | CHECK | BUILD BIN | ||||||||
| cola 2.0.0 (landing page) Zuguang Gu
| nebbiolo2 | Linux (Ubuntu 20.04.4 LTS) / x86_64 | OK | OK | OK | |||||||||
| tokay2 | Windows Server 2012 R2 Standard / x64 | OK | OK | OK | OK | |||||||||
| machv2 | macOS 10.14.6 Mojave / x86_64 | OK | OK | OK | OK | |||||||||
| Package: cola |
| Version: 2.0.0 |
| Command: /Library/Frameworks/R.framework/Resources/bin/R CMD check --install=check:cola.install-out.txt --library=/Library/Frameworks/R.framework/Resources/library --no-vignettes --timings cola_2.0.0.tar.gz |
| StartedAt: 2022-04-12 11:50:35 -0400 (Tue, 12 Apr 2022) |
| EndedAt: 2022-04-12 11:55:31 -0400 (Tue, 12 Apr 2022) |
| EllapsedTime: 295.5 seconds |
| RetCode: 0 |
| Status: OK |
| CheckDir: cola.Rcheck |
| Warnings: 0 |
##############################################################################
##############################################################################
###
### Running command:
###
### /Library/Frameworks/R.framework/Resources/bin/R CMD check --install=check:cola.install-out.txt --library=/Library/Frameworks/R.framework/Resources/library --no-vignettes --timings cola_2.0.0.tar.gz
###
##############################################################################
##############################################################################
* using log directory ‘/Users/biocbuild/bbs-3.14-bioc/meat/cola.Rcheck’
* using R version 4.1.3 (2022-03-10)
* using platform: x86_64-apple-darwin17.0 (64-bit)
* using session charset: UTF-8
* using option ‘--no-vignettes’
* checking for file ‘cola/DESCRIPTION’ ... OK
* checking extension type ... Package
* this is package ‘cola’ version ‘2.0.0’
* checking package namespace information ... OK
* checking package dependencies ... OK
* checking if this is a source package ... OK
* checking if there is a namespace ... OK
* checking for hidden files and directories ... OK
* checking for portable file names ... OK
* checking for sufficient/correct file permissions ... OK
* checking whether package ‘cola’ can be installed ... OK
* checking installed package size ... NOTE
installed size is 6.0Mb
sub-directories of 1Mb or more:
data 3.5Mb
extdata 1.0Mb
* checking package directory ... OK
* checking ‘build’ directory ... OK
* checking DESCRIPTION meta-information ... OK
* checking top-level files ... OK
* checking for left-over files ... OK
* checking index information ... OK
* checking package subdirectories ... OK
* checking R files for non-ASCII characters ... OK
* checking R files for syntax errors ... OK
* checking whether the package can be loaded ... OK
* checking whether the package can be loaded with stated dependencies ... OK
* checking whether the package can be unloaded cleanly ... OK
* checking whether the namespace can be loaded with stated dependencies ... OK
* checking whether the namespace can be unloaded cleanly ... OK
* checking dependencies in R code ... OK
* checking S3 generic/method consistency ... OK
* checking replacement functions ... OK
* checking foreign function calls ... OK
* checking R code for possible problems ... OK
* checking Rd files ... OK
* checking Rd metadata ... OK
* checking Rd cross-references ... OK
* checking for missing documentation entries ... OK
* checking for code/documentation mismatches ... OK
* checking Rd \usage sections ... OK
* checking Rd contents ... OK
* checking for unstated dependencies in examples ... OK
* checking contents of ‘data’ directory ... OK
* checking data for non-ASCII characters ... OK
* checking data for ASCII and uncompressed saves ... OK
* checking line endings in C/C++/Fortran sources/headers ... OK
* checking compiled code ... NOTE
Note: information on .o files is not available
* checking files in ‘vignettes’ ... OK
* checking examples ... OK
Examples with CPU (user + system) or elapsed time > 5s
user system elapsed
consensus_partition 38.431 0.361 38.813
get_signatures-ConsensusPartition-method 8.352 0.136 8.499
compare_signatures-HierarchicalPartition-method 7.022 0.210 7.240
collect_classes-ConsensusPartitionList-method 5.338 0.055 5.398
* checking for unstated dependencies in ‘tests’ ... OK
* checking tests ...
Running ‘test-all.R’
OK
* checking for unstated dependencies in vignettes ... OK
* checking package vignettes in ‘inst/doc’ ... OK
* checking running R code from vignettes ... SKIPPED
* checking re-building of vignette outputs ... SKIPPED
* checking PDF version of manual ... OK
* DONE
Status: 2 NOTEs
See
‘/Users/biocbuild/bbs-3.14-bioc/meat/cola.Rcheck/00check.log’
for details.
cola.Rcheck/00install.out
############################################################################## ############################################################################## ### ### Running command: ### ### /Library/Frameworks/R.framework/Resources/bin/R CMD INSTALL cola ### ############################################################################## ############################################################################## * installing to library ‘/Library/Frameworks/R.framework/Versions/4.1/Resources/library’ * installing *source* package ‘cola’ ... ** using staged installation ** libs clang++ -mmacosx-version-min=10.13 -std=gnu++14 -I"/Library/Frameworks/R.framework/Resources/include" -DNDEBUG -I'/Library/Frameworks/R.framework/Versions/4.1/Resources/library/Rcpp/include' -I/usr/local/include -fPIC -Wall -g -O2 -c RcppExports.cpp -o RcppExports.o clang++ -mmacosx-version-min=10.13 -std=gnu++14 -I"/Library/Frameworks/R.framework/Resources/include" -DNDEBUG -I'/Library/Frameworks/R.framework/Versions/4.1/Resources/library/Rcpp/include' -I/usr/local/include -fPIC -Wall -g -O2 -c atc.cpp -o atc.o clang++ -mmacosx-version-min=10.13 -std=gnu++14 -I"/Library/Frameworks/R.framework/Resources/include" -DNDEBUG -I'/Library/Frameworks/R.framework/Versions/4.1/Resources/library/Rcpp/include' -I/usr/local/include -fPIC -Wall -g -O2 -c cal_consensus_mat.cpp -o cal_consensus_mat.o clang++ -mmacosx-version-min=10.13 -std=gnu++14 -I"/Library/Frameworks/R.framework/Resources/include" -DNDEBUG -I'/Library/Frameworks/R.framework/Versions/4.1/Resources/library/Rcpp/include' -I/usr/local/include -fPIC -Wall -g -O2 -c pdist.cpp -o pdist.o clang++ -mmacosx-version-min=10.13 -std=gnu++14 -dynamiclib -Wl,-headerpad_max_install_names -undefined dynamic_lookup -single_module -multiply_defined suppress -L/Library/Frameworks/R.framework/Resources/lib -L/usr/local/lib -o cola.so RcppExports.o atc.o cal_consensus_mat.o pdist.o -F/Library/Frameworks/R.framework/.. -framework R -Wl,-framework -Wl,CoreFoundation installing to /Library/Frameworks/R.framework/Versions/4.1/Resources/library/00LOCK-cola/00new/cola/libs ** R ** data ** inst ** byte-compile and prepare package for lazy loading ** help *** installing help indices ** building package indices ** installing vignettes ** testing if installed package can be loaded from temporary location ** checking absolute paths in shared objects and dynamic libraries ** testing if installed package can be loaded from final location ** testing if installed package keeps a record of temporary installation path * DONE (cola)
cola.Rcheck/tests/test-all.Rout
R version 4.1.3 (2022-03-10) -- "One Push-Up"
Copyright (C) 2022 The R Foundation for Statistical Computing
Platform: x86_64-apple-darwin17.0 (64-bit)
R is free software and comes with ABSOLUTELY NO WARRANTY.
You are welcome to redistribute it under certain conditions.
Type 'license()' or 'licence()' for distribution details.
R is a collaborative project with many contributors.
Type 'contributors()' for more information and
'citation()' on how to cite R or R packages in publications.
Type 'demo()' for some demos, 'help()' for on-line help, or
'help.start()' for an HTML browser interface to help.
Type 'q()' to quit R.
> library(testthat)
> suppressWarnings(suppressPackageStartupMessages(library(cola)))
>
> test_check("cola")
[ FAIL 0 | WARN 0 | SKIP 0 | PASS 18 ]
>
>
> proc.time()
user system elapsed
6.668 0.373 7.026
cola.Rcheck/cola-Ex.timings
| name | user | system | elapsed | |
| ATC | 0.037 | 0.004 | 0.042 | |
| ATC_approx | 0.000 | 0.000 | 0.001 | |
| ConsensusPartition-class | 0.000 | 0.001 | 0.000 | |
| ConsensusPartitionList-class | 0.000 | 0.000 | 0.001 | |
| DownSamplingConsensusPartition-class | 0 | 0 | 0 | |
| Extract.ConsensusPartitionList | 0.560 | 0.023 | 0.582 | |
| Extract.HierarchicalPartition | 0.234 | 0.004 | 0.238 | |
| ExtractExtract.ConsensusPartitionList | 0.309 | 0.008 | 0.316 | |
| ExtractExtract.HierarchicalPartition | 0 | 0 | 0 | |
| FCC | 0.303 | 0.011 | 0.315 | |
| HierarchicalPartition-class | 0 | 0 | 0 | |
| PAC | 0.304 | 0.011 | 0.315 | |
| aPAC | 0.59 | 0.01 | 0.60 | |
| adjust_matrix | 0.011 | 0.002 | 0.014 | |
| adjust_outlier | 0.001 | 0.001 | 0.002 | |
| all_leaves-HierarchicalPartition-method | 0.200 | 0.004 | 0.203 | |
| all_nodes-HierarchicalPartition-method | 0.208 | 0.006 | 0.214 | |
| all_partition_methods | 0.002 | 0.001 | 0.002 | |
| all_top_value_methods | 0.001 | 0.001 | 0.000 | |
| cola | 0.107 | 0.002 | 0.108 | |
| cola_opt | 0.043 | 0.002 | 0.044 | |
| cola_report-ConsensusPartition-method | 0 | 0 | 0 | |
| cola_report-ConsensusPartitionList-method | 0.001 | 0.001 | 0.001 | |
| cola_report-HierarchicalPartition-method | 0.000 | 0.000 | 0.001 | |
| cola_report-dispatch | 0.000 | 0.001 | 0.001 | |
| cola_rl | 0.190 | 0.005 | 0.195 | |
| collect_classes-ConsensusPartition-method | 3.605 | 0.079 | 3.687 | |
| collect_classes-ConsensusPartitionList-method | 5.338 | 0.055 | 5.398 | |
| collect_classes-HierarchicalPartition-method | 2.724 | 0.051 | 2.778 | |
| collect_classes-dispatch | 0.000 | 0.001 | 0.000 | |
| collect_plots-ConsensusPartition-method | 0 | 0 | 0 | |
| collect_plots-ConsensusPartitionList-method | 0 | 0 | 0 | |
| collect_plots-dispatch | 0.000 | 0.000 | 0.001 | |
| collect_stats-ConsensusPartition-method | 0.000 | 0.001 | 0.000 | |
| collect_stats-ConsensusPartitionList-method | 0.718 | 0.006 | 0.724 | |
| collect_stats-dispatch | 0.001 | 0.000 | 0.001 | |
| colnames-ConsensusPartition-method | 0.001 | 0.001 | 0.000 | |
| colnames-ConsensusPartitionList-method | 0.001 | 0.001 | 0.000 | |
| colnames-DownSamplingConsensusPartition-method | 0.001 | 0.000 | 0.000 | |
| colnames-HierarchicalPartition-method | 0.001 | 0.000 | 0.000 | |
| colnames-dispatch | 0.001 | 0.000 | 0.000 | |
| compare_partitions-ConsensusPartition-method | 0.000 | 0.000 | 0.001 | |
| compare_signatures-ConsensusPartition-method | 0.000 | 0.000 | 0.001 | |
| compare_signatures-HierarchicalPartition-method | 7.022 | 0.210 | 7.240 | |
| compare_signatures-dispatch | 0.000 | 0.000 | 0.001 | |
| concordance | 0.215 | 0.004 | 0.219 | |
| config_ATC | 0.001 | 0.000 | 0.001 | |
| consensus_heatmap-ConsensusPartition-method | 0.953 | 0.011 | 0.990 | |
| consensus_partition | 38.431 | 0.361 | 38.813 | |
| consensus_partition_by_down_sampling | 0.001 | 0.000 | 0.000 | |
| correspond_between_rankings | 0.097 | 0.002 | 0.099 | |
| correspond_between_two_rankings | 0.047 | 0.002 | 0.048 | |
| david_enrichment | 0.000 | 0.000 | 0.001 | |
| dim.ConsensusPartition | 0 | 0 | 0 | |
| dim.ConsensusPartitionList | 0.000 | 0.001 | 0.001 | |
| dim.DownSamplingConsensusPartition | 0.000 | 0.001 | 0.000 | |
| dim.HierarchicalPartition | 0 | 0 | 0 | |
| dimension_reduction-ConsensusPartition-method | 1.075 | 0.040 | 1.115 | |
| dimension_reduction-DownSamplingConsensusPartition-method | 1.865 | 0.057 | 1.926 | |
| dimension_reduction-HierarchicalPartition-method | 0.899 | 0.028 | 0.928 | |
| dimension_reduction-dispatch | 0.000 | 0.000 | 0.001 | |
| dimension_reduction-matrix-method | 0.000 | 0.000 | 0.001 | |
| find_best_km | 0.000 | 0.000 | 0.001 | |
| functional_enrichment-ANY-method | 0.000 | 0.001 | 0.000 | |
| functional_enrichment-ConsensusPartition-method | 0.000 | 0.001 | 0.000 | |
| functional_enrichment-ConsensusPartitionList-method | 0 | 0 | 0 | |
| functional_enrichment-HierarchicalPartition-method | 0.000 | 0.000 | 0.001 | |
| functional_enrichment-dispatch | 0.000 | 0.001 | 0.000 | |
| get_anno-ConsensusPartition-method | 0 | 0 | 0 | |
| get_anno-ConsensusPartitionList-method | 0 | 0 | 0 | |
| get_anno-DownSamplingConsensusPartition-method | 0.110 | 0.006 | 0.116 | |
| get_anno-HierarchicalPartition-method | 0 | 0 | 0 | |
| get_anno-dispatch | 0.000 | 0.001 | 0.001 | |
| get_anno_col-ConsensusPartition-method | 0.001 | 0.000 | 0.001 | |
| get_anno_col-ConsensusPartitionList-method | 0.000 | 0.000 | 0.001 | |
| get_anno_col-HierarchicalPartition-method | 0 | 0 | 0 | |
| get_anno_col-dispatch | 0.001 | 0.001 | 0.001 | |
| get_children_nodes-HierarchicalPartition-method | 0.000 | 0.001 | 0.001 | |
| get_classes-ConsensusPartition-method | 0.286 | 0.011 | 0.298 | |
| get_classes-ConsensusPartitionList-method | 0.277 | 0.008 | 0.285 | |
| get_classes-DownSamplingConsensusPartition-method | 0.134 | 0.008 | 0.143 | |
| get_classes-HierarchicalPartition-method | 0.217 | 0.005 | 0.223 | |
| get_classes-dispatch | 0 | 0 | 0 | |
| get_consensus-ConsensusPartition-method | 0.294 | 0.040 | 0.335 | |
| get_matrix-ConsensusPartition-method | 0.742 | 0.976 | 1.778 | |
| get_matrix-ConsensusPartitionList-method | 0.767 | 1.105 | 1.898 | |
| get_matrix-HierarchicalPartition-method | 0.001 | 0.000 | 0.001 | |
| get_matrix-dispatch | 0.001 | 0.000 | 0.001 | |
| get_membership-ConsensusPartition-method | 0.302 | 0.050 | 0.352 | |
| get_membership-ConsensusPartitionList-method | 0.261 | 0.006 | 0.268 | |
| get_membership-dispatch | 0 | 0 | 0 | |
| get_param-ConsensusPartition-method | 0.308 | 0.020 | 0.329 | |
| get_signatures-ConsensusPartition-method | 8.352 | 0.136 | 8.499 | |
| get_signatures-DownSamplingConsensusPartition-method | 0 | 0 | 0 | |
| get_signatures-HierarchicalPartition-method | 0.000 | 0.000 | 0.001 | |
| get_signatures-dispatch | 0.000 | 0.001 | 0.001 | |
| get_stats-ConsensusPartition-method | 0.287 | 0.006 | 0.293 | |
| get_stats-ConsensusPartitionList-method | 0.208 | 0.005 | 0.214 | |
| get_stats-dispatch | 0.000 | 0.001 | 0.001 | |
| golub_cola | 0.327 | 0.006 | 0.334 | |
| golub_cola_ds | 0.172 | 0.004 | 0.176 | |
| golub_cola_rh | 0.285 | 0.005 | 0.291 | |
| hierarchical_partition | 0.000 | 0.000 | 0.001 | |
| is_best_k-ConsensusPartition-method | 0.250 | 0.003 | 0.254 | |
| is_best_k-ConsensusPartitionList-method | 0.294 | 0.005 | 0.344 | |
| is_best_k-dispatch | 0.000 | 0.001 | 0.000 | |
| is_leaf_node-HierarchicalPartition-method | 0.201 | 0.003 | 0.204 | |
| is_stable_k-ConsensusPartition-method | 0.294 | 0.008 | 0.302 | |
| is_stable_k-ConsensusPartitionList-method | 0.297 | 0.005 | 0.301 | |
| is_stable_k-dispatch | 0.001 | 0.000 | 0.001 | |
| knee_finder2 | 0.032 | 0.005 | 0.038 | |
| knitr_add_tab_item | 0.001 | 0.001 | 0.000 | |
| knitr_insert_tabs | 0.001 | 0.001 | 0.000 | |
| map_to_entrez_id | 0.000 | 0.001 | 0.000 | |
| max_depth-HierarchicalPartition-method | 0.190 | 0.004 | 0.194 | |
| membership_heatmap-ConsensusPartition-method | 0.793 | 0.009 | 0.803 | |
| merge_node-HierarchicalPartition-method | 0.000 | 0.001 | 0.000 | |
| merge_node_param | 0.000 | 0.001 | 0.000 | |
| ncol-ConsensusPartition-method | 0 | 0 | 0 | |
| ncol-ConsensusPartitionList-method | 0.001 | 0.000 | 0.000 | |
| ncol-DownSamplingConsensusPartition-method | 0.001 | 0.000 | 0.000 | |
| ncol-HierarchicalPartition-method | 0 | 0 | 0 | |
| ncol-dispatch | 0.001 | 0.000 | 0.001 | |
| node_info-HierarchicalPartition-method | 0.001 | 0.000 | 0.001 | |
| node_level-HierarchicalPartition-method | 0.000 | 0.001 | 0.001 | |
| nrow-ConsensusPartition-method | 0.000 | 0.001 | 0.001 | |
| nrow-ConsensusPartitionList-method | 0.000 | 0.001 | 0.001 | |
| nrow-HierarchicalPartition-method | 0 | 0 | 0 | |
| nrow-dispatch | 0.001 | 0.000 | 0.001 | |
| plot_ecdf-ConsensusPartition-method | 0.283 | 0.007 | 0.290 | |
| predict_classes-ConsensusPartition-method | 0.000 | 0.000 | 0.001 | |
| predict_classes-dispatch | 0.000 | 0.001 | 0.000 | |
| predict_classes-matrix-method | 0.000 | 0.001 | 0.001 | |
| print.hc_table_suggest_best_k | 0.000 | 0.001 | 0.001 | |
| recalc_stats | 0.000 | 0.001 | 0.000 | |
| register_NMF | 0.000 | 0.001 | 0.001 | |
| register_SOM | 0.000 | 0.001 | 0.001 | |
| register_partition_methods | 0.577 | 0.025 | 0.602 | |
| register_top_value_methods | 0.002 | 0.001 | 0.002 | |
| relabel_class | 0.015 | 0.004 | 0.019 | |
| remove_partition_methods | 0.000 | 0.000 | 0.001 | |
| remove_top_value_methods | 0 | 0 | 0 | |
| rownames-ConsensusPartition-method | 0.001 | 0.001 | 0.001 | |
| rownames-ConsensusPartitionList-method | 0.000 | 0.000 | 0.001 | |
| rownames-HierarchicalPartition-method | 0 | 0 | 0 | |
| rownames-dispatch | 0 | 0 | 0 | |
| run_all_consensus_partition_methods | 0.000 | 0.000 | 0.001 | |
| select_partition_number-ConsensusPartition-method | 0.253 | 0.004 | 0.258 | |
| show-ConsensusPartition-method | 0 | 0 | 0 | |
| show-ConsensusPartitionList-method | 0 | 0 | 0 | |
| show-DownSamplingConsensusPartition-method | 0.154 | 0.005 | 0.159 | |
| show-HierarchicalPartition-method | 0.253 | 0.005 | 0.257 | |
| show-dispatch | 0.000 | 0.001 | 0.001 | |
| split_node-HierarchicalPartition-method | 0 | 0 | 0 | |
| suggest_best_k-ConsensusPartition-method | 0.261 | 0.003 | 0.264 | |
| suggest_best_k-ConsensusPartitionList-method | 0.276 | 0.006 | 0.282 | |
| suggest_best_k-HierarchicalPartition-method | 0.180 | 0.005 | 0.185 | |
| suggest_best_k-dispatch | 0 | 0 | 0 | |
| test_between_factors | 0.016 | 0.001 | 0.017 | |
| test_to_known_factors-ConsensusPartition-method | 0.307 | 0.006 | 0.313 | |
| test_to_known_factors-ConsensusPartitionList-method | 0.532 | 0.006 | 0.538 | |
| test_to_known_factors-DownSamplingConsensusPartition-method | 0.169 | 0.003 | 0.172 | |
| test_to_known_factors-HierarchicalPartition-method | 0.171 | 0.003 | 0.174 | |
| test_to_known_factors-dispatch | 0.000 | 0.001 | 0.000 | |
| top_elements_overlap | 0.276 | 0.010 | 0.286 | |
| top_rows_heatmap-ConsensusPartition-method | 0.001 | 0.000 | 0.001 | |
| top_rows_heatmap-ConsensusPartitionList-method | 0 | 0 | 0 | |
| top_rows_heatmap-HierarchicalPartition-method | 0.000 | 0.001 | 0.000 | |
| top_rows_heatmap-dispatch | 0.000 | 0.000 | 0.001 | |
| top_rows_heatmap-matrix-method | 4.512 | 0.225 | 4.759 | |
| top_rows_overlap-ConsensusPartitionList-method | 1.077 | 0.039 | 1.116 | |
| top_rows_overlap-HierarchicalPartition-method | 0.843 | 0.018 | 0.864 | |
| top_rows_overlap-dispatch | 0.000 | 0.000 | 0.001 | |
| top_rows_overlap-matrix-method | 0.231 | 0.002 | 0.233 | |