| Back to Multiple platform build/check report for BioC 3.14 | 
 | 
This page was generated on 2022-04-13 12:06:22 -0400 (Wed, 13 Apr 2022).
| Hostname | OS | Arch (*) | R version | Installed pkgs | 
|---|---|---|---|---|
| nebbiolo2 | Linux (Ubuntu 20.04.4 LTS) | x86_64 | 4.1.3 (2022-03-10) -- "One Push-Up" | 4324 | 
| tokay2 | Windows Server 2012 R2 Standard | x64 | 4.1.3 (2022-03-10) -- "One Push-Up" | 4077 | 
| machv2 | macOS 10.14.6 Mojave | x86_64 | 4.1.3 (2022-03-10) -- "One Push-Up" | 4137 | 
| Click on any hostname to see more info about the system (e.g. compilers) (*) as reported by 'uname -p', except on Windows and Mac OS X | ||||
| To the developers/maintainers of the cogena package: - Please allow up to 24 hours (and sometimes 48 hours) for your latest push to git@git.bioconductor.org:packages/cogena.git to reflect on this report. See How and When does the builder pull? When will my changes propagate? for more information. - Make sure to use the following settings in order to reproduce any error or warning you see on this page. | 
| Package 369/2083 | Hostname | OS / Arch | INSTALL | BUILD | CHECK | BUILD BIN | ||||||||
| cogena 1.28.0  (landing page) Zhilong Jia 
 | nebbiolo2 | Linux (Ubuntu 20.04.4 LTS) / x86_64 | OK | OK | WARNINGS |  | ||||||||
| tokay2 | Windows Server 2012 R2 Standard / x64 | OK | OK | WARNINGS | OK |  | ||||||||
| machv2 | macOS 10.14.6 Mojave / x86_64 | OK | OK | WARNINGS | OK |  | ||||||||
| Package: cogena | 
| Version: 1.28.0 | 
| Command: C:\cygwin\bin\curl.exe -O http://155.52.207.166/BBS/3.14/bioc/src/contrib/cogena_1.28.0.tar.gz && rm -rf cogena.buildbin-libdir && mkdir cogena.buildbin-libdir && C:\Users\biocbuild\bbs-3.14-bioc\R\bin\R.exe CMD INSTALL --merge-multiarch --build --library=cogena.buildbin-libdir cogena_1.28.0.tar.gz && C:\Users\biocbuild\bbs-3.14-bioc\R\bin\R.exe CMD INSTALL cogena_1.28.0.zip && rm cogena_1.28.0.tar.gz cogena_1.28.0.zip | 
| StartedAt: 2022-04-12 06:56:58 -0400 (Tue, 12 Apr 2022) | 
| EndedAt: 2022-04-12 06:58:47 -0400 (Tue, 12 Apr 2022) | 
| EllapsedTime: 109.0 seconds | 
| RetCode: 0 | 
| Status: OK | 
##############################################################################
##############################################################################
###
### Running command:
###
###   C:\cygwin\bin\curl.exe -O http://155.52.207.166/BBS/3.14/bioc/src/contrib/cogena_1.28.0.tar.gz && rm -rf cogena.buildbin-libdir && mkdir cogena.buildbin-libdir && C:\Users\biocbuild\bbs-3.14-bioc\R\bin\R.exe CMD INSTALL --merge-multiarch --build --library=cogena.buildbin-libdir cogena_1.28.0.tar.gz && C:\Users\biocbuild\bbs-3.14-bioc\R\bin\R.exe CMD INSTALL cogena_1.28.0.zip && rm cogena_1.28.0.tar.gz cogena_1.28.0.zip
###
##############################################################################
##############################################################################
  % Total    % Received % Xferd  Average Speed   Time    Time     Time  Current
                                 Dload  Upload   Total   Spent    Left  Speed
  0     0    0     0    0     0      0      0 --:--:-- --:--:-- --:--:--     0
 14 4588k   14  673k    0     0   993k      0  0:00:04 --:--:--  0:00:04  993k
 56 4588k   56 2574k    0     0  1532k      0  0:00:02  0:00:01  0:00:01 1533k
100 4588k  100 4588k    0     0  1897k      0  0:00:02  0:00:02 --:--:-- 1897k
install for i386
* installing *source* package 'cogena' ...
** using staged installation
** R
** data
*** moving datasets to lazyload DB
** inst
** byte-compile and prepare package for lazy loading
Warning: replacing previous import 'class::somgrid' by 'kohonen::somgrid' when loading 'cogena'
** help
*** installing help indices
  converting help for package 'cogena'
    finding HTML links ... done
    AllGeneSymbols                          html  
    DEexprs                                 html  
    PEI                                     html  
    Psoriasis                               html  
    clEnrich                                html  
    clEnrich_one                            html  
    clusterMethods                          html  
    coExp                                   html  
    cogena_class                            html  
    cogena_package                          html  
    corInCluster                            html  
    enrichment                              html  
    gene2set                                html  
    geneExpInCluster                        html  
    geneInCluster                           html  
    genecl_class                            html  
    geneclusters                            html  
    gmt2list                                html  
    gmtlist2file                            html  
    heatmap.3                               html  
    heatmapCluster                          html  
    heatmapCmap                             html  
    heatmapPEI                              html  
    mat                                     html  
    nClusters                               html  
    pClusters                               html  
    sampleLabel                             html  
    show                                    html  
    sota                                    html  
    summary                                 html  
    upDownGene                              html  
** building package indices
** installing vignettes
** testing if installed package can be loaded from temporary location
Warning: replacing previous import 'class::somgrid' by 'kohonen::somgrid' when loading 'cogena'
** testing if installed package can be loaded from final location
Warning: replacing previous import 'class::somgrid' by 'kohonen::somgrid' when loading 'cogena'
** testing if installed package keeps a record of temporary installation path
install for x64
* installing *source* package 'cogena' ...
** testing if installed package can be loaded
Warning: replacing previous import 'class::somgrid' by 'kohonen::somgrid' when loading 'cogena'
* MD5 sums
packaged installation of 'cogena' as cogena_1.28.0.zip
* DONE (cogena)
* installing to library 'C:/Users/biocbuild/bbs-3.14-bioc/R/library'
package 'cogena' successfully unpacked and MD5 sums checked