| Back to Multiple platform build/check report for BioC 3.14 |
|
This page was generated on 2022-04-13 12:06:22 -0400 (Wed, 13 Apr 2022).
| Hostname | OS | Arch (*) | R version | Installed pkgs |
|---|---|---|---|---|
| nebbiolo2 | Linux (Ubuntu 20.04.4 LTS) | x86_64 | 4.1.3 (2022-03-10) -- "One Push-Up" | 4324 |
| tokay2 | Windows Server 2012 R2 Standard | x64 | 4.1.3 (2022-03-10) -- "One Push-Up" | 4077 |
| machv2 | macOS 10.14.6 Mojave | x86_64 | 4.1.3 (2022-03-10) -- "One Push-Up" | 4137 |
| Click on any hostname to see more info about the system (e.g. compilers) (*) as reported by 'uname -p', except on Windows and Mac OS X | ||||
|
To the developers/maintainers of the codelink package: - Please allow up to 24 hours (and sometimes 48 hours) for your latest push to git@git.bioconductor.org:packages/codelink.git to reflect on this report. See How and When does the builder pull? When will my changes propagate? for more information. - Make sure to use the following settings in order to reproduce any error or warning you see on this page. |
| Package 365/2083 | Hostname | OS / Arch | INSTALL | BUILD | CHECK | BUILD BIN | ||||||||
| codelink 1.62.0 (landing page) Diego Diez
| nebbiolo2 | Linux (Ubuntu 20.04.4 LTS) / x86_64 | OK | OK | OK | |||||||||
| tokay2 | Windows Server 2012 R2 Standard / x64 | OK | OK | OK | OK | |||||||||
| machv2 | macOS 10.14.6 Mojave / x86_64 | OK | OK | OK | OK | |||||||||
| Package: codelink |
| Version: 1.62.0 |
| Command: rm -rf codelink.buildbin-libdir && mkdir codelink.buildbin-libdir && C:\Users\biocbuild\bbs-3.14-bioc\R\bin\R.exe CMD INSTALL --merge-multiarch --build --library=codelink.buildbin-libdir codelink_1.62.0.tar.gz |
| StartedAt: 2022-04-13 05:54:44 -0400 (Wed, 13 Apr 2022) |
| EndedAt: 2022-04-13 05:55:33 -0400 (Wed, 13 Apr 2022) |
| EllapsedTime: 48.9 seconds |
| RetCode: 0 |
| Status: OK |
| PackageFile: codelink_1.62.0.zip |
| PackageFileSize: 3.613 MiB |
##############################################################################
##############################################################################
###
### Running command:
###
### rm -rf codelink.buildbin-libdir && mkdir codelink.buildbin-libdir && C:\Users\biocbuild\bbs-3.14-bioc\R\bin\R.exe CMD INSTALL --merge-multiarch --build --library=codelink.buildbin-libdir codelink_1.62.0.tar.gz
###
##############################################################################
##############################################################################
install for i386
* installing *source* package 'codelink' ...
** using staged installation
** R
** data
** inst
** byte-compile and prepare package for lazy loading
** help
*** installing help indices
converting help for package 'codelink'
finding HTML links ... done
Codelink-class html
CodelinkSet-class html
finding level-2 HTML links ... done
CodelinkSetUnique-class html
Nondocumented-objects html
SNR html
arrayNew html
arraySize html
as.matrix.Codelink html
averageProbes html
bkgdCorrect html
codPlot html
codelink.example html
codset html
createWeights html
cutCV html
decDetect html
dim.Codelink html
fc2Cond html
imageCodelink html
logCodelink html
mergeArray html
na2false html
normalize html
plotCV html
plotCorrelation html
plotDensities html
plotMA html
printHead html
readCodelink html
readHeader html
readHeaderXLS html
reportCodelink html
selCV html
writeCodelink html
** building package indices
** installing vignettes
** testing if installed package can be loaded from temporary location
** testing if installed package can be loaded from final location
** testing if installed package keeps a record of temporary installation path
install for x64
* installing *source* package 'codelink' ...
** testing if installed package can be loaded
* MD5 sums
packaged installation of 'codelink' as codelink_1.62.0.zip
* DONE (codelink)