| Back to Multiple platform build/check report for BioC 3.14 |
|
This page was generated on 2022-04-13 12:07:48 -0400 (Wed, 13 Apr 2022).
| Hostname | OS | Arch (*) | R version | Installed pkgs |
|---|---|---|---|---|
| nebbiolo2 | Linux (Ubuntu 20.04.4 LTS) | x86_64 | 4.1.3 (2022-03-10) -- "One Push-Up" | 4324 |
| tokay2 | Windows Server 2012 R2 Standard | x64 | 4.1.3 (2022-03-10) -- "One Push-Up" | 4077 |
| machv2 | macOS 10.14.6 Mojave | x86_64 | 4.1.3 (2022-03-10) -- "One Push-Up" | 4137 |
| Click on any hostname to see more info about the system (e.g. compilers) (*) as reported by 'uname -p', except on Windows and Mac OS X | ||||
|
To the developers/maintainers of the cn.mops package: - Please allow up to 24 hours (and sometimes 48 hours) for your latest push to git@git.bioconductor.org:packages/cn.mops.git to reflect on this report. See How and When does the builder pull? When will my changes propagate? for more information. - Make sure to use the following settings in order to reproduce any error or warning you see on this page. |
| Package 348/2083 | Hostname | OS / Arch | INSTALL | BUILD | CHECK | BUILD BIN | ||||||||
| cn.mops 1.40.0 (landing page) Gundula Povysil
| nebbiolo2 | Linux (Ubuntu 20.04.4 LTS) / x86_64 | OK | OK | OK | |||||||||
| tokay2 | Windows Server 2012 R2 Standard / x64 | OK | OK | OK | OK | |||||||||
| machv2 | macOS 10.14.6 Mojave / x86_64 | OK | OK | OK | OK | |||||||||
| Package: cn.mops |
| Version: 1.40.0 |
| Command: /Library/Frameworks/R.framework/Resources/bin/R CMD check --install=check:cn.mops.install-out.txt --library=/Library/Frameworks/R.framework/Resources/library --no-vignettes --timings cn.mops_1.40.0.tar.gz |
| StartedAt: 2022-04-12 11:42:41 -0400 (Tue, 12 Apr 2022) |
| EndedAt: 2022-04-12 11:47:59 -0400 (Tue, 12 Apr 2022) |
| EllapsedTime: 317.8 seconds |
| RetCode: 0 |
| Status: OK |
| CheckDir: cn.mops.Rcheck |
| Warnings: 0 |
##############################################################################
##############################################################################
###
### Running command:
###
### /Library/Frameworks/R.framework/Resources/bin/R CMD check --install=check:cn.mops.install-out.txt --library=/Library/Frameworks/R.framework/Resources/library --no-vignettes --timings cn.mops_1.40.0.tar.gz
###
##############################################################################
##############################################################################
* using log directory ‘/Users/biocbuild/bbs-3.14-bioc/meat/cn.mops.Rcheck’
* using R version 4.1.3 (2022-03-10)
* using platform: x86_64-apple-darwin17.0 (64-bit)
* using session charset: UTF-8
* using option ‘--no-vignettes’
* checking for file ‘cn.mops/DESCRIPTION’ ... OK
* checking extension type ... Package
* this is package ‘cn.mops’ version ‘1.40.0’
* checking package namespace information ... OK
* checking package dependencies ... OK
* checking if this is a source package ... OK
* checking if there is a namespace ... OK
* checking for hidden files and directories ... OK
* checking for portable file names ... OK
* checking for sufficient/correct file permissions ... OK
* checking whether package ‘cn.mops’ can be installed ... OK
* checking installed package size ... OK
* checking package directory ... OK
* checking ‘build’ directory ... OK
* checking DESCRIPTION meta-information ... OK
* checking top-level files ... OK
* checking for left-over files ... OK
* checking index information ... OK
* checking package subdirectories ... OK
* checking R files for non-ASCII characters ... OK
* checking R files for syntax errors ... OK
* checking whether the package can be loaded ... OK
* checking whether the package can be loaded with stated dependencies ... OK
* checking whether the package can be unloaded cleanly ... OK
* checking whether the namespace can be loaded with stated dependencies ... OK
* checking whether the namespace can be unloaded cleanly ... OK
* checking dependencies in R code ... OK
* checking S3 generic/method consistency ... OK
* checking replacement functions ... OK
* checking foreign function calls ... OK
* checking R code for possible problems ... OK
* checking Rd files ... OK
* checking Rd metadata ... OK
* checking Rd cross-references ... OK
* checking for missing documentation entries ... OK
* checking for code/documentation mismatches ... OK
* checking Rd \usage sections ... OK
* checking Rd contents ... OK
* checking for unstated dependencies in examples ... OK
* checking contents of ‘data’ directory ... OK
* checking data for non-ASCII characters ... OK
* checking data for ASCII and uncompressed saves ... OK
* checking line endings in C/C++/Fortran sources/headers ... OK
* checking compiled code ... NOTE
Note: information on .o files is not available
* checking sizes of PDF files under ‘inst/doc’ ... OK
* checking files in ‘vignettes’ ... OK
* checking examples ... OK
Examples with CPU (user + system) or elapsed time > 5s
user system elapsed
referencecn.mops 13.793 0.048 30.181
cn.mops 11.533 0.191 32.833
calcFractionalCopyNumbers-CNVDetectionResult-method 11.552 0.096 11.660
calcFractionalCopyNumbers 11.408 0.039 11.457
exomecn.mops 5.010 0.028 5.045
haplocn.mops 2.185 0.032 18.594
getReadCountsFromBAM 1.044 0.016 9.214
getSegmentReadCountsFromBAM 0.633 0.012 8.739
* checking for unstated dependencies in vignettes ... OK
* checking package vignettes in ‘inst/doc’ ... OK
* checking running R code from vignettes ... SKIPPED
* checking re-building of vignette outputs ... SKIPPED
* checking PDF version of manual ... OK
* DONE
Status: 1 NOTE
See
‘/Users/biocbuild/bbs-3.14-bioc/meat/cn.mops.Rcheck/00check.log’
for details.
cn.mops.Rcheck/00install.out
##############################################################################
##############################################################################
###
### Running command:
###
### /Library/Frameworks/R.framework/Resources/bin/R CMD INSTALL cn.mops
###
##############################################################################
##############################################################################
* installing to library ‘/Library/Frameworks/R.framework/Versions/4.1/Resources/library’
* installing *source* package ‘cn.mops’ ...
** using staged installation
** libs
clang -mmacosx-version-min=10.13 -I"/Library/Frameworks/R.framework/Resources/include" -DNDEBUG -I/usr/local/include -fPIC -Wall -g -O2 -c R_init_cnmops.c -o R_init_cnmops.o
clang++ -mmacosx-version-min=10.13 -std=gnu++14 -I"/Library/Frameworks/R.framework/Resources/include" -DNDEBUG -I/usr/local/include -fPIC -Wall -g -O2 -c cnmops.cpp -o cnmops.o
clang++ -mmacosx-version-min=10.13 -std=gnu++14 -I"/Library/Frameworks/R.framework/Resources/include" -DNDEBUG -I/usr/local/include -fPIC -Wall -g -O2 -c segment.cpp -o segment.o
segment.cpp:64:9: warning: unused variable 'Rf_beta' [-Wunused-variable]
double beta,nn;
^
/Library/Frameworks/R.framework/Resources/include/Rmath.h:208:15: note: expanded from macro 'beta'
#define beta Rf_beta
^
1 warning generated.
clang++ -mmacosx-version-min=10.13 -std=gnu++14 -dynamiclib -Wl,-headerpad_max_install_names -undefined dynamic_lookup -single_module -multiply_defined suppress -L/Library/Frameworks/R.framework/Resources/lib -L/usr/local/lib -o cn.mops.so R_init_cnmops.o cnmops.o segment.o -F/Library/Frameworks/R.framework/.. -framework R -Wl,-framework -Wl,CoreFoundation
installing to /Library/Frameworks/R.framework/Versions/4.1/Resources/library/00LOCK-cn.mops/00new/cn.mops/libs
** R
** data
** inst
** byte-compile and prepare package for lazy loading
** help
*** installing help indices
** building package indices
** installing vignettes
** testing if installed package can be loaded from temporary location
** checking absolute paths in shared objects and dynamic libraries
** testing if installed package can be loaded from final location
** testing if installed package keeps a record of temporary installation path
* DONE (cn.mops)
cn.mops.Rcheck/cn.mops-Ex.timings
| name | user | system | elapsed | |
| CNVDetectionResult | 0.002 | 0.002 | 0.004 | |
| calcFractionalCopyNumbers-CNVDetectionResult-method | 11.552 | 0.096 | 11.660 | |
| calcFractionalCopyNumbers | 11.408 | 0.039 | 11.457 | |
| calcIntegerCopyNumbers-CNVDetectionResult-method | 0.920 | 0.007 | 0.928 | |
| calcIntegerCopyNumbers | 0.869 | 0.006 | 0.876 | |
| cn.mops | 11.533 | 0.191 | 32.833 | |
| cnvr-CNVDetectionResult-method | 0.497 | 0.015 | 0.513 | |
| cnvr | 0.481 | 0.005 | 0.487 | |
| cnvs-CNVDetectionResult-method | 0.458 | 0.004 | 0.464 | |
| cnvs | 0.440 | 0.004 | 0.445 | |
| exomecn.mops | 5.010 | 0.028 | 5.045 | |
| getReadCountsFromBAM | 1.044 | 0.016 | 9.214 | |
| getSegmentReadCountsFromBAM | 0.633 | 0.012 | 8.739 | |
| gr-CNVDetectionResult-method | 0.428 | 0.005 | 0.433 | |
| gr | 0.518 | 0.005 | 0.523 | |
| haplocn.mops | 2.185 | 0.032 | 18.594 | |
| individualCall-CNVDetectionResult-method | 0.512 | 0.006 | 0.520 | |
| individualCall | 0.535 | 0.006 | 0.542 | |
| iniCall-CNVDetectionResult-method | 0.507 | 0.007 | 0.514 | |
| iniCall | 0.473 | 0.004 | 0.479 | |
| integerCopyNumber-CNVDetectionResult-method | 0.838 | 0.010 | 0.848 | |
| integerCopyNumber | 0.486 | 0.006 | 0.491 | |
| localAssessments-CNVDetectionResult-method | 0.485 | 0.005 | 0.489 | |
| localAssessments | 0.491 | 0.005 | 0.496 | |
| makeRobustCNVR | 0.912 | 0.005 | 0.917 | |
| normalizeChromosomes | 0.339 | 0.005 | 0.344 | |
| normalizeGenome | 0.353 | 0.018 | 0.372 | |
| normalizedData-CNVDetectionResult-method | 0.499 | 0.006 | 0.509 | |
| normalizedData | 0.499 | 0.006 | 0.508 | |
| params-CNVDetectionResult-method | 0.486 | 0.020 | 0.506 | |
| params | 0.478 | 0.022 | 0.501 | |
| posteriorProbs-CNVDetectionResult-method | 0.458 | 0.004 | 0.462 | |
| posteriorProbs | 0.467 | 0.004 | 0.472 | |
| referencecn.mops | 13.793 | 0.048 | 30.181 | |
| sampleNames-CNVDetectionResult-method | 0.392 | 0.006 | 0.398 | |
| sampleNames | 0.466 | 0.003 | 0.470 | |
| segment | 0.039 | 0.001 | 0.041 | |
| segmentation-CNVDetectionResult-method | 0.490 | 0.007 | 0.497 | |
| segmentation | 0.447 | 0.006 | 0.453 | |
| segplot-CNVDetectionResult-method | 1.819 | 0.007 | 1.828 | |
| segplot | 1.871 | 0.008 | 1.882 | |
| singlecn.mops | 1.554 | 0.010 | 1.565 | |