| Back to Multiple platform build/check report for BioC 3.14 | 
 | 
This page was generated on 2022-04-13 12:06:21 -0400 (Wed, 13 Apr 2022).
| Hostname | OS | Arch (*) | R version | Installed pkgs | 
|---|---|---|---|---|
| nebbiolo2 | Linux (Ubuntu 20.04.4 LTS) | x86_64 | 4.1.3 (2022-03-10) -- "One Push-Up" | 4324 | 
| tokay2 | Windows Server 2012 R2 Standard | x64 | 4.1.3 (2022-03-10) -- "One Push-Up" | 4077 | 
| machv2 | macOS 10.14.6 Mojave | x86_64 | 4.1.3 (2022-03-10) -- "One Push-Up" | 4137 | 
| Click on any hostname to see more info about the system (e.g. compilers) (*) as reported by 'uname -p', except on Windows and Mac OS X | ||||
| To the developers/maintainers of the cmapR package: - Please allow up to 24 hours (and sometimes 48 hours) for your latest push to git@git.bioconductor.org:packages/cmapR.git to reflect on this report. See How and When does the builder pull? When will my changes propagate? for more information. - Make sure to use the following settings in order to reproduce any error or warning you see on this page. | 
| Package 346/2083 | Hostname | OS / Arch | INSTALL | BUILD | CHECK | BUILD BIN | ||||||||
| cmapR 1.6.0  (landing page) Ted Natoli 
 | nebbiolo2 | Linux (Ubuntu 20.04.4 LTS) / x86_64 | OK | OK | OK |  | ||||||||
| tokay2 | Windows Server 2012 R2 Standard / x64 | OK | OK | OK | OK |  | ||||||||
| machv2 | macOS 10.14.6 Mojave / x86_64 | OK | OK | OK | OK |  | ||||||||
| Package: cmapR | 
| Version: 1.6.0 | 
| Command: C:\Users\biocbuild\bbs-3.14-bioc\R\bin\R.exe CMD check --force-multiarch --install=check:cmapR.install-out.txt --library=C:\Users\biocbuild\bbs-3.14-bioc\R\library --no-vignettes --timings cmapR_1.6.0.tar.gz | 
| StartedAt: 2022-04-12 17:31:41 -0400 (Tue, 12 Apr 2022) | 
| EndedAt: 2022-04-12 17:35:51 -0400 (Tue, 12 Apr 2022) | 
| EllapsedTime: 249.6 seconds | 
| RetCode: 0 | 
| Status: OK | 
| CheckDir: cmapR.Rcheck | 
| Warnings: 0 | 
##############################################################################
##############################################################################
###
### Running command:
###
###   C:\Users\biocbuild\bbs-3.14-bioc\R\bin\R.exe CMD check --force-multiarch --install=check:cmapR.install-out.txt --library=C:\Users\biocbuild\bbs-3.14-bioc\R\library --no-vignettes --timings cmapR_1.6.0.tar.gz
###
##############################################################################
##############################################################################
* using log directory 'C:/Users/biocbuild/bbs-3.14-bioc/meat/cmapR.Rcheck'
* using R version 4.1.3 (2022-03-10)
* using platform: x86_64-w64-mingw32 (64-bit)
* using session charset: ISO8859-1
* using option '--no-vignettes'
* checking for file 'cmapR/DESCRIPTION' ... OK
* checking extension type ... Package
* this is package 'cmapR' version '1.6.0'
* checking package namespace information ... OK
* checking package dependencies ... OK
* checking if this is a source package ... OK
* checking if there is a namespace ... OK
* checking for hidden files and directories ... NOTE
Found the following hidden files and directories:
  .dockerignore
  docs/build/html/.buildinfo
These were most likely included in error. See section 'Package
structure' in the 'Writing R Extensions' manual.
* checking for portable file names ... OK
* checking whether package 'cmapR' can be installed ... OK
* checking installed package size ... NOTE
  installed size is  5.4Mb
  sub-directories of 1Mb or more:
    data      2.3Mb
    extdata   2.1Mb
* checking package directory ... OK
* checking 'build' directory ... OK
* checking DESCRIPTION meta-information ... OK
* checking top-level files ... OK
* checking for left-over files ... OK
* checking index information ... OK
* checking package subdirectories ... OK
* checking R files for non-ASCII characters ... OK
* checking R files for syntax errors ... OK
* loading checks for arch 'i386'
** checking whether the package can be loaded ... OK
** checking whether the package can be loaded with stated dependencies ... OK
** checking whether the package can be unloaded cleanly ... OK
** checking whether the namespace can be loaded with stated dependencies ... OK
** checking whether the namespace can be unloaded cleanly ... OK
* loading checks for arch 'x64'
** checking whether the package can be loaded ... OK
** checking whether the package can be loaded with stated dependencies ... OK
** checking whether the package can be unloaded cleanly ... OK
** checking whether the namespace can be loaded with stated dependencies ... OK
** checking whether the namespace can be unloaded cleanly ... OK
* checking dependencies in R code ... OK
* checking S3 generic/method consistency ... OK
* checking replacement functions ... OK
* checking foreign function calls ... OK
* checking R code for possible problems ... OK
* checking Rd files ... OK
* checking Rd metadata ... OK
* checking Rd cross-references ... OK
* checking for missing documentation entries ... OK
* checking for code/documentation mismatches ... OK
* checking Rd \usage sections ... OK
* checking Rd contents ... OK
* checking for unstated dependencies in examples ... OK
* checking contents of 'data' directory ... OK
* checking data for non-ASCII characters ... OK
* checking LazyData ... OK
* checking data for ASCII and uncompressed saves ... OK
* checking line endings in Makefiles ... OK
* checking for GNU extensions in Makefiles ... OK
* checking include directives in Makefiles ... OK
* checking files in 'vignettes' ... OK
* checking examples ...
** running examples for arch 'i386' ... OK
** running examples for arch 'x64' ... OK
* checking for unstated dependencies in 'tests' ... OK
* checking tests ...
** running tests for arch 'i386' ...
  Running 'testthat.R'
 OK
** running tests for arch 'x64' ...
  Running 'testthat.R'
 OK
* checking for unstated dependencies in vignettes ... OK
* checking package vignettes in 'inst/doc' ... OK
* checking running R code from vignettes ... SKIPPED
* checking re-building of vignette outputs ... SKIPPED
* checking PDF version of manual ... OK
* DONE
Status: 2 NOTEs
See
  'C:/Users/biocbuild/bbs-3.14-bioc/meat/cmapR.Rcheck/00check.log'
for details.
cmapR.Rcheck/00install.out
##############################################################################
##############################################################################
###
### Running command:
###
###   C:\cygwin\bin\curl.exe -O http://155.52.207.166/BBS/3.14/bioc/src/contrib/cmapR_1.6.0.tar.gz && rm -rf cmapR.buildbin-libdir && mkdir cmapR.buildbin-libdir && C:\Users\biocbuild\bbs-3.14-bioc\R\bin\R.exe CMD INSTALL --merge-multiarch --build --library=cmapR.buildbin-libdir cmapR_1.6.0.tar.gz && C:\Users\biocbuild\bbs-3.14-bioc\R\bin\R.exe CMD INSTALL cmapR_1.6.0.zip && rm cmapR_1.6.0.tar.gz cmapR_1.6.0.zip
###
##############################################################################
##############################################################################
  % Total    % Received % Xferd  Average Speed   Time    Time     Time  Current
                                 Dload  Upload   Total   Spent    Left  Speed
  0     0    0     0    0     0      0      0 --:--:-- --:--:-- --:--:--     0
 11 3557k   11  403k    0     0   827k      0  0:00:04 --:--:--  0:00:04  828k
 59 3557k   59 2103k    0     0  1414k      0  0:00:02  0:00:01  0:00:01 1413k
100 3557k  100 3557k    0     0  1708k      0  0:00:02  0:00:02 --:--:-- 1709k
install for i386
* installing *source* package 'cmapR' ...
** using staged installation
** R
** data
*** moving datasets to lazyload DB
** inst
** byte-compile and prepare package for lazy loading
** help
*** installing help indices
  converting help for package 'cmapR'
    finding HTML links ... done
    GCT-class                               html  
    GCT                                     html  
    align_matrices                          html  
    annotate_gct                            html  
    append_dim                              html  
    cdesc_char                              html  
    check_colnames                          html  
    check_dups                              html  
    distil                                  html  
    ds                                      html  
    extract_gct                             html  
    fix_datatypes                           html  
    gene_set                                html  
    ids                                     html  
    is.wholenumber                          html  
    kd_gct                                  html  
    lxb2mat                                 html  
    mat                                     html  
    melt_gct                                html  
    finding level-2 HTML links ... done
    merge_gct                               html  
    merge_with_precedence                   html  
    meta                                    html  
    na_pad_matrix                           html  
    parse_gctx                              html  
    parse_gmt                               html  
    parse_gmx                               html  
    parse_grp                               html  
    process_ids                             html  
    rank_gct                                html  
    read_gctx_ids                           html  
    read_gctx_meta                          html  
    robust_zscore                           html  
    subset_gct                              html  
    subset_to_ids                           html  
    threshold                               html  
    transpose_gct                           html  
    update_gctx                             html  
    write_gct                               html  
    write_gctx                              html  
    write_gctx_meta                         html  
    write_gmt                               html  
    write_grp                               html  
    write_tbl                               html  
** building package indices
** installing vignettes
** testing if installed package can be loaded from temporary location
** testing if installed package can be loaded from final location
** testing if installed package keeps a record of temporary installation path
install for x64
* installing *source* package 'cmapR' ...
** testing if installed package can be loaded
* MD5 sums
packaged installation of 'cmapR' as cmapR_1.6.0.zip
* DONE (cmapR)
* installing to library 'C:/Users/biocbuild/bbs-3.14-bioc/R/library'
package 'cmapR' successfully unpacked and MD5 sums checked
| cmapR.Rcheck/tests_i386/testthat.Rout 
R version 4.1.3 (2022-03-10) -- "One Push-Up"
Copyright (C) 2022 The R Foundation for Statistical Computing
Platform: i386-w64-mingw32/i386 (32-bit)
R is free software and comes with ABSOLUTELY NO WARRANTY.
You are welcome to redistribute it under certain conditions.
Type 'license()' or 'licence()' for distribution details.
R is a collaborative project with many contributors.
Type 'contributors()' for more information and
'citation()' on how to cite R or R packages in publications.
Type 'demo()' for some demos, 'help()' for on-line help, or
'help.start()' for an HTML browser interface to help.
Type 'q()' to quit R.
> library(testthat)
> library(cmapR)
> 
> test_check("cmapR")
Saving file to  foo.gct 
Dimensions of matrix: [10x5]
Setting precision to 4
Saved.
Saving file to  foo.gct 
Dimensions of matrix: [10x5]
Setting precision to 4
Saved.
Saving file to  foo.gct 
Dimensions of matrix: [10x5]
Setting precision to 4
Saved.
Saving file to  ./foo_n272x978.gct 
Dimensions of matrix: [978x272]
Setting precision to 4
Saved.
[ FAIL 0 | WARN 0 | SKIP 2 | PASS 168 ]
== Skipped tests ===============================================================
* empty test (2)
[ FAIL 0 | WARN 0 | SKIP 2 | PASS 168 ]
> 
> proc.time()
   user  system elapsed 
  14.54    1.43   15.85 
 | cmapR.Rcheck/tests_x64/testthat.Rout 
R version 4.1.3 (2022-03-10) -- "One Push-Up"
Copyright (C) 2022 The R Foundation for Statistical Computing
Platform: x86_64-w64-mingw32/x64 (64-bit)
R is free software and comes with ABSOLUTELY NO WARRANTY.
You are welcome to redistribute it under certain conditions.
Type 'license()' or 'licence()' for distribution details.
R is a collaborative project with many contributors.
Type 'contributors()' for more information and
'citation()' on how to cite R or R packages in publications.
Type 'demo()' for some demos, 'help()' for on-line help, or
'help.start()' for an HTML browser interface to help.
Type 'q()' to quit R.
> library(testthat)
> library(cmapR)
> 
> test_check("cmapR")
Saving file to  foo.gct 
Dimensions of matrix: [10x5]
Setting precision to 4
Saved.
Saving file to  foo.gct 
Dimensions of matrix: [10x5]
Setting precision to 4
Saved.
Saving file to  foo.gct 
Dimensions of matrix: [10x5]
Setting precision to 4
Saved.
Saving file to  ./foo_n272x978.gct 
Dimensions of matrix: [978x272]
Setting precision to 4
Saved.
[ FAIL 0 | WARN 0 | SKIP 2 | PASS 168 ]
== Skipped tests ===============================================================
* empty test (2)
[ FAIL 0 | WARN 0 | SKIP 2 | PASS 168 ]
> 
> proc.time()
   user  system elapsed 
  17.09    0.92   17.87 
 | 
| cmapR.Rcheck/examples_i386/cmapR-Ex.timings 
 | cmapR.Rcheck/examples_x64/cmapR-Ex.timings 
 |