| Back to Multiple platform build/check report for BioC 3.14 |
|
This page was generated on 2022-04-13 12:06:20 -0400 (Wed, 13 Apr 2022).
| Hostname | OS | Arch (*) | R version | Installed pkgs |
|---|---|---|---|---|
| nebbiolo2 | Linux (Ubuntu 20.04.4 LTS) | x86_64 | 4.1.3 (2022-03-10) -- "One Push-Up" | 4324 |
| tokay2 | Windows Server 2012 R2 Standard | x64 | 4.1.3 (2022-03-10) -- "One Push-Up" | 4077 |
| machv2 | macOS 10.14.6 Mojave | x86_64 | 4.1.3 (2022-03-10) -- "One Push-Up" | 4137 |
| Click on any hostname to see more info about the system (e.g. compilers) (*) as reported by 'uname -p', except on Windows and Mac OS X | ||||
|
To the developers/maintainers of the chromVAR package: - Please allow up to 24 hours (and sometimes 48 hours) for your latest push to git@git.bioconductor.org:packages/chromVAR.git to reflect on this report. See How and When does the builder pull? When will my changes propagate? for more information. - Make sure to use the following settings in order to reproduce any error or warning you see on this page. |
| Package 316/2083 | Hostname | OS / Arch | INSTALL | BUILD | CHECK | BUILD BIN | ||||||||
| chromVAR 1.16.0 (landing page) Alicia Schep
| nebbiolo2 | Linux (Ubuntu 20.04.4 LTS) / x86_64 | OK | OK | OK | |||||||||
| tokay2 | Windows Server 2012 R2 Standard / x64 | OK | OK | OK | OK | |||||||||
| machv2 | macOS 10.14.6 Mojave / x86_64 | OK | OK | OK | OK | |||||||||
| Package: chromVAR |
| Version: 1.16.0 |
| Command: rm -rf chromVAR.buildbin-libdir && mkdir chromVAR.buildbin-libdir && C:\Users\biocbuild\bbs-3.14-bioc\R\bin\R.exe CMD INSTALL --merge-multiarch --build --library=chromVAR.buildbin-libdir chromVAR_1.16.0.tar.gz |
| StartedAt: 2022-04-13 05:51:50 -0400 (Wed, 13 Apr 2022) |
| EndedAt: 2022-04-13 05:54:16 -0400 (Wed, 13 Apr 2022) |
| EllapsedTime: 147.0 seconds |
| RetCode: 0 |
| Status: OK |
| PackageFile: chromVAR_1.16.0.zip |
| PackageFileSize: 2.513 MiB |
##############################################################################
##############################################################################
###
### Running command:
###
### rm -rf chromVAR.buildbin-libdir && mkdir chromVAR.buildbin-libdir && C:\Users\biocbuild\bbs-3.14-bioc\R\bin\R.exe CMD INSTALL --merge-multiarch --build --library=chromVAR.buildbin-libdir chromVAR_1.16.0.tar.gz
###
##############################################################################
##############################################################################
install for i386
* installing *source* package 'chromVAR' ...
** using staged installation
** libs
"C:/rtools40/mingw32/bin/"g++ -std=gnu++11 -I"C:/Users/BIOCBU~1/BBS-3~1.14-/R/include" -DNDEBUG -I'C:/Users/biocbuild/bbs-3.14-bioc/R/library/Rcpp/include' -I'C:/Users/biocbuild/bbs-3.14-bioc/R/library/RcppArmadillo/include' -I"C:/extsoft/include" -O2 -Wall -mfpmath=sse -msse2 -mstackrealign -c RcppExports.cpp -o RcppExports.o
"C:/rtools40/mingw32/bin/"g++ -std=gnu++11 -I"C:/Users/BIOCBU~1/BBS-3~1.14-/R/include" -DNDEBUG -I'C:/Users/biocbuild/bbs-3.14-bioc/R/library/Rcpp/include' -I'C:/Users/biocbuild/bbs-3.14-bioc/R/library/RcppArmadillo/include' -I"C:/extsoft/include" -O2 -Wall -mfpmath=sse -msse2 -mstackrealign -c pwm_similarity.cpp -o pwm_similarity.o
"C:/rtools40/mingw32/bin/"g++ -std=gnu++11 -I"C:/Users/BIOCBU~1/BBS-3~1.14-/R/include" -DNDEBUG -I'C:/Users/biocbuild/bbs-3.14-bioc/R/library/Rcpp/include' -I'C:/Users/biocbuild/bbs-3.14-bioc/R/library/RcppArmadillo/include' -I"C:/extsoft/include" -O2 -Wall -mfpmath=sse -msse2 -mstackrealign -c utils.cpp -o utils.o
utils.cpp: In function 'Rcpp::NumericVector row_sds(arma::mat&, bool)':
utils.cpp:12:21: warning: comparison of integer expressions of different signedness: 'int' and 'const uword' {aka 'const unsigned int'} [-Wsign-compare]
for( int j=0; j < X.n_rows; j++ ) {
~~^~~~~~~~~~
C:/rtools40/mingw32/bin/g++ -shared -s -static-libgcc -o chromVAR.dll tmp.def RcppExports.o pwm_similarity.o utils.o -LC:/Users/BIOCBU~1/BBS-3~1.14-/R/bin/i386 -lRlapack -LC:/Users/BIOCBU~1/BBS-3~1.14-/R/bin/i386 -lRblas -lgfortran -lm -lquadmath -LC:/extsoft/lib/i386 -LC:/extsoft/lib -LC:/Users/BIOCBU~1/BBS-3~1.14-/R/bin/i386 -lR
installing to C:/Users/biocbuild/bbs-3.14-bioc/meat/chromVAR.buildbin-libdir/00LOCK-chromVAR/00new/chromVAR/libs/i386
** R
** data
*** moving datasets to lazyload DB
** inst
** byte-compile and prepare package for lazy loading
** help
*** installing help indices
converting help for package 'chromVAR'
finding HTML links ... done
addGCBias html
annotationMatches html
assembleKmers html
cbind-chromVARDeviations-method html
chromVAR html
chromVARDeviations-class html
chromVAR_theme html
computeDeviations html
computeExpectations html
computeVariability html
counts html
deviationScores html
deviations html
deviationsCovariability html
deviationsTsne html
differentialDeviations html
differentialVariability html
example_counts html
filterPeaks html
filterSamples html
filterSamplesPlot html
getAnnotationCorrelation html
getAnnotationSynergy html
getAnnotations html
getBackgroundPeaks html
getCisGroups html
getCounts html
getFragmentsPerPeak html
getFragmentsPerSample html
getJasparMotifs html
getPeaks html
getPermutedData html
getSampleCorrelation html
getSampleDepths html
getSampleDistance html
getTotalFragments html
makeBiasBins html
makePermutedSets html
matchKmers html
mini_counts html
mini_dev html
mini_ix html
plotDeviationsTsne html
plotKmerMismatch html
plotVariability html
pwmDistance html
rbind-chromVARDeviations-method html
readNarrowpeaks html
** building package indices
** installing vignettes
** testing if installed package can be loaded from temporary location
** testing if installed package can be loaded from final location
** testing if installed package keeps a record of temporary installation path
install for x64
* installing *source* package 'chromVAR' ...
** libs
"C:/rtools40/mingw64/bin/"g++ -std=gnu++11 -I"C:/Users/BIOCBU~1/BBS-3~1.14-/R/include" -DNDEBUG -I'C:/Users/biocbuild/bbs-3.14-bioc/R/library/Rcpp/include' -I'C:/Users/biocbuild/bbs-3.14-bioc/R/library/RcppArmadillo/include' -I"C:/extsoft/include" -O2 -Wall -mfpmath=sse -msse2 -mstackrealign -c RcppExports.cpp -o RcppExports.o
"C:/rtools40/mingw64/bin/"g++ -std=gnu++11 -I"C:/Users/BIOCBU~1/BBS-3~1.14-/R/include" -DNDEBUG -I'C:/Users/biocbuild/bbs-3.14-bioc/R/library/Rcpp/include' -I'C:/Users/biocbuild/bbs-3.14-bioc/R/library/RcppArmadillo/include' -I"C:/extsoft/include" -O2 -Wall -mfpmath=sse -msse2 -mstackrealign -c pwm_similarity.cpp -o pwm_similarity.o
"C:/rtools40/mingw64/bin/"g++ -std=gnu++11 -I"C:/Users/BIOCBU~1/BBS-3~1.14-/R/include" -DNDEBUG -I'C:/Users/biocbuild/bbs-3.14-bioc/R/library/Rcpp/include' -I'C:/Users/biocbuild/bbs-3.14-bioc/R/library/RcppArmadillo/include' -I"C:/extsoft/include" -O2 -Wall -mfpmath=sse -msse2 -mstackrealign -c utils.cpp -o utils.o
utils.cpp: In function 'Rcpp::NumericVector row_sds(arma::mat&, bool)':
utils.cpp:12:21: warning: comparison of integer expressions of different signedness: 'int' and 'const uword' {aka 'const unsigned int'} [-Wsign-compare]
for( int j=0; j < X.n_rows; j++ ) {
~~^~~~~~~~~~
C:/rtools40/mingw64/bin/g++ -shared -s -static-libgcc -o chromVAR.dll tmp.def RcppExports.o pwm_similarity.o utils.o -LC:/Users/BIOCBU~1/BBS-3~1.14-/R/bin/x64 -lRlapack -LC:/Users/BIOCBU~1/BBS-3~1.14-/R/bin/x64 -lRblas -lgfortran -lm -lquadmath -LC:/extsoft/lib/x64 -LC:/extsoft/lib -LC:/Users/BIOCBU~1/BBS-3~1.14-/R/bin/x64 -lR
installing to C:/Users/biocbuild/bbs-3.14-bioc/meat/chromVAR.buildbin-libdir/chromVAR/libs/x64
** testing if installed package can be loaded
* MD5 sums
packaged installation of 'chromVAR' as chromVAR_1.16.0.zip
* DONE (chromVAR)