| Back to Multiple platform build/check report for BioC 3.14 |
|
This page was generated on 2022-04-13 12:06:18 -0400 (Wed, 13 Apr 2022).
| Hostname | OS | Arch (*) | R version | Installed pkgs |
|---|---|---|---|---|
| nebbiolo2 | Linux (Ubuntu 20.04.4 LTS) | x86_64 | 4.1.3 (2022-03-10) -- "One Push-Up" | 4324 |
| tokay2 | Windows Server 2012 R2 Standard | x64 | 4.1.3 (2022-03-10) -- "One Push-Up" | 4077 |
| machv2 | macOS 10.14.6 Mojave | x86_64 | 4.1.3 (2022-03-10) -- "One Push-Up" | 4137 |
| Click on any hostname to see more info about the system (e.g. compilers) (*) as reported by 'uname -p', except on Windows and Mac OS X | ||||
|
To the developers/maintainers of the cfDNAPro package: - Please allow up to 24 hours (and sometimes 48 hours) for your latest push to git@git.bioconductor.org:packages/cfDNAPro.git to reflect on this report. See How and When does the builder pull? When will my changes propagate? for more information. - Make sure to use the following settings in order to reproduce any error or warning you see on this page. |
| Package 284/2083 | Hostname | OS / Arch | INSTALL | BUILD | CHECK | BUILD BIN | ||||||||
| cfDNAPro 1.0.0 (landing page) Haichao Wang
| nebbiolo2 | Linux (Ubuntu 20.04.4 LTS) / x86_64 | OK | OK | OK | |||||||||
| tokay2 | Windows Server 2012 R2 Standard / x64 | OK | OK | OK | OK | |||||||||
| machv2 | macOS 10.14.6 Mojave / x86_64 | OK | OK | OK | OK | |||||||||
| Package: cfDNAPro |
| Version: 1.0.0 |
| Command: C:\cygwin\bin\curl.exe -O http://155.52.207.166/BBS/3.14/bioc/src/contrib/cfDNAPro_1.0.0.tar.gz && rm -rf cfDNAPro.buildbin-libdir && mkdir cfDNAPro.buildbin-libdir && C:\Users\biocbuild\bbs-3.14-bioc\R\bin\R.exe CMD INSTALL --merge-multiarch --build --library=cfDNAPro.buildbin-libdir cfDNAPro_1.0.0.tar.gz && C:\Users\biocbuild\bbs-3.14-bioc\R\bin\R.exe CMD INSTALL cfDNAPro_1.0.0.zip && rm cfDNAPro_1.0.0.tar.gz cfDNAPro_1.0.0.zip |
| StartedAt: 2022-04-12 05:21:34 -0400 (Tue, 12 Apr 2022) |
| EndedAt: 2022-04-12 05:23:14 -0400 (Tue, 12 Apr 2022) |
| EllapsedTime: 100.4 seconds |
| RetCode: 0 |
| Status: OK |
##############################################################################
##############################################################################
###
### Running command:
###
### C:\cygwin\bin\curl.exe -O http://155.52.207.166/BBS/3.14/bioc/src/contrib/cfDNAPro_1.0.0.tar.gz && rm -rf cfDNAPro.buildbin-libdir && mkdir cfDNAPro.buildbin-libdir && C:\Users\biocbuild\bbs-3.14-bioc\R\bin\R.exe CMD INSTALL --merge-multiarch --build --library=cfDNAPro.buildbin-libdir cfDNAPro_1.0.0.tar.gz && C:\Users\biocbuild\bbs-3.14-bioc\R\bin\R.exe CMD INSTALL cfDNAPro_1.0.0.zip && rm cfDNAPro_1.0.0.tar.gz cfDNAPro_1.0.0.zip
###
##############################################################################
##############################################################################
% Total % Received % Xferd Average Speed Time Time Time Current
Dload Upload Total Spent Left Speed
0 0 0 0 0 0 0 0 --:--:-- --:--:-- --:--:-- 0
17 665k 17 114k 0 0 539k 0 0:00:01 --:--:-- 0:00:01 540k
100 665k 100 665k 0 0 990k 0 --:--:-- --:--:-- --:--:-- 991k
install for i386
* installing *source* package 'cfDNAPro' ...
** using staged installation
** R
** inst
** byte-compile and prepare package for lazy loading
** help
*** installing help indices
converting help for package 'cfDNAPro'
finding HTML links ... done
callMetrics html
callMode html
callPeakDistance html
callSize html
callValleyDistance html
examplePath html
plotAllToOne html
plotMetrics html
plotMode html
plotModeSummary html
plotPeakDistance html
plotSingleGroup html
plotValleyDistance html
** building package indices
** installing vignettes
** testing if installed package can be loaded from temporary location
** testing if installed package can be loaded from final location
** testing if installed package keeps a record of temporary installation path
install for x64
* installing *source* package 'cfDNAPro' ...
** testing if installed package can be loaded
* MD5 sums
packaged installation of 'cfDNAPro' as cfDNAPro_1.0.0.zip
* DONE (cfDNAPro)
* installing to library 'C:/Users/biocbuild/bbs-3.14-bioc/R/library'
package 'cfDNAPro' successfully unpacked and MD5 sums checked