| Back to Multiple platform build/check report for BioC 3.14 |
|
This page was generated on 2022-04-13 12:06:14 -0400 (Wed, 13 Apr 2022).
| Hostname | OS | Arch (*) | R version | Installed pkgs |
|---|---|---|---|---|
| nebbiolo2 | Linux (Ubuntu 20.04.4 LTS) | x86_64 | 4.1.3 (2022-03-10) -- "One Push-Up" | 4324 |
| tokay2 | Windows Server 2012 R2 Standard | x64 | 4.1.3 (2022-03-10) -- "One Push-Up" | 4077 |
| machv2 | macOS 10.14.6 Mojave | x86_64 | 4.1.3 (2022-03-10) -- "One Push-Up" | 4137 |
| Click on any hostname to see more info about the system (e.g. compilers) (*) as reported by 'uname -p', except on Windows and Mac OS X | ||||
|
To the developers/maintainers of the biomformat package: - Please allow up to 24 hours (and sometimes 48 hours) for your latest push to git@git.bioconductor.org:packages/biomformat.git to reflect on this report. See How and When does the builder pull? When will my changes propagate? for more information. - Make sure to use the following settings in order to reproduce any error or warning you see on this page. |
| Package 183/2083 | Hostname | OS / Arch | INSTALL | BUILD | CHECK | BUILD BIN | ||||||||
| biomformat 1.22.0 (landing page) Paul J. McMurdie
| nebbiolo2 | Linux (Ubuntu 20.04.4 LTS) / x86_64 | OK | OK | WARNINGS | |||||||||
| tokay2 | Windows Server 2012 R2 Standard / x64 | OK | OK | WARNINGS | OK | |||||||||
| machv2 | macOS 10.14.6 Mojave / x86_64 | OK | OK | WARNINGS | OK | |||||||||
| Package: biomformat |
| Version: 1.22.0 |
| Command: rm -rf biomformat.buildbin-libdir && mkdir biomformat.buildbin-libdir && C:\Users\biocbuild\bbs-3.14-bioc\R\bin\R.exe CMD INSTALL --merge-multiarch --build --library=biomformat.buildbin-libdir biomformat_1.22.0.tar.gz |
| StartedAt: 2022-04-13 05:42:58 -0400 (Wed, 13 Apr 2022) |
| EndedAt: 2022-04-13 05:43:25 -0400 (Wed, 13 Apr 2022) |
| EllapsedTime: 27.1 seconds |
| RetCode: 0 |
| Status: OK |
| PackageFile: biomformat_1.22.0.zip |
| PackageFileSize: 493 KiB |
##############################################################################
##############################################################################
###
### Running command:
###
### rm -rf biomformat.buildbin-libdir && mkdir biomformat.buildbin-libdir && C:\Users\biocbuild\bbs-3.14-bioc\R\bin\R.exe CMD INSTALL --merge-multiarch --build --library=biomformat.buildbin-libdir biomformat_1.22.0.tar.gz
###
##############################################################################
##############################################################################
install for i386
* installing *source* package 'biomformat' ...
** using staged installation
** R
** inst
** byte-compile and prepare package for lazy loading
Creating a generic function for 'nrow' from package 'base' in package 'biomformat'
Creating a generic function for 'ncol' from package 'base' in package 'biomformat'
Creating a generic function for 'rownames' from package 'base' in package 'biomformat'
Creating a generic function for 'colnames' from package 'base' in package 'biomformat'
** help
*** installing help indices
converting help for package 'biomformat'
finding HTML links ... done
biom-class html
biom-methods html
finding level-2 HTML links ... done
biom-package html
biom_data-methods html
Rd warning: C:/Users/biocbuild/bbs-3.14-bioc/tmpdir/Rtmpywol4J/R.INSTALLf46c289f1c0d/biomformat/man/biom_data-methods.Rd:46: missing link 'plyr-package'
biom_shape-methods html
colnames-methods html
header-methods html
make_biom html
matrix_element_type-methods html
ncol-methods html
nrow-methods html
observation_metadata-methods html
Rd warning: C:/Users/biocbuild/bbs-3.14-bioc/tmpdir/Rtmpywol4J/R.INSTALLf46c289f1c0d/biomformat/man/observation_metadata-methods.Rd:30: missing link 'plyr-package'
read_biom html
read_hdf5_biom html
rownames-methods html
sample_metadata-methods html
Rd warning: C:/Users/biocbuild/bbs-3.14-bioc/tmpdir/Rtmpywol4J/R.INSTALLf46c289f1c0d/biomformat/man/sample_metadata-methods.Rd:30: missing link 'plyr-package'
show-methods html
write_biom html
** building package indices
** installing vignettes
** testing if installed package can be loaded from temporary location
** testing if installed package can be loaded from final location
** testing if installed package keeps a record of temporary installation path
install for x64
* installing *source* package 'biomformat' ...
** testing if installed package can be loaded
* MD5 sums
packaged installation of 'biomformat' as biomformat_1.22.0.zip
* DONE (biomformat)