| Back to Multiple platform build/check report for BioC 3.14 |
|
This page was generated on 2022-04-13 12:06:14 -0400 (Wed, 13 Apr 2022).
| Hostname | OS | Arch (*) | R version | Installed pkgs |
|---|---|---|---|---|
| nebbiolo2 | Linux (Ubuntu 20.04.4 LTS) | x86_64 | 4.1.3 (2022-03-10) -- "One Push-Up" | 4324 |
| tokay2 | Windows Server 2012 R2 Standard | x64 | 4.1.3 (2022-03-10) -- "One Push-Up" | 4077 |
| machv2 | macOS 10.14.6 Mojave | x86_64 | 4.1.3 (2022-03-10) -- "One Push-Up" | 4137 |
| Click on any hostname to see more info about the system (e.g. compilers) (*) as reported by 'uname -p', except on Windows and Mac OS X | ||||
|
To the developers/maintainers of the biocViews package: - Please allow up to 24 hours (and sometimes 48 hours) for your latest push to git@git.bioconductor.org:packages/biocViews.git to reflect on this report. See How and When does the builder pull? When will my changes propagate? for more information. - Make sure to use the following settings in order to reproduce any error or warning you see on this page. |
| Package 173/2083 | Hostname | OS / Arch | INSTALL | BUILD | CHECK | BUILD BIN | ||||||||
| biocViews 1.62.1 (landing page) Bioconductor Package Maintainer
| nebbiolo2 | Linux (Ubuntu 20.04.4 LTS) / x86_64 | OK | OK | OK | |||||||||
| tokay2 | Windows Server 2012 R2 Standard / x64 | OK | OK | OK | OK | |||||||||
| machv2 | macOS 10.14.6 Mojave / x86_64 | OK | OK | OK | OK | |||||||||
| Package: biocViews |
| Version: 1.62.1 |
| Command: C:\cygwin\bin\curl.exe -O http://155.52.207.166/BBS/3.14/bioc/src/contrib/biocViews_1.62.1.tar.gz && rm -rf biocViews.buildbin-libdir && mkdir biocViews.buildbin-libdir && C:\Users\biocbuild\bbs-3.14-bioc\R\bin\R.exe CMD INSTALL --merge-multiarch --build --library=biocViews.buildbin-libdir biocViews_1.62.1.tar.gz && C:\Users\biocbuild\bbs-3.14-bioc\R\bin\R.exe CMD INSTALL biocViews_1.62.1.zip && rm biocViews_1.62.1.tar.gz biocViews_1.62.1.zip |
| StartedAt: 2022-04-12 04:31:35 -0400 (Tue, 12 Apr 2022) |
| EndedAt: 2022-04-12 04:33:36 -0400 (Tue, 12 Apr 2022) |
| EllapsedTime: 121.9 seconds |
| RetCode: 0 |
| Status: OK |
##############################################################################
##############################################################################
###
### Running command:
###
### C:\cygwin\bin\curl.exe -O http://155.52.207.166/BBS/3.14/bioc/src/contrib/biocViews_1.62.1.tar.gz && rm -rf biocViews.buildbin-libdir && mkdir biocViews.buildbin-libdir && C:\Users\biocbuild\bbs-3.14-bioc\R\bin\R.exe CMD INSTALL --merge-multiarch --build --library=biocViews.buildbin-libdir biocViews_1.62.1.tar.gz && C:\Users\biocbuild\bbs-3.14-bioc\R\bin\R.exe CMD INSTALL biocViews_1.62.1.zip && rm biocViews_1.62.1.tar.gz biocViews_1.62.1.zip
###
##############################################################################
##############################################################################
% Total % Received % Xferd Average Speed Time Time Time Current
Dload Upload Total Spent Left Speed
0 0 0 0 0 0 0 0 --:--:-- --:--:-- --:--:-- 0
58 75503 58 44362 0 0 281k 0 --:--:-- --:--:-- --:--:-- 281k
100 75503 100 75503 0 0 146k 0 --:--:-- --:--:-- --:--:-- 146k
install for i386
* installing *source* package 'biocViews' ...
** using staged installation
** R
** data
** inst
** byte-compile and prepare package for lazy loading
** help
*** installing help indices
converting help for package 'biocViews'
finding HTML links ... done
BiocView-class html
Htmlized-class html
PackageDetail-class html
RepositoryDetail-class html
biocViews-package html
biocViewsVocab html
extractManuals html
extractNEWS html
extractTopLevelFiles html
extractVignettes html
genReposControlFiles html
getBiocSubViews html
getBiocViews html
getCurrentbiocViews html
getPackageNEWS html
getPackageTitles html
getPacksAndViews html
getSubTerms html
guessPackageType html
htmlDoc html
htmlFilename html
htmlValue html
recommendBiocViews html
recommendPackages html
validation_tests html
writeBiocViews html
writeHtmlDoc html
writePackageDetailHtml html
writeRFilesFromVignettes html
writeRepositoryHtml html
writeTopLevelView html
write_REPOSITORY html
write_SYMBOLS html
write_VIEWS html
** building package indices
** installing vignettes
'HOWTO-BCV.Rnw'
'createReposHtml.Rnw'
** testing if installed package can be loaded from temporary location
** testing if installed package can be loaded from final location
** testing if installed package keeps a record of temporary installation path
install for x64
* installing *source* package 'biocViews' ...
** testing if installed package can be loaded
* MD5 sums
packaged installation of 'biocViews' as biocViews_1.62.1.zip
* DONE (biocViews)
* installing to library 'C:/Users/biocbuild/bbs-3.14-bioc/R/library'
package 'biocViews' successfully unpacked and MD5 sums checked