| Back to Multiple platform build/check report for BioC 3.14 |
|
This page was generated on 2022-04-13 12:06:12 -0400 (Wed, 13 Apr 2022).
| Hostname | OS | Arch (*) | R version | Installed pkgs |
|---|---|---|---|---|
| nebbiolo2 | Linux (Ubuntu 20.04.4 LTS) | x86_64 | 4.1.3 (2022-03-10) -- "One Push-Up" | 4324 |
| tokay2 | Windows Server 2012 R2 Standard | x64 | 4.1.3 (2022-03-10) -- "One Push-Up" | 4077 |
| machv2 | macOS 10.14.6 Mojave | x86_64 | 4.1.3 (2022-03-10) -- "One Push-Up" | 4137 |
| Click on any hostname to see more info about the system (e.g. compilers) (*) as reported by 'uname -p', except on Windows and Mac OS X | ||||
|
To the developers/maintainers of the beadarray package: - Please allow up to 24 hours (and sometimes 48 hours) for your latest push to git@git.bioconductor.org:packages/beadarray.git to reflect on this report. See How and When does the builder pull? When will my changes propagate? for more information. - Make sure to use the following settings in order to reproduce any error or warning you see on this page. |
| Package 133/2083 | Hostname | OS / Arch | INSTALL | BUILD | CHECK | BUILD BIN | ||||||||
| beadarray 2.44.0 (landing page) Mark Dunning
| nebbiolo2 | Linux (Ubuntu 20.04.4 LTS) / x86_64 | OK | OK | OK | |||||||||
| tokay2 | Windows Server 2012 R2 Standard / x64 | OK | OK | OK | OK | |||||||||
| machv2 | macOS 10.14.6 Mojave / x86_64 | OK | OK | OK | OK | |||||||||
| Package: beadarray |
| Version: 2.44.0 |
| Command: C:\Users\biocbuild\bbs-3.14-bioc\R\bin\R.exe CMD check --force-multiarch --install=check:beadarray.install-out.txt --library=C:\Users\biocbuild\bbs-3.14-bioc\R\library --no-vignettes --timings beadarray_2.44.0.tar.gz |
| StartedAt: 2022-04-12 16:04:49 -0400 (Tue, 12 Apr 2022) |
| EndedAt: 2022-04-12 16:19:02 -0400 (Tue, 12 Apr 2022) |
| EllapsedTime: 853.3 seconds |
| RetCode: 0 |
| Status: OK |
| CheckDir: beadarray.Rcheck |
| Warnings: 0 |
##############################################################################
##############################################################################
###
### Running command:
###
### C:\Users\biocbuild\bbs-3.14-bioc\R\bin\R.exe CMD check --force-multiarch --install=check:beadarray.install-out.txt --library=C:\Users\biocbuild\bbs-3.14-bioc\R\library --no-vignettes --timings beadarray_2.44.0.tar.gz
###
##############################################################################
##############################################################################
* using log directory 'C:/Users/biocbuild/bbs-3.14-bioc/meat/beadarray.Rcheck'
* using R version 4.1.3 (2022-03-10)
* using platform: x86_64-w64-mingw32 (64-bit)
* using session charset: ISO8859-1
* using option '--no-vignettes'
* checking for file 'beadarray/DESCRIPTION' ... OK
* this is package 'beadarray' version '2.44.0'
* checking package namespace information ... OK
* checking package dependencies ... OK
* checking if this is a source package ... OK
* checking if there is a namespace ... OK
* checking for hidden files and directories ... OK
* checking for portable file names ... OK
* checking whether package 'beadarray' can be installed ... OK
* checking installed package size ... OK
* checking package directory ... OK
* checking 'build' directory ... OK
* checking DESCRIPTION meta-information ... OK
* checking top-level files ... OK
* checking for left-over files ... OK
* checking index information ... OK
* checking package subdirectories ... OK
* checking R files for non-ASCII characters ... OK
* checking R files for syntax errors ... OK
* loading checks for arch 'i386'
** checking whether the package can be loaded ... OK
** checking whether the package can be loaded with stated dependencies ... OK
** checking whether the package can be unloaded cleanly ... OK
** checking whether the namespace can be loaded with stated dependencies ... OK
** checking whether the namespace can be unloaded cleanly ... OK
* loading checks for arch 'x64'
** checking whether the package can be loaded ... OK
** checking whether the package can be loaded with stated dependencies ... OK
** checking whether the package can be unloaded cleanly ... OK
** checking whether the namespace can be loaded with stated dependencies ... OK
** checking whether the namespace can be unloaded cleanly ... OK
* checking dependencies in R code ... NOTE
Package in Depends field not imported from: 'hexbin'
These packages need to be imported from (in the NAMESPACE file)
for when this namespace is loaded but not attached.
Unexported objects imported by ':::' calls:
'BeadDataPackR:::combineFiles' 'BeadDataPackR:::readHeader'
'Biobase:::assayDataStorageMode'
See the note in ?`:::` about the use of this operator.
* checking S3 generic/method consistency ... OK
* checking replacement functions ... OK
* checking foreign function calls ... NOTE
Foreign function call to a different package:
.Call("roundLocsFileValues", ..., PACKAGE = "BeadDataPackR")
See chapter 'System and foreign language interfaces' in the 'Writing R
Extensions' manual.
* checking R code for possible problems ... NOTE
combinedControlPlot: no visible binding for global variable 'Negative'
createGEOMeta: no visible binding for global variable 'metaTemplate'
expressionQCPipeline: no visible global function definition for
'openPage'
expressionQCPipeline: no visible global function definition for
'hwrite'
expressionQCPipeline: no visible global function definition for
'hwriteImage'
expressionQCPipeline: no visible global function definition for
'closePage'
getPlatformSigs: no visible global function definition for
'lumiHumanIDMapping_dbconn'
getPlatformSigs: no visible global function definition for
'dbListTables'
getPlatformSigs: no visible global function definition for
'dbListFields'
getPlatformSigs: no visible global function definition for 'dbGetQuery'
getPlatformSigs: no visible global function definition for
'lumiMouseIDMapping_dbconn'
getPlatformSigs: no visible global function definition for
'lumiRatIDMapping_dbconn'
imageplot: no visible binding for global variable 'Var1'
imageplot: no visible binding for global variable 'Var2'
imageplot: no visible binding for global variable 'value'
makeReport: no visible binding for global variable 'Nozzle.R1'
makeReport: no visible binding for global variable 'ggbio'
makeReport: no visible global function definition for 'newCustomReport'
makeReport: no visible global function definition for 'newSection'
makeReport: no visible global function definition for 'newTable'
makeReport: no visible global function definition for 'newParagraph'
makeReport: no visible global function definition for 'addTo'
makeReport: no visible global function definition for 'autoplot'
makeReport: no visible global function definition for 'plotIdeogram'
makeReport: no visible global function definition for 'tracks'
makeReport: no visible global function definition for 'newFigure'
makeReport: no visible binding for global variable 'IMAGE.TYPE.RASTER'
makeReport: no visible binding for global variable 'PROTECTION.PUBLIC'
makeReport: no visible binding for global variable 'value'
makeReport: no visible global function definition for 'writeReport'
maplots: no visible binding for global variable 'value.1'
maplots: no visible binding for global variable 'value'
normaliseIllumina: no visible global function definition for 'lumiT'
normaliseIllumina: no visible global function definition for
'normalize.qspline'
normaliseIllumina: no visible global function definition for 'vsn2'
plotBeadLocations2: no visible global function definition for 'qplot'
plotBeadLocations2: no visible global function definition for 'opts'
plotBeadLocations2: no visible global function definition for
'theme_blank'
plotProbe: no visible global function definition for 'autoplot'
plotProbe: no visible binding for global variable 'genesymbol'
plotProbe: no visible global function definition for 'tracks'
plotProbe: no visible binding for global variable 'PROBEQUALITY'
rankInvariantNormalise: no visible global function definition for
'normalize.invariantset'
suggestAnnotation: no visible binding for global variable
'platformSigs'
suggestAnnotation_Vector: no visible binding for global variable
'platformSigs'
[,ExpressionSetIllumina-ANY: no visible global function definition for
'assayDataEnvLock'
boxplot,ExpressionSetIllumina: no visible binding for global variable
'Var2'
boxplot,ExpressionSetIllumina: no visible binding for global variable
'value'
plotMA,ExpressionSetIllumina: no visible binding for global variable
'value.1'
plotMA,ExpressionSetIllumina: no visible binding for global variable
'value'
Undefined global functions or variables:
IMAGE.TYPE.RASTER Negative Nozzle.R1 PROBEQUALITY PROTECTION.PUBLIC
Var1 Var2 addTo assayDataEnvLock autoplot closePage dbGetQuery
dbListFields dbListTables genesymbol ggbio hwrite hwriteImage
lumiHumanIDMapping_dbconn lumiMouseIDMapping_dbconn
lumiRatIDMapping_dbconn lumiT metaTemplate newCustomReport newFigure
newParagraph newSection newTable normalize.invariantset
normalize.qspline openPage opts platformSigs plotIdeogram qplot
theme_blank tracks value value.1 vsn2 writeReport
* checking Rd files ... OK
* checking Rd metadata ... OK
* checking Rd cross-references ... OK
* checking for missing documentation entries ... OK
* checking for code/documentation mismatches ... OK
* checking Rd \usage sections ... OK
* checking Rd contents ... OK
* checking for unstated dependencies in examples ... OK
* checking contents of 'data' directory ... OK
* checking data for non-ASCII characters ... OK
* checking LazyData ... OK
* checking data for ASCII and uncompressed saves ... OK
* checking line endings in C/C++/Fortran sources/headers ... OK
* checking compiled code ... NOTE
Note: information on .o files for i386 is not available
Note: information on .o files for x64 is not available
File 'C:/Users/biocbuild/bbs-3.14-bioc/R/library/beadarray/libs/i386/beadarray.dll':
Found 'abort', possibly from 'abort' (C), 'runtime' (Fortran)
File 'C:/Users/biocbuild/bbs-3.14-bioc/R/library/beadarray/libs/x64/beadarray.dll':
Found 'abort', possibly from 'abort' (C), 'runtime' (Fortran)
Compiled code should not call entry points which might terminate R nor
write to stdout/stderr instead of to the console, nor use Fortran I/O
nor system RNGs. The detected symbols are linked into the code but
might come from libraries and not actually be called.
See 'Writing portable packages' in the 'Writing R Extensions' manual.
* checking files in 'vignettes' ... OK
* checking examples ...
** running examples for arch 'i386' ... OK
Examples with CPU (user + system) or elapsed time > 5s
user system elapsed
squeezedVarOutlierMethod 47.61 1.11 48.72
outlierplot 31.51 0.75 32.26
summarize 24.17 2.05 26.22
limmaDE 16.70 0.22 16.92
calculateOutlierStats 14.84 1.32 16.18
normaliseIllumina 13.03 1.34 15.64
controlProbeDetection 13.47 0.45 13.93
showArrayMask 12.41 0.67 13.08
identifyControlBeads 12.46 0.36 12.82
calculateDetection 12.13 0.44 12.56
insertSectionData 10.86 1.00 11.86
makeQCTable 10.80 0.83 11.62
poscontPlot 10.89 0.52 11.41
annotationInterface 7.61 0.47 8.09
quickSummary 7.71 0.32 8.03
imageplot 7.03 0.42 7.46
addFeatureData 7.00 0.22 11.50
** running examples for arch 'x64' ... OK
Examples with CPU (user + system) or elapsed time > 5s
user system elapsed
squeezedVarOutlierMethod 44.19 0.56 44.75
outlierplot 28.67 0.81 29.48
summarize 21.75 2.02 23.76
limmaDE 17.89 0.07 17.97
calculateOutlierStats 13.17 0.63 13.79
normaliseIllumina 11.35 0.45 11.84
controlProbeDetection 11.27 0.50 11.76
showArrayMask 10.05 0.94 10.98
identifyControlBeads 10.28 0.27 10.55
insertSectionData 9.50 0.80 10.30
calculateDetection 10.00 0.27 10.27
makeQCTable 9.06 0.94 10.00
poscontPlot 8.37 0.44 8.81
annotationInterface 6.79 0.40 7.21
quickSummary 6.56 0.48 7.05
imageplot 5.88 0.45 6.33
addFeatureData 5.39 0.18 5.57
* checking for unstated dependencies in vignettes ... OK
* checking package vignettes in 'inst/doc' ... OK
* checking running R code from vignettes ... SKIPPED
* checking re-building of vignette outputs ... SKIPPED
* checking PDF version of manual ... OK
* DONE
Status: 4 NOTEs
See
'C:/Users/biocbuild/bbs-3.14-bioc/meat/beadarray.Rcheck/00check.log'
for details.
beadarray.Rcheck/00install.out
##############################################################################
##############################################################################
###
### Running command:
###
### C:\cygwin\bin\curl.exe -O http://155.52.207.166/BBS/3.14/bioc/src/contrib/beadarray_2.44.0.tar.gz && rm -rf beadarray.buildbin-libdir && mkdir beadarray.buildbin-libdir && C:\Users\biocbuild\bbs-3.14-bioc\R\bin\R.exe CMD INSTALL --merge-multiarch --build --library=beadarray.buildbin-libdir beadarray_2.44.0.tar.gz && C:\Users\biocbuild\bbs-3.14-bioc\R\bin\R.exe CMD INSTALL beadarray_2.44.0.zip && rm beadarray_2.44.0.tar.gz beadarray_2.44.0.zip
###
##############################################################################
##############################################################################
% Total % Received % Xferd Average Speed Time Time Time Current
Dload Upload Total Spent Left Speed
0 0 0 0 0 0 0 0 --:--:-- --:--:-- --:--:-- 0
29 1320k 29 392k 0 0 698k 0 0:00:01 --:--:-- 0:00:01 698k
100 1320k 100 1320k 0 0 1071k 0 0:00:01 0:00:01 --:--:-- 1072k
install for i386
* installing *source* package 'beadarray' ...
** using staged installation
** libs
"C:/rtools40/mingw32/bin/"gcc -I"C:/Users/BIOCBU~1/BBS-3~1.14-/R/include" -DNDEBUG -I"C:/extsoft/include" -O2 -Wall -std=gnu99 -mfpmath=sse -msse2 -mstackrealign -c BASH.c -o BASH.o
"C:/rtools40/mingw32/bin/"gcc -I"C:/Users/BIOCBU~1/BBS-3~1.14-/R/include" -DNDEBUG -I"C:/extsoft/include" -O2 -Wall -std=gnu99 -mfpmath=sse -msse2 -mstackrealign -c HULK.c -o HULK.o
"C:/rtools40/mingw32/bin/"gcc -I"C:/Users/BIOCBU~1/BBS-3~1.14-/R/include" -DNDEBUG -I"C:/extsoft/include" -O2 -Wall -std=gnu99 -mfpmath=sse -msse2 -mstackrealign -c determiningGridPositions.c -o determiningGridPositions.o
"C:/rtools40/mingw32/bin/"gcc -I"C:/Users/BIOCBU~1/BBS-3~1.14-/R/include" -DNDEBUG -I"C:/extsoft/include" -O2 -Wall -std=gnu99 -mfpmath=sse -msse2 -mstackrealign -c findAllOutliers.c -o findAllOutliers.o
findAllOutliers.c: In function 'findBeadStatus':
findAllOutliers.c:196:29: warning: 'ma' may be used uninitialized in this function [-Wmaybe-uninitialized]
if((inten[k] < (m + *nmads*ma)) && (inten[k] > (m - *nmads*ma))){
~~~~~~^~~
findAllOutliers.c:196:53: warning: 'm' may be used uninitialized in this function [-Wmaybe-uninitialized]
if((inten[k] < (m + *nmads*ma)) && (inten[k] > (m - *nmads*ma))){
~~~^~~~~~~~~~~~
findAllOutliers.c: In function 'findAllOutliers':
findAllOutliers.c:226:20: warning: 'status' may be used uninitialized in this function [-Wmaybe-uninitialized]
beadStatusStruct *status;
^~~~~~
"C:/rtools40/mingw32/bin/"gcc -I"C:/Users/BIOCBU~1/BBS-3~1.14-/R/include" -DNDEBUG -I"C:/extsoft/include" -O2 -Wall -std=gnu99 -mfpmath=sse -msse2 -mstackrealign -c imageProcessing.c -o imageProcessing.o
imageProcessing.c: In function 'illuminaBackground':
imageProcessing.c:88: warning: ignoring #pragma omp parallel [-Wunknown-pragmas]
#pragma omp parallel shared(nthreads, nbeads, imageHeight, pixelMatrix, coords) private(tid, start, end)
imageProcessing.c: In function 'medianBackground':
imageProcessing.c:135: warning: ignoring #pragma omp parallel [-Wunknown-pragmas]
#pragma omp parallel shared(nthreads, nbeads, imageHeight, pixelMatrix, coords) private(tid, start, end)
imageProcessing.c: In function 'illuminaSharpen':
imageProcessing.c:244: warning: ignoring #pragma omp parallel [-Wunknown-pragmas]
#pragma omp parallel for private(i, j) shared(sharpened) num_threads(2)
imageProcessing.c:251: warning: ignoring #pragma omp parallel [-Wunknown-pragmas]
#pragma omp parallel for private(i, j, sum) shared(sharpened) num_threads(2)
C:/rtools40/mingw32/bin/gcc -shared -s -static-libgcc -o beadarray.dll tmp.def BASH.o HULK.o determiningGridPositions.o findAllOutliers.o imageProcessing.o -LC:/extsoft/lib/i386 -LC:/extsoft/lib -LC:/Users/BIOCBU~1/BBS-3~1.14-/R/bin/i386 -lR
installing to C:/Users/biocbuild/bbs-3.14-bioc/meat/beadarray.buildbin-libdir/00LOCK-beadarray/00new/beadarray/libs/i386
** R
** data
*** moving datasets to lazyload DB
** inst
** byte-compile and prepare package for lazy loading
** help
*** installing help indices
converting help for package 'beadarray'
finding HTML links ... done
BASH html
BASHCompact html
BASHDiffuse html
BASHExtended html
GEO html
GEOtemplate html
HULK html
addFeatureData html
annotationInterface html
backgroundCorrectSingleSection html
beadarray-package html
beadarrayUsersGuide html
boxplot html
calculateDetection html
calculateOutlierStats html
checkRegistration html
class-BeadLevelList html
class-ExpressionSetIllumina html
class-beadLevelData html
class-beadRegistrationData html
class-illuminaChannel html
class-limmaResults html
combine html
controlProbeDetection html
convertBeadLevelList html
createTargetsFile html
deprecatedFunctions html
dim html
expressionQCPipeline html
generateNeighbours html
getBeadData html
identifyControlBeads html
illuminaOutlierMethod html
imageProcessing html
imageplot html
insertBeadData html
insertSectionData html
limmaDE html
makeControlProfile html
makeQCTable html
maplots html
medianNormalise html
metrics html
noOutlierMethod html
normaliseIllumina html
numBeads html
outlierplot html
platformSigs html
plotBeadIntensities html
plotBeadLocations html
plotChipLayout html
plotMAXY html
plotTIFF html
poscontPlot html
processSwathData html
quickSummary html
readBeadSummaryData html
readIdatFiles html
readIllumina html
readLocsFile html
readTIFF html
sampleSheet html
sectionNames html
setWeights html
show html
showArrayMask html
squeezedVarOutlierMethod html
summarize html
transformationFunctions html
weightsOutlierMethod html
** building package indices
** installing vignettes
** testing if installed package can be loaded from temporary location
** testing if installed package can be loaded from final location
** testing if installed package keeps a record of temporary installation path
install for x64
* installing *source* package 'beadarray' ...
** libs
"C:/rtools40/mingw64/bin/"gcc -I"C:/Users/BIOCBU~1/BBS-3~1.14-/R/include" -DNDEBUG -I"C:/extsoft/include" -O2 -Wall -std=gnu99 -mfpmath=sse -msse2 -mstackrealign -c BASH.c -o BASH.o
"C:/rtools40/mingw64/bin/"gcc -I"C:/Users/BIOCBU~1/BBS-3~1.14-/R/include" -DNDEBUG -I"C:/extsoft/include" -O2 -Wall -std=gnu99 -mfpmath=sse -msse2 -mstackrealign -c HULK.c -o HULK.o
"C:/rtools40/mingw64/bin/"gcc -I"C:/Users/BIOCBU~1/BBS-3~1.14-/R/include" -DNDEBUG -I"C:/extsoft/include" -O2 -Wall -std=gnu99 -mfpmath=sse -msse2 -mstackrealign -c determiningGridPositions.c -o determiningGridPositions.o
"C:/rtools40/mingw64/bin/"gcc -I"C:/Users/BIOCBU~1/BBS-3~1.14-/R/include" -DNDEBUG -I"C:/extsoft/include" -O2 -Wall -std=gnu99 -mfpmath=sse -msse2 -mstackrealign -c findAllOutliers.c -o findAllOutliers.o
findAllOutliers.c: In function 'findBeadStatus':
findAllOutliers.c:196:29: warning: 'ma' may be used uninitialized in this function [-Wmaybe-uninitialized]
if((inten[k] < (m + *nmads*ma)) && (inten[k] > (m - *nmads*ma))){
~~~~~~^~~
findAllOutliers.c:196:53: warning: 'm' may be used uninitialized in this function [-Wmaybe-uninitialized]
if((inten[k] < (m + *nmads*ma)) && (inten[k] > (m - *nmads*ma))){
~~~^~~~~~~~~~~~
findAllOutliers.c: In function 'findAllOutliers':
findAllOutliers.c:226:20: warning: 'status' may be used uninitialized in this function [-Wmaybe-uninitialized]
beadStatusStruct *status;
^~~~~~
"C:/rtools40/mingw64/bin/"gcc -I"C:/Users/BIOCBU~1/BBS-3~1.14-/R/include" -DNDEBUG -I"C:/extsoft/include" -O2 -Wall -std=gnu99 -mfpmath=sse -msse2 -mstackrealign -c imageProcessing.c -o imageProcessing.o
imageProcessing.c: In function 'illuminaBackground':
imageProcessing.c:88: warning: ignoring #pragma omp parallel [-Wunknown-pragmas]
#pragma omp parallel shared(nthreads, nbeads, imageHeight, pixelMatrix, coords) private(tid, start, end)
imageProcessing.c: In function 'medianBackground':
imageProcessing.c:135: warning: ignoring #pragma omp parallel [-Wunknown-pragmas]
#pragma omp parallel shared(nthreads, nbeads, imageHeight, pixelMatrix, coords) private(tid, start, end)
imageProcessing.c: In function 'illuminaSharpen':
imageProcessing.c:244: warning: ignoring #pragma omp parallel [-Wunknown-pragmas]
#pragma omp parallel for private(i, j) shared(sharpened) num_threads(2)
imageProcessing.c:251: warning: ignoring #pragma omp parallel [-Wunknown-pragmas]
#pragma omp parallel for private(i, j, sum) shared(sharpened) num_threads(2)
C:/rtools40/mingw64/bin/gcc -shared -s -static-libgcc -o beadarray.dll tmp.def BASH.o HULK.o determiningGridPositions.o findAllOutliers.o imageProcessing.o -LC:/extsoft/lib/x64 -LC:/extsoft/lib -LC:/Users/BIOCBU~1/BBS-3~1.14-/R/bin/x64 -lR
installing to C:/Users/biocbuild/bbs-3.14-bioc/meat/beadarray.buildbin-libdir/beadarray/libs/x64
** testing if installed package can be loaded
* MD5 sums
packaged installation of 'beadarray' as beadarray_2.44.0.zip
* DONE (beadarray)
* installing to library 'C:/Users/biocbuild/bbs-3.14-bioc/R/library'
package 'beadarray' successfully unpacked and MD5 sums checked
|
beadarray.Rcheck/examples_i386/beadarray-Ex.timings
|
beadarray.Rcheck/examples_x64/beadarray-Ex.timings
|