| Back to Multiple platform build/check report for BioC 3.14 |
|
This page was generated on 2022-04-13 12:06:12 -0400 (Wed, 13 Apr 2022).
| Hostname | OS | Arch (*) | R version | Installed pkgs |
|---|---|---|---|---|
| nebbiolo2 | Linux (Ubuntu 20.04.4 LTS) | x86_64 | 4.1.3 (2022-03-10) -- "One Push-Up" | 4324 |
| tokay2 | Windows Server 2012 R2 Standard | x64 | 4.1.3 (2022-03-10) -- "One Push-Up" | 4077 |
| machv2 | macOS 10.14.6 Mojave | x86_64 | 4.1.3 (2022-03-10) -- "One Push-Up" | 4137 |
| Click on any hostname to see more info about the system (e.g. compilers) (*) as reported by 'uname -p', except on Windows and Mac OS X | ||||
|
To the developers/maintainers of the baySeq package: - Please allow up to 24 hours (and sometimes 48 hours) for your latest push to git@git.bioconductor.org:packages/baySeq.git to reflect on this report. See How and When does the builder pull? When will my changes propagate? for more information. - Make sure to use the following settings in order to reproduce any error or warning you see on this page. |
| Package 127/2083 | Hostname | OS / Arch | INSTALL | BUILD | CHECK | BUILD BIN | ||||||||
| baySeq 2.28.0 (landing page) Thomas J. Hardcastle
| nebbiolo2 | Linux (Ubuntu 20.04.4 LTS) / x86_64 | OK | OK | OK | |||||||||
| tokay2 | Windows Server 2012 R2 Standard / x64 | OK | OK | OK | OK | |||||||||
| machv2 | macOS 10.14.6 Mojave / x86_64 | OK | OK | OK | OK | |||||||||
| Package: baySeq |
| Version: 2.28.0 |
| Command: C:\cygwin\bin\curl.exe -O http://155.52.207.166/BBS/3.14/bioc/src/contrib/baySeq_2.28.0.tar.gz && rm -rf baySeq.buildbin-libdir && mkdir baySeq.buildbin-libdir && C:\Users\biocbuild\bbs-3.14-bioc\R\bin\R.exe CMD INSTALL --merge-multiarch --build --library=baySeq.buildbin-libdir baySeq_2.28.0.tar.gz && C:\Users\biocbuild\bbs-3.14-bioc\R\bin\R.exe CMD INSTALL baySeq_2.28.0.zip && rm baySeq_2.28.0.tar.gz baySeq_2.28.0.zip |
| StartedAt: 2022-04-12 05:47:22 -0400 (Tue, 12 Apr 2022) |
| EndedAt: 2022-04-12 05:48:19 -0400 (Tue, 12 Apr 2022) |
| EllapsedTime: 57.2 seconds |
| RetCode: 0 |
| Status: OK |
##############################################################################
##############################################################################
###
### Running command:
###
### C:\cygwin\bin\curl.exe -O http://155.52.207.166/BBS/3.14/bioc/src/contrib/baySeq_2.28.0.tar.gz && rm -rf baySeq.buildbin-libdir && mkdir baySeq.buildbin-libdir && C:\Users\biocbuild\bbs-3.14-bioc\R\bin\R.exe CMD INSTALL --merge-multiarch --build --library=baySeq.buildbin-libdir baySeq_2.28.0.tar.gz && C:\Users\biocbuild\bbs-3.14-bioc\R\bin\R.exe CMD INSTALL baySeq_2.28.0.zip && rm baySeq_2.28.0.tar.gz baySeq_2.28.0.zip
###
##############################################################################
##############################################################################
% Total % Received % Xferd Average Speed Time Time Time Current
Dload Upload Total Spent Left Speed
0 0 0 0 0 0 0 0 --:--:-- --:--:-- --:--:-- 0
0 277k 0 2489 0 0 30097 0 0:00:09 --:--:-- 0:00:09 29987
100 277k 100 277k 0 0 461k 0 --:--:-- --:--:-- --:--:-- 461k
install for i386
* installing *source* package 'baySeq' ...
** using staged installation
** R
** data
** byte-compile and prepare package for lazy loading
** help
*** installing help indices
converting help for package 'baySeq'
finding HTML links ... done
CDPost html
CDPriors html
allModels html
baySeq-classes html
baySeq-package html
bimodalSep html
densityFunction html
densityFunctions html
getLibsizes html
getLikelihoods html
getPosteriors html
getPriors html
getTPs html
makeOrderings html
marginaliseEqual html
marginalisePairwise html
methObservables html
mobAnnotation html
mobData html
pairData html
plotMA.CD html
plotNullPrior html
plotPosteriors html
plotPriors html
selectTop html
simData html
summarisePosteriors html
topCounts html
zimData html
** building package indices
** installing vignettes
** testing if installed package can be loaded from temporary location
** testing if installed package can be loaded from final location
** testing if installed package keeps a record of temporary installation path
install for x64
* installing *source* package 'baySeq' ...
** testing if installed package can be loaded
* MD5 sums
packaged installation of 'baySeq' as baySeq_2.28.0.zip
* DONE (baySeq)
* installing to library 'C:/Users/biocbuild/bbs-3.14-bioc/R/library'
package 'baySeq' successfully unpacked and MD5 sums checked