| Back to Multiple platform build/check report for BioC 3.14 | 
 | 
This page was generated on 2022-04-13 12:06:11 -0400 (Wed, 13 Apr 2022).
| Hostname | OS | Arch (*) | R version | Installed pkgs | 
|---|---|---|---|---|
| nebbiolo2 | Linux (Ubuntu 20.04.4 LTS) | x86_64 | 4.1.3 (2022-03-10) -- "One Push-Up" | 4324 | 
| tokay2 | Windows Server 2012 R2 Standard | x64 | 4.1.3 (2022-03-10) -- "One Push-Up" | 4077 | 
| machv2 | macOS 10.14.6 Mojave | x86_64 | 4.1.3 (2022-03-10) -- "One Push-Up" | 4137 | 
| Click on any hostname to see more info about the system (e.g. compilers) (*) as reported by 'uname -p', except on Windows and Mac OS X | ||||
| To the developers/maintainers of the atSNP package: - Please allow up to 24 hours (and sometimes 48 hours) for your latest push to git@git.bioconductor.org:packages/atSNP.git to reflect on this report. See How and When does the builder pull? When will my changes propagate? for more information. - Make sure to use the following settings in order to reproduce any error or warning you see on this page. | 
| Package 96/2083 | Hostname | OS / Arch | INSTALL | BUILD | CHECK | BUILD BIN | ||||||||
| atSNP 1.10.0  (landing page) Sunyoung Shin 
 | nebbiolo2 | Linux (Ubuntu 20.04.4 LTS) / x86_64 | OK | OK | OK |  | ||||||||
| tokay2 | Windows Server 2012 R2 Standard / x64 | OK | OK | OK | OK |  | ||||||||
| machv2 | macOS 10.14.6 Mojave / x86_64 | OK | OK | OK | OK |  | ||||||||
| Package: atSNP | 
| Version: 1.10.0 | 
| Command: rm -rf atSNP.buildbin-libdir && mkdir atSNP.buildbin-libdir && C:\Users\biocbuild\bbs-3.14-bioc\R\bin\R.exe CMD INSTALL --merge-multiarch --build --library=atSNP.buildbin-libdir atSNP_1.10.0.tar.gz | 
| StartedAt: 2022-04-13 05:37:51 -0400 (Wed, 13 Apr 2022) | 
| EndedAt: 2022-04-13 05:39:47 -0400 (Wed, 13 Apr 2022) | 
| EllapsedTime: 116.7 seconds | 
| RetCode: 0 | 
| Status: OK | 
| PackageFile: atSNP_1.10.0.zip | 
| PackageFileSize: 1.703 MiB | 
##############################################################################
##############################################################################
###
### Running command:
###
###   rm -rf atSNP.buildbin-libdir && mkdir atSNP.buildbin-libdir && C:\Users\biocbuild\bbs-3.14-bioc\R\bin\R.exe CMD INSTALL --merge-multiarch --build --library=atSNP.buildbin-libdir atSNP_1.10.0.tar.gz
###
##############################################################################
##############################################################################
install for i386
* installing *source* package 'atSNP' ...
** using staged installation
** libs
"C:/rtools40/mingw32/bin/"g++ -std=gnu++11  -I"C:/Users/BIOCBU~1/BBS-3~1.14-/R/include" -DNDEBUG  -I'C:/Users/biocbuild/bbs-3.14-bioc/R/library/Rcpp/include'   -I"C:/extsoft/include"     -O2 -Wall  -mfpmath=sse -msse2 -mstackrealign  -c ImportanceSample.cpp -o ImportanceSample.o
"C:/rtools40/mingw32/bin/"g++ -std=gnu++11  -I"C:/Users/BIOCBU~1/BBS-3~1.14-/R/include" -DNDEBUG  -I'C:/Users/biocbuild/bbs-3.14-bioc/R/library/Rcpp/include'   -I"C:/extsoft/include"     -O2 -Wall  -mfpmath=sse -msse2 -mstackrealign  -c ImportanceSampleChange.cpp -o ImportanceSampleChange.o
"C:/rtools40/mingw32/bin/"g++ -std=gnu++11  -I"C:/Users/BIOCBU~1/BBS-3~1.14-/R/include" -DNDEBUG  -I'C:/Users/biocbuild/bbs-3.14-bioc/R/library/Rcpp/include'   -I"C:/extsoft/include"     -O2 -Wall  -mfpmath=sse -msse2 -mstackrealign  -c ImportanceSampleDiff.cpp -o ImportanceSampleDiff.o
"C:/rtools40/mingw32/bin/"g++ -std=gnu++11  -I"C:/Users/BIOCBU~1/BBS-3~1.14-/R/include" -DNDEBUG  -I'C:/Users/biocbuild/bbs-3.14-bioc/R/library/Rcpp/include'   -I"C:/extsoft/include"     -O2 -Wall  -mfpmath=sse -msse2 -mstackrealign  -c MotifScore.cpp -o MotifScore.o
C:/rtools40/mingw32/bin/g++ -std=gnu++11 -shared -s -static-libgcc -o atSNP.dll tmp.def ImportanceSample.o ImportanceSampleChange.o ImportanceSampleDiff.o MotifScore.o -LC:/extsoft/lib/i386 -LC:/extsoft/lib -LC:/Users/BIOCBU~1/BBS-3~1.14-/R/bin/i386 -lR
installing to C:/Users/biocbuild/bbs-3.14-bioc/meat/atSNP.buildbin-libdir/00LOCK-atSNP/00new/atSNP/libs/i386
** R
** data
** inst
** byte-compile and prepare package for lazy loading
** help
*** installing help indices
  converting help for package 'atSNP'
    finding HTML links ... done
    ComputeMotifScore                       html  
    ComputePValues                          html  
    GetIUPACSequence                        html  
    LoadFastaData                           html  
    LoadMotifLibrary                        html  
    LoadSNPData                             html  
    MatchSubsequence                        html  
    atSNP-package                           html  
    dtMotifMatch                            html  
    encode_motif                            html  
    encode_motifinfo                        html  
    jaspar_motif                            html  
    jaspar_motifinfo                        html  
    motif_library                           html  
    motif_match                             html  
    motif_scores                            html  
    plotMotifMatch                          html  
    prior                                   html  
    snpInfo                                 html  
    snp_tbl                                 html  
    transition                              html  
** building package indices
** installing vignettes
** testing if installed package can be loaded from temporary location
** testing if installed package can be loaded from final location
** testing if installed package keeps a record of temporary installation path
install for x64
* installing *source* package 'atSNP' ...
** libs
"C:/rtools40/mingw64/bin/"g++ -std=gnu++11  -I"C:/Users/BIOCBU~1/BBS-3~1.14-/R/include" -DNDEBUG  -I'C:/Users/biocbuild/bbs-3.14-bioc/R/library/Rcpp/include'   -I"C:/extsoft/include"     -O2 -Wall  -mfpmath=sse -msse2 -mstackrealign  -c ImportanceSample.cpp -o ImportanceSample.o
"C:/rtools40/mingw64/bin/"g++ -std=gnu++11  -I"C:/Users/BIOCBU~1/BBS-3~1.14-/R/include" -DNDEBUG  -I'C:/Users/biocbuild/bbs-3.14-bioc/R/library/Rcpp/include'   -I"C:/extsoft/include"     -O2 -Wall  -mfpmath=sse -msse2 -mstackrealign  -c ImportanceSampleChange.cpp -o ImportanceSampleChange.o
"C:/rtools40/mingw64/bin/"g++ -std=gnu++11  -I"C:/Users/BIOCBU~1/BBS-3~1.14-/R/include" -DNDEBUG  -I'C:/Users/biocbuild/bbs-3.14-bioc/R/library/Rcpp/include'   -I"C:/extsoft/include"     -O2 -Wall  -mfpmath=sse -msse2 -mstackrealign  -c ImportanceSampleDiff.cpp -o ImportanceSampleDiff.o
"C:/rtools40/mingw64/bin/"g++ -std=gnu++11  -I"C:/Users/BIOCBU~1/BBS-3~1.14-/R/include" -DNDEBUG  -I'C:/Users/biocbuild/bbs-3.14-bioc/R/library/Rcpp/include'   -I"C:/extsoft/include"     -O2 -Wall  -mfpmath=sse -msse2 -mstackrealign  -c MotifScore.cpp -o MotifScore.o
C:/rtools40/mingw64/bin/g++ -std=gnu++11 -shared -s -static-libgcc -o atSNP.dll tmp.def ImportanceSample.o ImportanceSampleChange.o ImportanceSampleDiff.o MotifScore.o -LC:/extsoft/lib/x64 -LC:/extsoft/lib -LC:/Users/BIOCBU~1/BBS-3~1.14-/R/bin/x64 -lR
installing to C:/Users/biocbuild/bbs-3.14-bioc/meat/atSNP.buildbin-libdir/atSNP/libs/x64
** testing if installed package can be loaded
* MD5 sums
packaged installation of 'atSNP' as atSNP_1.10.0.zip
* DONE (atSNP)