| Back to Multiple platform build/check report for BioC 3.14 |
|
This page was generated on 2022-04-13 12:05:03 -0400 (Wed, 13 Apr 2022).
| Hostname | OS | Arch (*) | R version | Installed pkgs |
|---|---|---|---|---|
| nebbiolo2 | Linux (Ubuntu 20.04.4 LTS) | x86_64 | 4.1.3 (2022-03-10) -- "One Push-Up" | 4324 |
| tokay2 | Windows Server 2012 R2 Standard | x64 | 4.1.3 (2022-03-10) -- "One Push-Up" | 4077 |
| machv2 | macOS 10.14.6 Mojave | x86_64 | 4.1.3 (2022-03-10) -- "One Push-Up" | 4137 |
| Click on any hostname to see more info about the system (e.g. compilers) (*) as reported by 'uname -p', except on Windows and Mac OS X | ||||
|
To the developers/maintainers of the animalcules package: - Please allow up to 24 hours (and sometimes 48 hours) for your latest push to git@git.bioconductor.org:packages/animalcules.git to reflect on this report. See How and When does the builder pull? When will my changes propagate? for more information. - Make sure to use the following settings in order to reproduce any error or warning you see on this page. |
| Package 56/2083 | Hostname | OS / Arch | INSTALL | BUILD | CHECK | BUILD BIN | ||||||||
| animalcules 1.10.0 (landing page) Yue Zhao
| nebbiolo2 | Linux (Ubuntu 20.04.4 LTS) / x86_64 | OK | OK | OK | |||||||||
| tokay2 | Windows Server 2012 R2 Standard / x64 | OK | OK | OK | OK | |||||||||
| machv2 | macOS 10.14.6 Mojave / x86_64 | OK | OK | OK | OK | |||||||||
| Package: animalcules |
| Version: 1.10.0 |
| Command: /home/biocbuild/bbs-3.14-bioc/R/bin/R CMD check --install=check:animalcules.install-out.txt --library=/home/biocbuild/bbs-3.14-bioc/R/library --no-vignettes --timings animalcules_1.10.0.tar.gz |
| StartedAt: 2022-04-12 06:21:50 -0400 (Tue, 12 Apr 2022) |
| EndedAt: 2022-04-12 06:26:21 -0400 (Tue, 12 Apr 2022) |
| EllapsedTime: 270.7 seconds |
| RetCode: 0 |
| Status: OK |
| CheckDir: animalcules.Rcheck |
| Warnings: 0 |
##############################################################################
##############################################################################
###
### Running command:
###
### /home/biocbuild/bbs-3.14-bioc/R/bin/R CMD check --install=check:animalcules.install-out.txt --library=/home/biocbuild/bbs-3.14-bioc/R/library --no-vignettes --timings animalcules_1.10.0.tar.gz
###
##############################################################################
##############################################################################
* using log directory ‘/home/biocbuild/bbs-3.14-bioc/meat/animalcules.Rcheck’
* using R version 4.1.3 (2022-03-10)
* using platform: x86_64-pc-linux-gnu (64-bit)
* using session charset: UTF-8
* using option ‘--no-vignettes’
* checking for file ‘animalcules/DESCRIPTION’ ... OK
* this is package ‘animalcules’ version ‘1.10.0’
* package encoding: UTF-8
* checking package namespace information ... OK
* checking package dependencies ... OK
* checking if this is a source package ... OK
* checking if there is a namespace ... OK
* checking for hidden files and directories ... OK
* checking for portable file names ... OK
* checking for sufficient/correct file permissions ... OK
* checking whether package ‘animalcules’ can be installed ... OK
* checking installed package size ... OK
* checking package directory ... OK
* checking ‘build’ directory ... OK
* checking DESCRIPTION meta-information ... OK
* checking top-level files ... OK
* checking for left-over files ... OK
* checking index information ... OK
* checking package subdirectories ... OK
* checking R files for non-ASCII characters ... OK
* checking R files for syntax errors ... OK
* checking whether the package can be loaded ... OK
* checking whether the package can be loaded with stated dependencies ... OK
* checking whether the package can be unloaded cleanly ... OK
* checking whether the namespace can be loaded with stated dependencies ... OK
* checking whether the namespace can be unloaded cleanly ... OK
* checking dependencies in R code ... OK
* checking S3 generic/method consistency ... OK
* checking replacement functions ... OK
* checking foreign function calls ... OK
* checking R code for possible problems ... NOTE
alpha_div_boxplot: no visible binding for global variable ‘richness’
differential_abundance: no visible binding for global variable ‘padj’
differential_abundance: no visible binding for global variable ‘pValue’
differential_abundance: no visible binding for global variable
‘log2FoldChange’
diversities_help: no visible binding for global variable ‘x’
find_biomarker: no visible binding for global variable ‘rowname’
find_biomarker: no visible binding for global variable ‘importance’
find_biomarker: no visible binding for global variable ‘.’
find_biomarker: no visible binding for global variable ‘Overall’
find_biomarker: no visible binding for global variable ‘y’
find_biomarker: no visible binding for global variable ‘m’
find_biomarker: no visible binding for global variable ‘d’
relabu_barplot: no visible binding for global variable ‘.’
relabu_boxplot: no visible binding for global variable ‘.’
relabu_heatmap: no visible binding for global variable ‘.’
upsample_counts: no visible binding for global variable ‘.’
Undefined global functions or variables:
. Overall d importance log2FoldChange m pValue padj richness rowname
x y
* checking Rd files ... OK
* checking Rd metadata ... OK
* checking Rd cross-references ... OK
* checking for missing documentation entries ... OK
* checking for code/documentation mismatches ... OK
* checking Rd \usage sections ... OK
* checking Rd contents ... OK
* checking for unstated dependencies in examples ... OK
* checking files in ‘vignettes’ ... OK
* checking examples ... OK
Examples with CPU (user + system) or elapsed time > 5s
user system elapsed
differential_abundance 7.211 0.252 7.463
find_biomarker 6.526 0.184 6.711
* checking for unstated dependencies in ‘tests’ ... OK
* checking tests ...
Running ‘testthat.R’
OK
* checking for unstated dependencies in vignettes ... OK
* checking package vignettes in ‘inst/doc’ ... OK
* checking running R code from vignettes ... SKIPPED
* checking re-building of vignette outputs ... SKIPPED
* checking PDF version of manual ... OK
* DONE
Status: 1 NOTE
See
‘/home/biocbuild/bbs-3.14-bioc/meat/animalcules.Rcheck/00check.log’
for details.
animalcules.Rcheck/00install.out
############################################################################## ############################################################################## ### ### Running command: ### ### /home/biocbuild/bbs-3.14-bioc/R/bin/R CMD INSTALL animalcules ### ############################################################################## ############################################################################## * installing to library ‘/home/biocbuild/bbs-3.14-bioc/R/library’ * installing *source* package ‘animalcules’ ... ** using staged installation ** R ** inst ** byte-compile and prepare package for lazy loading ** help *** installing help indices ** building package indices ** installing vignettes ** testing if installed package can be loaded from temporary location ** testing if installed package can be loaded from final location ** testing if installed package keeps a record of temporary installation path * DONE (animalcules)
animalcules.Rcheck/tests/testthat.Rout
R version 4.1.3 (2022-03-10) -- "One Push-Up"
Copyright (C) 2022 The R Foundation for Statistical Computing
Platform: x86_64-pc-linux-gnu (64-bit)
R is free software and comes with ABSOLUTELY NO WARRANTY.
You are welcome to redistribute it under certain conditions.
Type 'license()' or 'licence()' for distribution details.
R is a collaborative project with many contributors.
Type 'contributors()' for more information and
'citation()' on how to cite R or R packages in publications.
Type 'demo()' for some demos, 'help()' for on-line help, or
'help.start()' for an HTML browser interface to help.
Type 'q()' to quit R.
> library(testthat)
> library(animalcules)
>
> test_check("animalcules")
[ FAIL 0 | WARN 4 | SKIP 0 | PASS 38 ]
[ FAIL 0 | WARN 4 | SKIP 0 | PASS 38 ]
>
> proc.time()
user system elapsed
31.472 1.610 33.733
animalcules.Rcheck/animalcules-Ex.timings
| name | user | system | elapsed | |
| alpha_div_boxplot | 0.434 | 0.008 | 0.446 | |
| alpha_div_test | 0.004 | 0.000 | 0.003 | |
| counts_to_logcpm | 0.001 | 0.000 | 0.001 | |
| counts_to_relabu | 0.002 | 0.000 | 0.002 | |
| df_char_to_factor | 0.000 | 0.000 | 0.001 | |
| differential_abundance | 7.211 | 0.252 | 7.463 | |
| dimred_pca | 0.202 | 0.004 | 0.206 | |
| dimred_pcoa | 0.100 | 0.012 | 0.113 | |
| dimred_tsne | 4.581 | 0.040 | 4.622 | |
| dimred_umap | 0.367 | 0.048 | 0.415 | |
| diversities | 0 | 0 | 0 | |
| diversities_help | 0.001 | 0.000 | 0.000 | |
| diversity_beta_boxplot | 0.184 | 0.012 | 0.196 | |
| diversity_beta_heatmap | 0.196 | 0.012 | 0.208 | |
| diversity_beta_test | 0.082 | 0.004 | 0.086 | |
| do_alpha_div_test | 0.044 | 0.000 | 0.044 | |
| filter_categorize | 0.304 | 0.008 | 0.311 | |
| filter_summary_bar_density | 0.248 | 0.008 | 0.256 | |
| filter_summary_pie_box | 0.173 | 0.000 | 0.173 | |
| find_biomarker | 6.526 | 0.184 | 6.711 | |
| find_taxon_mat | 0.186 | 0.028 | 0.986 | |
| find_taxonomy | 0.029 | 0.004 | 0.955 | |
| find_taxonomy_300 | 0.036 | 0.000 | 0.555 | |
| gini_simpson | 0 | 0 | 0 | |
| grep_tid | 0 | 0 | 0 | |
| inverse_simpson | 0 | 0 | 0 | |
| is_categorical | 0.000 | 0.000 | 0.001 | |
| is_integer0 | 0 | 0 | 0 | |
| is_integer1 | 0 | 0 | 0 | |
| mae_pick_organisms | 0.158 | 0.008 | 0.165 | |
| mae_pick_samples | 0.084 | 0.000 | 0.083 | |
| pct2str | 0 | 0 | 0 | |
| percent | 0.001 | 0.000 | 0.000 | |
| relabu_barplot | 0.827 | 0.096 | 0.923 | |
| relabu_boxplot | 0.096 | 0.004 | 0.100 | |
| relabu_heatmap | 0.110 | 0.004 | 0.114 | |
| run_animalcules | 0 | 0 | 0 | |
| shannon | 0 | 0 | 0 | |
| simpson_index | 0 | 0 | 0 | |
| upsample_counts | 0.011 | 0.000 | 0.011 | |