| Back to Multiple platform build/check report for BioC 3.14 |
|
This page was generated on 2022-04-13 12:06:09 -0400 (Wed, 13 Apr 2022).
| Hostname | OS | Arch (*) | R version | Installed pkgs |
|---|---|---|---|---|
| nebbiolo2 | Linux (Ubuntu 20.04.4 LTS) | x86_64 | 4.1.3 (2022-03-10) -- "One Push-Up" | 4324 |
| tokay2 | Windows Server 2012 R2 Standard | x64 | 4.1.3 (2022-03-10) -- "One Push-Up" | 4077 |
| machv2 | macOS 10.14.6 Mojave | x86_64 | 4.1.3 (2022-03-10) -- "One Push-Up" | 4137 |
| Click on any hostname to see more info about the system (e.g. compilers) (*) as reported by 'uname -p', except on Windows and Mac OS X | ||||
|
To the developers/maintainers of the alsace package: - Please allow up to 24 hours (and sometimes 48 hours) for your latest push to git@git.bioconductor.org:packages/alsace.git to reflect on this report. See How and When does the builder pull? When will my changes propagate? for more information. - Make sure to use the following settings in order to reproduce any error or warning you see on this page. |
| Package 47/2083 | Hostname | OS / Arch | INSTALL | BUILD | CHECK | BUILD BIN | ||||||||
Ron Wehrens
| nebbiolo2 | Linux (Ubuntu 20.04.4 LTS) / x86_64 | OK | OK | WARNINGS | |||||||||
| tokay2 | Windows Server 2012 R2 Standard / x64 | OK | OK | WARNINGS | OK | |||||||||
| machv2 | macOS 10.14.6 Mojave / x86_64 | OK | OK | WARNINGS | OK | |||||||||
| Package: alsace |
| Version: 1.30.0 |
| Command: rm -rf alsace.buildbin-libdir && mkdir alsace.buildbin-libdir && C:\Users\biocbuild\bbs-3.14-bioc\R\bin\R.exe CMD INSTALL --merge-multiarch --build --library=alsace.buildbin-libdir alsace_1.30.0.tar.gz |
| StartedAt: 2022-04-13 05:34:56 -0400 (Wed, 13 Apr 2022) |
| EndedAt: 2022-04-13 05:35:08 -0400 (Wed, 13 Apr 2022) |
| EllapsedTime: 12.5 seconds |
| RetCode: 0 |
| Status: OK |
| PackageFile: alsace_1.30.0.zip |
| PackageFileSize: 1.468 MiB |
##############################################################################
##############################################################################
###
### Running command:
###
### rm -rf alsace.buildbin-libdir && mkdir alsace.buildbin-libdir && C:\Users\biocbuild\bbs-3.14-bioc\R\bin\R.exe CMD INSTALL --merge-multiarch --build --library=alsace.buildbin-libdir alsace_1.30.0.tar.gz
###
##############################################################################
##############################################################################
install for i386
* installing *source* package 'alsace' ...
** using staged installation
** R
** data
** inst
** byte-compile and prepare package for lazy loading
** help
*** installing help indices
converting help for package 'alsace'
finding HTML links ... done
alsace-package html
components html
correctPeaks html
correctRT html
finding level-2 HTML links ... done
doALS html
filterPeaks html
fitpeaks html
getAllPeaks html
getPeakTable html
opa html
preprocess html
showALSresult html
tea html
teaMerged html
windows html
** building package indices
** installing vignettes
** testing if installed package can be loaded from temporary location
Warning: Package 'alsace' is deprecated and will be removed from Bioconductor
version 3.15
** testing if installed package can be loaded from final location
Warning: Package 'alsace' is deprecated and will be removed from Bioconductor
version 3.15
** testing if installed package keeps a record of temporary installation path
install for x64
* installing *source* package 'alsace' ...
** testing if installed package can be loaded
Warning: Package 'alsace' is deprecated and will be removed from Bioconductor
version 3.15
* MD5 sums
packaged installation of 'alsace' as alsace_1.30.0.zip
* DONE (alsace)