| Back to Multiple platform build/check report for BioC 3.14 |
|
This page was generated on 2022-04-13 12:09:00 -0400 (Wed, 13 Apr 2022).
| Hostname | OS | Arch (*) | R version | Installed pkgs |
|---|---|---|---|---|
| nebbiolo2 | Linux (Ubuntu 20.04.4 LTS) | x86_64 | 4.1.3 (2022-03-10) -- "One Push-Up" | 4324 |
| tokay2 | Windows Server 2012 R2 Standard | x64 | 4.1.3 (2022-03-10) -- "One Push-Up" | 4077 |
| machv2 | macOS 10.14.6 Mojave | x86_64 | 4.1.3 (2022-03-10) -- "One Push-Up" | 4137 |
| Click on any hostname to see more info about the system (e.g. compilers) (*) as reported by 'uname -p', except on Windows and Mac OS X | ||||
|
To the developers/maintainers of the YAPSA package: - Please allow up to 24 hours (and sometimes 48 hours) for your latest push to git@git.bioconductor.org:packages/YAPSA.git to reflect on this report. See How and When does the builder pull? When will my changes propagate? for more information. - Make sure to use the following settings in order to reproduce any error or warning you see on this page. |
| Package 2078/2083 | Hostname | OS / Arch | INSTALL | BUILD | CHECK | BUILD BIN | ||||||||
| YAPSA 1.20.1 (landing page) Daniel Huebschmann
| nebbiolo2 | Linux (Ubuntu 20.04.4 LTS) / x86_64 | OK | OK | OK | |||||||||
| tokay2 | Windows Server 2012 R2 Standard / x64 | OK | OK | OK | OK | |||||||||
| machv2 | macOS 10.14.6 Mojave / x86_64 | OK | OK | OK | OK | |||||||||
| Package: YAPSA |
| Version: 1.20.1 |
| Command: /Library/Frameworks/R.framework/Resources/bin/R CMD check --install=check:YAPSA.install-out.txt --library=/Library/Frameworks/R.framework/Resources/library --no-vignettes --timings YAPSA_1.20.1.tar.gz |
| StartedAt: 2022-04-12 20:01:13 -0400 (Tue, 12 Apr 2022) |
| EndedAt: 2022-04-12 20:11:27 -0400 (Tue, 12 Apr 2022) |
| EllapsedTime: 614.3 seconds |
| RetCode: 0 |
| Status: OK |
| CheckDir: YAPSA.Rcheck |
| Warnings: 0 |
##############################################################################
##############################################################################
###
### Running command:
###
### /Library/Frameworks/R.framework/Resources/bin/R CMD check --install=check:YAPSA.install-out.txt --library=/Library/Frameworks/R.framework/Resources/library --no-vignettes --timings YAPSA_1.20.1.tar.gz
###
##############################################################################
##############################################################################
* using log directory ‘/Users/biocbuild/bbs-3.14-bioc/meat/YAPSA.Rcheck’
* using R version 4.1.3 (2022-03-10)
* using platform: x86_64-apple-darwin17.0 (64-bit)
* using session charset: UTF-8
* using option ‘--no-vignettes’
* checking for file ‘YAPSA/DESCRIPTION’ ... OK
* checking extension type ... Package
* this is package ‘YAPSA’ version ‘1.20.1’
* package encoding: UTF-8
* checking package namespace information ... OK
* checking package dependencies ... OK
* checking if this is a source package ... OK
* checking if there is a namespace ... OK
* checking for hidden files and directories ... OK
* checking for portable file names ... OK
* checking for sufficient/correct file permissions ... OK
* checking whether package ‘YAPSA’ can be installed ... OK
* checking installed package size ... OK
* checking package directory ... OK
* checking ‘build’ directory ... OK
* checking DESCRIPTION meta-information ... OK
* checking top-level files ... OK
* checking for left-over files ... OK
* checking index information ... OK
* checking package subdirectories ... OK
* checking R files for non-ASCII characters ... OK
* checking R files for syntax errors ... OK
* checking whether the package can be loaded ... OK
* checking whether the package can be loaded with stated dependencies ... OK
* checking whether the package can be unloaded cleanly ... OK
* checking whether the namespace can be loaded with stated dependencies ... OK
* checking whether the namespace can be unloaded cleanly ... OK
* checking dependencies in R code ... OK
* checking S3 generic/method consistency ... OK
* checking replacement functions ... OK
* checking foreign function calls ... OK
* checking R code for possible problems ... NOTE
read_list: no visible global function definition for 'detectCores'
read_list: no visible global function definition for 'makeCluster'
read_list: no visible global function definition for 'mclapply'
read_list: no visible global function definition for 'stopCluster'
Undefined global functions or variables:
detectCores makeCluster mclapply stopCluster
* checking Rd files ... OK
* checking Rd metadata ... OK
* checking Rd cross-references ... OK
* checking for missing documentation entries ... OK
* checking for code/documentation mismatches ... OK
* checking Rd \usage sections ... OK
* checking Rd contents ... OK
* checking for unstated dependencies in examples ... OK
* checking contents of ‘data’ directory ... OK
* checking data for non-ASCII characters ... OK
* checking data for ASCII and uncompressed saves ... OK
* checking installed files from ‘inst/doc’ ... OK
* checking files in ‘vignettes’ ... OK
* checking examples ... OK
Examples with CPU (user + system) or elapsed time > 5s
user system elapsed
confidence_indel_only_calulation 25.855 0.510 26.370
create_indel_mutation_catalogue_from_df 17.537 0.335 17.872
run_SMC 6.278 0.237 6.516
build_gene_list_for_pathway 4.734 0.100 23.509
* checking for unstated dependencies in ‘tests’ ... OK
* checking tests ...
Running ‘testthat.R’
OK
* checking for unstated dependencies in vignettes ... OK
* checking package vignettes in ‘inst/doc’ ... OK
* checking running R code from vignettes ... SKIPPED
* checking re-building of vignette outputs ... SKIPPED
* checking PDF version of manual ... OK
* DONE
Status: 1 NOTE
See
‘/Users/biocbuild/bbs-3.14-bioc/meat/YAPSA.Rcheck/00check.log’
for details.
YAPSA.Rcheck/00install.out
############################################################################## ############################################################################## ### ### Running command: ### ### /Library/Frameworks/R.framework/Resources/bin/R CMD INSTALL YAPSA ### ############################################################################## ############################################################################## * installing to library ‘/Library/Frameworks/R.framework/Versions/4.1/Resources/library’ * installing *source* package ‘YAPSA’ ... ** using staged installation ** R ** data ** inst ** byte-compile and prepare package for lazy loading Found more than one class "atomicVector" in cache; using the first, from namespace 'Matrix' Also defined by ‘Rmpfr’ Found more than one class "atomicVector" in cache; using the first, from namespace 'Matrix' Also defined by ‘Rmpfr’ Found more than one class "atomicVector" in cache; using the first, from namespace 'Matrix' Also defined by ‘Rmpfr’ Found more than one class "atomicVector" in cache; using the first, from namespace 'Matrix' Also defined by ‘Rmpfr’ Found more than one class "atomicVector" in cache; using the first, from namespace 'Matrix' Also defined by ‘Rmpfr’ Found more than one class "atomicVector" in cache; using the first, from namespace 'Matrix' Also defined by ‘Rmpfr’ Found more than one class "atomicVector" in cache; using the first, from namespace 'Matrix' Also defined by ‘Rmpfr’ Found more than one class "atomicVector" in cache; using the first, from namespace 'Matrix' Also defined by ‘Rmpfr’ Found more than one class "atomicVector" in cache; using the first, from namespace 'Matrix' Also defined by ‘Rmpfr’ Found more than one class "atomicVector" in cache; using the first, from namespace 'Matrix' Also defined by ‘Rmpfr’ Found more than one class "atomicVector" in cache; using the first, from namespace 'Matrix' Also defined by ‘Rmpfr’ Found more than one class "atomicVector" in cache; using the first, from namespace 'Matrix' Also defined by ‘Rmpfr’ ** help *** installing help indices ** building package indices ** installing vignettes ** testing if installed package can be loaded from temporary location Found more than one class "atomicVector" in cache; using the first, from namespace 'Matrix' Also defined by ‘Rmpfr’ Found more than one class "atomicVector" in cache; using the first, from namespace 'Matrix' Also defined by ‘Rmpfr’ Found more than one class "atomicVector" in cache; using the first, from namespace 'Matrix' Also defined by ‘Rmpfr’ Found more than one class "atomicVector" in cache; using the first, from namespace 'Matrix' Also defined by ‘Rmpfr’ Found more than one class "atomicVector" in cache; using the first, from namespace 'Matrix' Also defined by ‘Rmpfr’ Found more than one class "atomicVector" in cache; using the first, from namespace 'Matrix' Also defined by ‘Rmpfr’ Found more than one class "atomicVector" in cache; using the first, from namespace 'Matrix' Also defined by ‘Rmpfr’ Found more than one class "atomicVector" in cache; using the first, from namespace 'Matrix' Also defined by ‘Rmpfr’ Found more than one class "atomicVector" in cache; using the first, from namespace 'Matrix' Also defined by ‘Rmpfr’ Found more than one class "atomicVector" in cache; using the first, from namespace 'Matrix' Also defined by ‘Rmpfr’ Found more than one class "atomicVector" in cache; using the first, from namespace 'Matrix' Also defined by ‘Rmpfr’ Found more than one class "atomicVector" in cache; using the first, from namespace 'Matrix' Also defined by ‘Rmpfr’ ** testing if installed package can be loaded from final location Found more than one class "atomicVector" in cache; using the first, from namespace 'Matrix' Also defined by ‘Rmpfr’ Found more than one class "atomicVector" in cache; using the first, from namespace 'Matrix' Also defined by ‘Rmpfr’ Found more than one class "atomicVector" in cache; using the first, from namespace 'Matrix' Also defined by ‘Rmpfr’ Found more than one class "atomicVector" in cache; using the first, from namespace 'Matrix' Also defined by ‘Rmpfr’ Found more than one class "atomicVector" in cache; using the first, from namespace 'Matrix' Also defined by ‘Rmpfr’ Found more than one class "atomicVector" in cache; using the first, from namespace 'Matrix' Also defined by ‘Rmpfr’ Found more than one class "atomicVector" in cache; using the first, from namespace 'Matrix' Also defined by ‘Rmpfr’ Found more than one class "atomicVector" in cache; using the first, from namespace 'Matrix' Also defined by ‘Rmpfr’ Found more than one class "atomicVector" in cache; using the first, from namespace 'Matrix' Also defined by ‘Rmpfr’ Found more than one class "atomicVector" in cache; using the first, from namespace 'Matrix' Also defined by ‘Rmpfr’ Found more than one class "atomicVector" in cache; using the first, from namespace 'Matrix' Also defined by ‘Rmpfr’ Found more than one class "atomicVector" in cache; using the first, from namespace 'Matrix' Also defined by ‘Rmpfr’ ** testing if installed package keeps a record of temporary installation path * DONE (YAPSA)
YAPSA.Rcheck/tests/testthat.Rout
R version 4.1.3 (2022-03-10) -- "One Push-Up"
Copyright (C) 2022 The R Foundation for Statistical Computing
Platform: x86_64-apple-darwin17.0 (64-bit)
R is free software and comes with ABSOLUTELY NO WARRANTY.
You are welcome to redistribute it under certain conditions.
Type 'license()' or 'licence()' for distribution details.
R is a collaborative project with many contributors.
Type 'contributors()' for more information and
'citation()' on how to cite R or R packages in publications.
Type 'demo()' for some demos, 'help()' for on-line help, or
'help.start()' for an HTML browser interface to help.
Type 'q()' to quit R.
> Sys.setenv(R_TESTS=" ")
> library(testthat)
> library(YAPSA)
Loading required package: GenomicRanges
Loading required package: stats4
Loading required package: BiocGenerics
Attaching package: 'BiocGenerics'
The following objects are masked from 'package:stats':
IQR, mad, sd, var, xtabs
The following objects are masked from 'package:base':
Filter, Find, Map, Position, Reduce, anyDuplicated, append,
as.data.frame, basename, cbind, colnames, dirname, do.call,
duplicated, eval, evalq, get, grep, grepl, intersect, is.unsorted,
lapply, mapply, match, mget, order, paste, pmax, pmax.int, pmin,
pmin.int, rank, rbind, rownames, sapply, setdiff, sort, table,
tapply, union, unique, unsplit, which.max, which.min
Loading required package: S4Vectors
Attaching package: 'S4Vectors'
The following objects are masked from 'package:base':
I, expand.grid, unname
Loading required package: IRanges
Loading required package: GenomeInfoDb
Loading required package: ggplot2
Loading required package: grid
Found more than one class "atomicVector" in cache; using the first, from namespace 'Matrix'
Also defined by 'Rmpfr'
Found more than one class "atomicVector" in cache; using the first, from namespace 'Matrix'
Also defined by 'Rmpfr'
Found more than one class "atomicVector" in cache; using the first, from namespace 'Matrix'
Also defined by 'Rmpfr'
Found more than one class "atomicVector" in cache; using the first, from namespace 'Matrix'
Also defined by 'Rmpfr'
Found more than one class "atomicVector" in cache; using the first, from namespace 'Matrix'
Also defined by 'Rmpfr'
Found more than one class "atomicVector" in cache; using the first, from namespace 'Matrix'
Also defined by 'Rmpfr'
Found more than one class "atomicVector" in cache; using the first, from namespace 'Matrix'
Also defined by 'Rmpfr'
Found more than one class "atomicVector" in cache; using the first, from namespace 'Matrix'
Also defined by 'Rmpfr'
Found more than one class "atomicVector" in cache; using the first, from namespace 'Matrix'
Also defined by 'Rmpfr'
Found more than one class "atomicVector" in cache; using the first, from namespace 'Matrix'
Also defined by 'Rmpfr'
Found more than one class "atomicVector" in cache; using the first, from namespace 'Matrix'
Also defined by 'Rmpfr'
Found more than one class "atomicVector" in cache; using the first, from namespace 'Matrix'
Also defined by 'Rmpfr'
>
> test_check("YAPSA")
YAPSA:::shapiro_if_possible::error: Non-numeric inputYAPSA:::makeVRangesFromDataFrame::warning:strand information missing, set to "+".
YAPSA:::makeVRangesFromDataFrame::in_PID.field found. Retrieving PID information.
YAPSA:::makeVRangesFromDataFrame::in_subgroup.field found. Retrieving subgroup information.
[ FAIL 0 | WARN 0 | SKIP 0 | PASS 62 ]
>
> proc.time()
user system elapsed
18.750 0.860 19.597
YAPSA.Rcheck/YAPSA-Ex.timings
| name | user | system | elapsed | |
| GenomeOfNl_raw | 0.010 | 0.002 | 0.011 | |
| LCD | 0.009 | 0.000 | 0.009 | |
| LCD_complex_cutoff | 0 | 0 | 0 | |
| MutCat_indel_df | 0.005 | 0.003 | 0.007 | |
| SMC | 0 | 0 | 0 | |
| SMC_perPID | 0.000 | 0.001 | 0.000 | |
| add_annotation | 0 | 0 | 0 | |
| add_as_fist_to_list | 0 | 0 | 0 | |
| aggregate_exposures_by_category | 0 | 0 | 0 | |
| annotate_intermut_dist_PID | 0.022 | 0.002 | 0.024 | |
| annotate_intermut_dist_cohort | 0.028 | 0.002 | 0.030 | |
| annotation_exposures_barplot | 0.000 | 0.001 | 0.000 | |
| annotation_exposures_list_barplot | 0 | 0 | 0 | |
| annotation_heatmap_exposures | 0.000 | 0.001 | 0.000 | |
| attribute_nucleotide_exchanges | 0.003 | 0.001 | 0.004 | |
| attribute_sequence_contex_indel | 1.776 | 0.021 | 1.798 | |
| attribution_of_indels | 0.755 | 0.086 | 0.843 | |
| build_gene_list_for_pathway | 4.734 | 0.100 | 23.509 | |
| classify_indels | 0.000 | 0.001 | 0.000 | |
| compare_SMCs | 0 | 0 | 0 | |
| compare_exposures | 0 | 0 | 0 | |
| compare_expousre_sets | 0.004 | 0.000 | 0.004 | |
| compare_sets | 0.004 | 0.000 | 0.005 | |
| compare_to_catalogues | 0.000 | 0.001 | 0.000 | |
| complex_heatmap_exposures | 1.180 | 0.015 | 1.196 | |
| computeLogLik | 0 | 0 | 0 | |
| compute_comparison_stat_df | 0 | 0 | 0 | |
| confIntExp | 1.916 | 0.113 | 2.030 | |
| confidence_indel_calulation | 0.001 | 0.001 | 0.003 | |
| confidence_indel_only_calulation | 25.855 | 0.510 | 26.370 | |
| correct_rounded | 0 | 0 | 0 | |
| cosineDist | 0 | 0 | 0 | |
| cosineMatchDist | 0.001 | 0.000 | 0.002 | |
| create_indel_mut_cat_from_df | 0.581 | 0.014 | 0.595 | |
| create_indel_mutation_catalogue_from_df | 17.537 | 0.335 | 17.872 | |
| create_mutation_catalogue_from_VR | 1.851 | 0.090 | 1.941 | |
| create_mutation_catalogue_from_df | 1.332 | 0.082 | 1.415 | |
| cut_breaks_as_intervals | 0.135 | 0.003 | 0.138 | |
| deriveSigInd_df | 0.001 | 0.000 | 0.000 | |
| disambiguateVector | 0 | 0 | 0 | |
| enrichSigs | 0 | 0 | 0 | |
| exampleYAPSA | 0.089 | 0.006 | 0.094 | |
| exome_mutCatRaw_df | 0.014 | 0.005 | 0.018 | |
| exposures_barplot | 3.516 | 0.013 | 3.530 | |
| extract_names_from_gene_list | 0 | 0 | 0 | |
| find_affected_PIDs | 0 | 0 | 0 | |
| getSequenceContext | 0.169 | 0.007 | 0.176 | |
| get_extreme_PIDs | 0.035 | 0.003 | 0.036 | |
| hclust_exposures | 0.007 | 0.002 | 0.009 | |
| logLikelihood | 1.410 | 0.085 | 1.496 | |
| lymphomaNature2013_mutCat_df | 0.007 | 0.002 | 0.008 | |
| makeVRangesFromDataFrame | 0.191 | 0.001 | 0.193 | |
| make_catalogue_strata_df | 0 | 0 | 0 | |
| make_comparison_matrix | 0.118 | 0.009 | 0.127 | |
| make_strata_df | 0 | 0 | 0 | |
| make_subgroups_df | 0.036 | 0.003 | 0.039 | |
| melt_exposures | 0.000 | 0.000 | 0.001 | |
| merge_exposures | 0.000 | 0.000 | 0.001 | |
| normalizeMotifs_otherRownames | 0.001 | 0.000 | 0.001 | |
| normalize_df_per_dim | 0.010 | 0.002 | 0.012 | |
| plotExchangeSpectra | 0 | 0 | 0 | |
| plotExchangeSpectra_indel | 1.288 | 0.004 | 1.293 | |
| plotExposuresConfidence | 0 | 0 | 0 | |
| plotExposuresConfidence_indel | 0 | 0 | 0 | |
| plot_SMC | 0.000 | 0.001 | 0.000 | |
| plot_exposures | 0.511 | 0.005 | 0.516 | |
| plot_strata | 0.000 | 0.000 | 0.001 | |
| read_entry | 0.000 | 0.001 | 0.001 | |
| relateSigs | 0.000 | 0.000 | 0.001 | |
| repeat_df | 0.003 | 0.001 | 0.004 | |
| round_precision | 0.000 | 0.000 | 0.001 | |
| run_SMC | 6.278 | 0.237 | 6.516 | |
| run_annotate_vcf_pl | 0.000 | 0.001 | 0.000 | |
| run_comparison_catalogues | 0 | 0 | 0 | |
| run_comparison_general | 0 | 0 | 0 | |
| run_kmer_frequency_correction | 0 | 0 | 0 | |
| run_kmer_frequency_normalization | 0 | 0 | 0 | |
| run_plot_strata_general | 0.000 | 0.000 | 0.001 | |
| shapiro_if_possible | 0.001 | 0.000 | 0.002 | |
| split_exposures_by_subgroups | 0 | 0 | 0 | |
| stat_plot_subgroups | 0 | 0 | 0 | |
| stat_test_SMC | 0 | 0 | 0 | |
| stat_test_subgroups | 0 | 0 | 0 | |
| stderrmean | 0.001 | 0.001 | 0.000 | |
| sum_over_list_of_df | 0.003 | 0.000 | 0.003 | |
| temp_trellis_rainfall_plot | 1.930 | 0.009 | 1.941 | |
| testSigs | 0 | 0 | 0 | |
| test_exposureAffected | 0 | 0 | 0 | |
| test_gene_list_in_exposures | 0 | 0 | 0 | |
| transform_rownames_R_to_MATLAB | 0 | 0 | 0 | |
| translate_to_hg19 | 0.005 | 0.001 | 0.005 | |
| trellis_rainfall_plot | 1.929 | 0.010 | 1.940 | |
| trellis_rainfall_plot_old | 1.962 | 0.012 | 1.984 | |
| variateExp | 3.200 | 0.116 | 3.318 | |
| variateExpSingle | 1.379 | 0.092 | 1.471 | |