| Back to Multiple platform build/check report for BioC 3.14 |
|
This page was generated on 2022-04-13 12:08:56 -0400 (Wed, 13 Apr 2022).
| Hostname | OS | Arch (*) | R version | Installed pkgs |
|---|---|---|---|---|
| nebbiolo2 | Linux (Ubuntu 20.04.4 LTS) | x86_64 | 4.1.3 (2022-03-10) -- "One Push-Up" | 4324 |
| tokay2 | Windows Server 2012 R2 Standard | x64 | 4.1.3 (2022-03-10) -- "One Push-Up" | 4077 |
| machv2 | macOS 10.14.6 Mojave | x86_64 | 4.1.3 (2022-03-10) -- "One Push-Up" | 4137 |
| Click on any hostname to see more info about the system (e.g. compilers) (*) as reported by 'uname -p', except on Windows and Mac OS X | ||||
|
To the developers/maintainers of the ToxicoGx package: - Please allow up to 24 hours (and sometimes 48 hours) for your latest push to git@git.bioconductor.org:packages/ToxicoGx.git to reflect on this report. See How and When does the builder pull? When will my changes propagate? for more information. - Make sure to use the following settings in order to reproduce any error or warning you see on this page. |
| Package 1975/2083 | Hostname | OS / Arch | INSTALL | BUILD | CHECK | BUILD BIN | ||||||||
| ToxicoGx 1.4.0 (landing page) Benjamin Haibe-Kains
| nebbiolo2 | Linux (Ubuntu 20.04.4 LTS) / x86_64 | OK | OK | OK | |||||||||
| tokay2 | Windows Server 2012 R2 Standard / x64 | OK | OK | OK | OK | |||||||||
| machv2 | macOS 10.14.6 Mojave / x86_64 | OK | OK | OK | OK | |||||||||
| Package: ToxicoGx |
| Version: 1.4.0 |
| Command: /Library/Frameworks/R.framework/Resources/bin/R CMD check --install=check:ToxicoGx.install-out.txt --library=/Library/Frameworks/R.framework/Resources/library --no-vignettes --timings ToxicoGx_1.4.0.tar.gz |
| StartedAt: 2022-04-12 19:29:05 -0400 (Tue, 12 Apr 2022) |
| EndedAt: 2022-04-12 19:34:56 -0400 (Tue, 12 Apr 2022) |
| EllapsedTime: 351.4 seconds |
| RetCode: 0 |
| Status: OK |
| CheckDir: ToxicoGx.Rcheck |
| Warnings: 0 |
############################################################################## ############################################################################## ### ### Running command: ### ### /Library/Frameworks/R.framework/Resources/bin/R CMD check --install=check:ToxicoGx.install-out.txt --library=/Library/Frameworks/R.framework/Resources/library --no-vignettes --timings ToxicoGx_1.4.0.tar.gz ### ############################################################################## ############################################################################## * using log directory ‘/Users/biocbuild/bbs-3.14-bioc/meat/ToxicoGx.Rcheck’ * using R version 4.1.3 (2022-03-10) * using platform: x86_64-apple-darwin17.0 (64-bit) * using session charset: UTF-8 * using option ‘--no-vignettes’ * checking for file ‘ToxicoGx/DESCRIPTION’ ... OK * checking extension type ... Package * this is package ‘ToxicoGx’ version ‘1.4.0’ * package encoding: UTF-8 * checking package namespace information ... OK * checking package dependencies ... OK * checking if this is a source package ... OK * checking if there is a namespace ... OK * checking for hidden files and directories ... OK * checking for portable file names ... OK * checking for sufficient/correct file permissions ... OK * checking whether package ‘ToxicoGx’ can be installed ... OK * checking installed package size ... OK * checking package directory ... OK * checking ‘build’ directory ... OK * checking DESCRIPTION meta-information ... OK * checking top-level files ... OK * checking for left-over files ... OK * checking index information ... OK * checking package subdirectories ... OK * checking R files for non-ASCII characters ... OK * checking R files for syntax errors ... OK * checking whether the package can be loaded ... OK * checking whether the package can be loaded with stated dependencies ... OK * checking whether the package can be unloaded cleanly ... OK * checking whether the namespace can be loaded with stated dependencies ... OK * checking whether the namespace can be unloaded cleanly ... OK * checking dependencies in R code ... OK * checking S3 generic/method consistency ... OK * checking replacement functions ... OK * checking foreign function calls ... OK * checking R code for possible problems ... NOTE computeLimmaDiffExpr,ToxicoSet: no visible global function definition for ‘metadata<-’ computeLimmaDiffExpr,ToxicoSet: no visible binding for global variable ‘cell’ Undefined global functions or variables: cell metadata<- * checking Rd files ... OK * checking Rd metadata ... OK * checking Rd cross-references ... OK * checking for missing documentation entries ... OK * checking for code/documentation mismatches ... OK * checking Rd \usage sections ... OK * checking Rd contents ... OK * checking for unstated dependencies in examples ... OK * checking contents of ‘data’ directory ... OK * checking data for non-ASCII characters ... NOTE Note: found 47 marked UTF-8 strings * checking LazyData ... OK * checking data for ASCII and uncompressed saves ... OK * checking files in ‘vignettes’ ... OK * checking examples ... OK * checking for unstated dependencies in ‘tests’ ... OK * checking tests ... Running ‘testthat.R’ OK * checking for unstated dependencies in vignettes ... OK * checking package vignettes in ‘inst/doc’ ... OK * checking running R code from vignettes ... SKIPPED * checking re-building of vignette outputs ... SKIPPED * checking PDF version of manual ... OK * DONE Status: 2 NOTEs See ‘/Users/biocbuild/bbs-3.14-bioc/meat/ToxicoGx.Rcheck/00check.log’ for details.
ToxicoGx.Rcheck/00install.out
############################################################################## ############################################################################## ### ### Running command: ### ### /Library/Frameworks/R.framework/Resources/bin/R CMD INSTALL ToxicoGx ### ############################################################################## ############################################################################## * installing to library ‘/Library/Frameworks/R.framework/Versions/4.1/Resources/library’ * installing *source* package ‘ToxicoGx’ ... ** using staged installation ** R ** data *** moving datasets to lazyload DB ** byte-compile and prepare package for lazy loading ** help *** installing help indices ** building package indices ** installing vignettes ** testing if installed package can be loaded from temporary location ** testing if installed package can be loaded from final location ** testing if installed package keeps a record of temporary installation path * DONE (ToxicoGx)
ToxicoGx.Rcheck/tests/testthat.Rout
R version 4.1.3 (2022-03-10) -- "One Push-Up"
Copyright (C) 2022 The R Foundation for Statistical Computing
Platform: x86_64-apple-darwin17.0 (64-bit)
R is free software and comes with ABSOLUTELY NO WARRANTY.
You are welcome to redistribute it under certain conditions.
Type 'license()' or 'licence()' for distribution details.
R is a collaborative project with many contributors.
Type 'contributors()' for more information and
'citation()' on how to cite R or R packages in publications.
Type 'demo()' for some demos, 'help()' for on-line help, or
'help.start()' for an HTML browser interface to help.
Type 'q()' to quit R.
> library(testthat)
> library(ToxicoGx)
Loading required package: CoreGx
Loading required package: BiocGenerics
Attaching package: 'BiocGenerics'
The following objects are masked from 'package:stats':
IQR, mad, sd, var, xtabs
The following objects are masked from 'package:base':
Filter, Find, Map, Position, Reduce, anyDuplicated, append,
as.data.frame, basename, cbind, colnames, dirname, do.call,
duplicated, eval, evalq, get, grep, grepl, intersect, is.unsorted,
lapply, mapply, match, mget, order, paste, pmax, pmax.int, pmin,
pmin.int, rank, rbind, rownames, sapply, setdiff, sort, table,
tapply, union, unique, unsplit, which.max, which.min
Loading required package: SummarizedExperiment
Loading required package: MatrixGenerics
Loading required package: matrixStats
Attaching package: 'MatrixGenerics'
The following objects are masked from 'package:matrixStats':
colAlls, colAnyNAs, colAnys, colAvgsPerRowSet, colCollapse,
colCounts, colCummaxs, colCummins, colCumprods, colCumsums,
colDiffs, colIQRDiffs, colIQRs, colLogSumExps, colMadDiffs,
colMads, colMaxs, colMeans2, colMedians, colMins, colOrderStats,
colProds, colQuantiles, colRanges, colRanks, colSdDiffs, colSds,
colSums2, colTabulates, colVarDiffs, colVars, colWeightedMads,
colWeightedMeans, colWeightedMedians, colWeightedSds,
colWeightedVars, rowAlls, rowAnyNAs, rowAnys, rowAvgsPerColSet,
rowCollapse, rowCounts, rowCummaxs, rowCummins, rowCumprods,
rowCumsums, rowDiffs, rowIQRDiffs, rowIQRs, rowLogSumExps,
rowMadDiffs, rowMads, rowMaxs, rowMeans2, rowMedians, rowMins,
rowOrderStats, rowProds, rowQuantiles, rowRanges, rowRanks,
rowSdDiffs, rowSds, rowSums2, rowTabulates, rowVarDiffs, rowVars,
rowWeightedMads, rowWeightedMeans, rowWeightedMedians,
rowWeightedSds, rowWeightedVars
Loading required package: GenomicRanges
Loading required package: stats4
Loading required package: S4Vectors
Attaching package: 'S4Vectors'
The following objects are masked from 'package:base':
I, expand.grid, unname
Loading required package: IRanges
Loading required package: GenomeInfoDb
Loading required package: Biobase
Welcome to Bioconductor
Vignettes contain introductory material; view with
'browseVignettes()'. To cite Bioconductor, see
'citation("Biobase")', and for packages 'citation("pkgname")'.
Attaching package: 'Biobase'
The following object is masked from 'package:MatrixGenerics':
rowMedians
The following objects are masked from 'package:matrixStats':
anyMissing, rowMedians
Attaching package: 'ToxicoGx'
The following objects are masked from 'package:CoreGx':
curation, curation<-, datasetType, datasetType<-, sensitivityRaw,
sensitivityRaw<-, sensitivitySlot, sensitivitySlot<-, showSigAnnot,
subsetTo, summarizeMolecularProfiles, summarizeSensitivityProfiles,
updateCellId
> test_check("ToxicoGx")
[ FAIL 0 | WARN 0 | SKIP 0 | PASS 53 ]
>
> proc.time()
user system elapsed
18.539 0.893 19.431
ToxicoGx.Rcheck/ToxicoGx-Ex.timings
| name | user | system | elapsed | |
| ToxicoSet-class | 3.617 | 0.410 | 4.031 | |
| annotation-set | 0.093 | 0.015 | 0.108 | |
| annotation | 0.091 | 0.010 | 0.101 | |
| availableTSets | 0.001 | 0.000 | 0.000 | |
| checkTSetStructure | 0.124 | 0.018 | 0.141 | |
| computeAUC | 0.971 | 0.090 | 1.062 | |
| computeICn | 2.074 | 0.088 | 2.163 | |
| computeLimmaDiffExpr-ToxicoSet-method | 0.000 | 0.000 | 0.001 | |
| curation-set | 0.095 | 0.006 | 0.102 | |
| curation | 0.113 | 0.018 | 0.132 | |
| datasetType-set | 0.079 | 0.008 | 0.086 | |
| dim-ToxicoSet-method | 0.099 | 0.011 | 0.109 | |
| downloadTSet | 0 | 0 | 0 | |
| drugGeneResponseCurve | 0.000 | 0.001 | 0.001 | |
| drugInfo-set | 0.108 | 0.024 | 0.132 | |
| drugInfo | 0.088 | 0.003 | 0.091 | |
| drugNames-set | 0.133 | 0.005 | 0.139 | |
| drugNames | 0.096 | 0.011 | 0.107 | |
| drugPerturbationSig | 0.000 | 0.001 | 0.001 | |
| drugTimeResponseCurve | 0.262 | 0.008 | 0.270 | |
| geneDrugPerturbation | 3.137 | 0.072 | 3.212 | |
| logLogisticRegression | 1.111 | 0.002 | 1.113 | |
| mDataNames-ToxicoSet-method | 0.000 | 0.001 | 0.000 | |
| name-ToxicoSet-method | 0.000 | 0.000 | 0.001 | |
| sensitivityRaw-set | 0.003 | 0.003 | 0.007 | |
| sensitivityRaw | 0.214 | 0.107 | 0.321 | |
| show-ToxicoSet-method | 0.015 | 0.001 | 0.016 | |
| show-ToxicoSig-method | 0.577 | 0.066 | 0.644 | |
| showSigAnnot | 0.505 | 0.027 | 0.532 | |
| sub-ToxicoSet-ANY-ANY-ANY-method | 0.074 | 0.000 | 0.074 | |
| subsetTo | 0.076 | 0.000 | 0.076 | |
| summarizeMolecularProfiles | 1.287 | 0.028 | 1.316 | |
| summarizeSensitivityProfiles | 0.11 | 0.01 | 0.12 | |
| updateCellId | 0.120 | 0.007 | 0.128 | |
| updateDrugId | 0.149 | 0.012 | 0.161 | |