| Back to Multiple platform build/check report for BioC 3.14 |
|
This page was generated on 2022-04-13 12:07:29 -0400 (Wed, 13 Apr 2022).
| Hostname | OS | Arch (*) | R version | Installed pkgs |
|---|---|---|---|---|
| nebbiolo2 | Linux (Ubuntu 20.04.4 LTS) | x86_64 | 4.1.3 (2022-03-10) -- "One Push-Up" | 4324 |
| tokay2 | Windows Server 2012 R2 Standard | x64 | 4.1.3 (2022-03-10) -- "One Push-Up" | 4077 |
| machv2 | macOS 10.14.6 Mojave | x86_64 | 4.1.3 (2022-03-10) -- "One Push-Up" | 4137 |
| Click on any hostname to see more info about the system (e.g. compilers) (*) as reported by 'uname -p', except on Windows and Mac OS X | ||||
|
To the developers/maintainers of the TitanCNA package: - Please allow up to 24 hours (and sometimes 48 hours) for your latest push to git@git.bioconductor.org:packages/TitanCNA.git to reflect on this report. See How and When does the builder pull? When will my changes propagate? for more information. - Make sure to use the following settings in order to reproduce any error or warning you see on this page. |
| Package 1963/2083 | Hostname | OS / Arch | INSTALL | BUILD | CHECK | BUILD BIN | ||||||||
| TitanCNA 1.32.0 (landing page) Gavin Ha
| nebbiolo2 | Linux (Ubuntu 20.04.4 LTS) / x86_64 | OK | OK | WARNINGS | |||||||||
| tokay2 | Windows Server 2012 R2 Standard / x64 | OK | OK | WARNINGS | OK | |||||||||
| machv2 | macOS 10.14.6 Mojave / x86_64 | OK | OK | WARNINGS | OK | |||||||||
| Package: TitanCNA |
| Version: 1.32.0 |
| Command: rm -rf TitanCNA.buildbin-libdir && mkdir TitanCNA.buildbin-libdir && C:\Users\biocbuild\bbs-3.14-bioc\R\bin\R.exe CMD INSTALL --merge-multiarch --build --library=TitanCNA.buildbin-libdir TitanCNA_1.32.0.tar.gz |
| StartedAt: 2022-04-13 07:15:56 -0400 (Wed, 13 Apr 2022) |
| EndedAt: 2022-04-13 07:17:10 -0400 (Wed, 13 Apr 2022) |
| EllapsedTime: 74.1 seconds |
| RetCode: 0 |
| Status: OK |
| PackageFile: TitanCNA_1.32.0.zip |
| PackageFileSize: 3.945 MiB |
##############################################################################
##############################################################################
###
### Running command:
###
### rm -rf TitanCNA.buildbin-libdir && mkdir TitanCNA.buildbin-libdir && C:\Users\biocbuild\bbs-3.14-bioc\R\bin\R.exe CMD INSTALL --merge-multiarch --build --library=TitanCNA.buildbin-libdir TitanCNA_1.32.0.tar.gz
###
##############################################################################
##############################################################################
install for i386
* installing *source* package 'TitanCNA' ...
** using staged installation
** libs
"C:/rtools40/mingw32/bin/"gcc -I"C:/Users/BIOCBU~1/BBS-3~1.14-/R/include" -DNDEBUG -I"C:/extsoft/include" -O2 -Wall -std=gnu99 -mfpmath=sse -msse2 -mstackrealign -c fwd_backC_clonalCN.c -o fwd_backC_clonalCN.o
"C:/rtools40/mingw32/bin/"gcc -I"C:/Users/BIOCBU~1/BBS-3~1.14-/R/include" -DNDEBUG -I"C:/extsoft/include" -O2 -Wall -std=gnu99 -mfpmath=sse -msse2 -mstackrealign -c getPositionOverlapC.c -o getPositionOverlapC.o
"C:/rtools40/mingw32/bin/"gcc -I"C:/Users/BIOCBU~1/BBS-3~1.14-/R/include" -DNDEBUG -I"C:/extsoft/include" -O2 -Wall -std=gnu99 -mfpmath=sse -msse2 -mstackrealign -c register.c -o register.o
"C:/rtools40/mingw32/bin/"gcc -I"C:/Users/BIOCBU~1/BBS-3~1.14-/R/include" -DNDEBUG -I"C:/extsoft/include" -O2 -Wall -std=gnu99 -mfpmath=sse -msse2 -mstackrealign -c viterbiC_clonalCN.c -o viterbiC_clonalCN.o
C:/rtools40/mingw32/bin/gcc -shared -s -static-libgcc -o TitanCNA.dll tmp.def fwd_backC_clonalCN.o getPositionOverlapC.o register.o viterbiC_clonalCN.o -LC:/extsoft/lib/i386 -LC:/extsoft/lib -LC:/Users/BIOCBU~1/BBS-3~1.14-/R/bin/i386 -lR
installing to C:/Users/biocbuild/bbs-3.14-bioc/meat/TitanCNA.buildbin-libdir/00LOCK-TitanCNA/00new/TitanCNA/libs/i386
** R
** data
** inst
** byte-compile and prepare package for lazy loading
Warning: replacing previous import 'GenomicRanges::shift' by 'data.table::shift' when loading 'TitanCNA'
Warning: replacing previous import 'IRanges::collapse' by 'dplyr::collapse' when loading 'TitanCNA'
Warning: replacing previous import 'data.table::last' by 'dplyr::last' when loading 'TitanCNA'
Warning: replacing previous import 'GenomicRanges::union' by 'dplyr::union' when loading 'TitanCNA'
Warning: replacing previous import 'IRanges::slice' by 'dplyr::slice' when loading 'TitanCNA'
Warning: replacing previous import 'GenomeInfoDb::intersect' by 'dplyr::intersect' when loading 'TitanCNA'
Warning: replacing previous import 'GenomicRanges::setdiff' by 'dplyr::setdiff' when loading 'TitanCNA'
Warning: replacing previous import 'data.table::first' by 'dplyr::first' when loading 'TitanCNA'
Warning: replacing previous import 'IRanges::desc' by 'dplyr::desc' when loading 'TitanCNA'
Warning: replacing previous import 'BiocGenerics::combine' by 'dplyr::combine' when loading 'TitanCNA'
Warning: replacing previous import 'data.table::between' by 'dplyr::between' when loading 'TitanCNA'
Warning: replacing previous import 'dplyr::select' by 'VariantAnnotation::select' when loading 'TitanCNA'
** help
*** installing help indices
converting help for package 'TitanCNA'
finding HTML links ... done
TitanCNA-dataset html
TitanCNA-output html
TitanCNA-package html
TitanCNA-plotting html
computeSDbwIndex html
correctCN html
correctReadDepth html
filterData html
getPositionOverlap html
haplotype html
loadAlleleCounts html
loadDefaultParameters html
runEMclonalCN html
finding level-2 HTML links ... done
viterbiClonalCN html
wigImport html
** building package indices
** installing vignettes
** testing if installed package can be loaded from temporary location
Warning: replacing previous import 'GenomicRanges::shift' by 'data.table::shift' when loading 'TitanCNA'
Warning: replacing previous import 'IRanges::collapse' by 'dplyr::collapse' when loading 'TitanCNA'
Warning: replacing previous import 'data.table::last' by 'dplyr::last' when loading 'TitanCNA'
Warning: replacing previous import 'GenomicRanges::union' by 'dplyr::union' when loading 'TitanCNA'
Warning: replacing previous import 'IRanges::slice' by 'dplyr::slice' when loading 'TitanCNA'
Warning: replacing previous import 'GenomeInfoDb::intersect' by 'dplyr::intersect' when loading 'TitanCNA'
Warning: replacing previous import 'GenomicRanges::setdiff' by 'dplyr::setdiff' when loading 'TitanCNA'
Warning: replacing previous import 'data.table::first' by 'dplyr::first' when loading 'TitanCNA'
Warning: replacing previous import 'IRanges::desc' by 'dplyr::desc' when loading 'TitanCNA'
Warning: replacing previous import 'BiocGenerics::combine' by 'dplyr::combine' when loading 'TitanCNA'
Warning: replacing previous import 'data.table::between' by 'dplyr::between' when loading 'TitanCNA'
Warning: replacing previous import 'dplyr::select' by 'VariantAnnotation::select' when loading 'TitanCNA'
** testing if installed package can be loaded from final location
Warning: replacing previous import 'GenomicRanges::shift' by 'data.table::shift' when loading 'TitanCNA'
Warning: replacing previous import 'IRanges::collapse' by 'dplyr::collapse' when loading 'TitanCNA'
Warning: replacing previous import 'data.table::last' by 'dplyr::last' when loading 'TitanCNA'
Warning: replacing previous import 'GenomicRanges::union' by 'dplyr::union' when loading 'TitanCNA'
Warning: replacing previous import 'IRanges::slice' by 'dplyr::slice' when loading 'TitanCNA'
Warning: replacing previous import 'GenomeInfoDb::intersect' by 'dplyr::intersect' when loading 'TitanCNA'
Warning: replacing previous import 'GenomicRanges::setdiff' by 'dplyr::setdiff' when loading 'TitanCNA'
Warning: replacing previous import 'data.table::first' by 'dplyr::first' when loading 'TitanCNA'
Warning: replacing previous import 'IRanges::desc' by 'dplyr::desc' when loading 'TitanCNA'
Warning: replacing previous import 'BiocGenerics::combine' by 'dplyr::combine' when loading 'TitanCNA'
Warning: replacing previous import 'data.table::between' by 'dplyr::between' when loading 'TitanCNA'
Warning: replacing previous import 'dplyr::select' by 'VariantAnnotation::select' when loading 'TitanCNA'
** testing if installed package keeps a record of temporary installation path
install for x64
* installing *source* package 'TitanCNA' ...
** libs
"C:/rtools40/mingw64/bin/"gcc -I"C:/Users/BIOCBU~1/BBS-3~1.14-/R/include" -DNDEBUG -I"C:/extsoft/include" -O2 -Wall -std=gnu99 -mfpmath=sse -msse2 -mstackrealign -c fwd_backC_clonalCN.c -o fwd_backC_clonalCN.o
"C:/rtools40/mingw64/bin/"gcc -I"C:/Users/BIOCBU~1/BBS-3~1.14-/R/include" -DNDEBUG -I"C:/extsoft/include" -O2 -Wall -std=gnu99 -mfpmath=sse -msse2 -mstackrealign -c getPositionOverlapC.c -o getPositionOverlapC.o
"C:/rtools40/mingw64/bin/"gcc -I"C:/Users/BIOCBU~1/BBS-3~1.14-/R/include" -DNDEBUG -I"C:/extsoft/include" -O2 -Wall -std=gnu99 -mfpmath=sse -msse2 -mstackrealign -c register.c -o register.o
"C:/rtools40/mingw64/bin/"gcc -I"C:/Users/BIOCBU~1/BBS-3~1.14-/R/include" -DNDEBUG -I"C:/extsoft/include" -O2 -Wall -std=gnu99 -mfpmath=sse -msse2 -mstackrealign -c viterbiC_clonalCN.c -o viterbiC_clonalCN.o
C:/rtools40/mingw64/bin/gcc -shared -s -static-libgcc -o TitanCNA.dll tmp.def fwd_backC_clonalCN.o getPositionOverlapC.o register.o viterbiC_clonalCN.o -LC:/extsoft/lib/x64 -LC:/extsoft/lib -LC:/Users/BIOCBU~1/BBS-3~1.14-/R/bin/x64 -lR
installing to C:/Users/biocbuild/bbs-3.14-bioc/meat/TitanCNA.buildbin-libdir/TitanCNA/libs/x64
** testing if installed package can be loaded
Warning: replacing previous import 'GenomicRanges::shift' by 'data.table::shift' when loading 'TitanCNA'
Warning: replacing previous import 'IRanges::collapse' by 'dplyr::collapse' when loading 'TitanCNA'
Warning: replacing previous import 'data.table::last' by 'dplyr::last' when loading 'TitanCNA'
Warning: replacing previous import 'GenomicRanges::union' by 'dplyr::union' when loading 'TitanCNA'
Warning: replacing previous import 'IRanges::slice' by 'dplyr::slice' when loading 'TitanCNA'
Warning: replacing previous import 'GenomeInfoDb::intersect' by 'dplyr::intersect' when loading 'TitanCNA'
Warning: replacing previous import 'GenomicRanges::setdiff' by 'dplyr::setdiff' when loading 'TitanCNA'
Warning: replacing previous import 'data.table::first' by 'dplyr::first' when loading 'TitanCNA'
Warning: replacing previous import 'IRanges::desc' by 'dplyr::desc' when loading 'TitanCNA'
Warning: replacing previous import 'BiocGenerics::combine' by 'dplyr::combine' when loading 'TitanCNA'
Warning: replacing previous import 'data.table::between' by 'dplyr::between' when loading 'TitanCNA'
Warning: replacing previous import 'dplyr::select' by 'VariantAnnotation::select' when loading 'TitanCNA'
* MD5 sums
packaged installation of 'TitanCNA' as TitanCNA_1.32.0.zip
* DONE (TitanCNA)