| Back to Multiple platform build/check report for BioC 3.14 |
|
This page was generated on 2022-04-13 12:06:03 -0400 (Wed, 13 Apr 2022).
| Hostname | OS | Arch (*) | R version | Installed pkgs |
|---|---|---|---|---|
| nebbiolo2 | Linux (Ubuntu 20.04.4 LTS) | x86_64 | 4.1.3 (2022-03-10) -- "One Push-Up" | 4324 |
| tokay2 | Windows Server 2012 R2 Standard | x64 | 4.1.3 (2022-03-10) -- "One Push-Up" | 4077 |
| machv2 | macOS 10.14.6 Mojave | x86_64 | 4.1.3 (2022-03-10) -- "One Push-Up" | 4137 |
| Click on any hostname to see more info about the system (e.g. compilers) (*) as reported by 'uname -p', except on Windows and Mac OS X | ||||
|
To the developers/maintainers of the TimeSeriesExperiment package: - Please allow up to 24 hours (and sometimes 48 hours) for your latest push to git@git.bioconductor.org:packages/TimeSeriesExperiment.git to reflect on this report. See How and When does the builder pull? When will my changes propagate? for more information. - Make sure to use the following settings in order to reproduce any error or warning you see on this page. |
| Package 1959/2083 | Hostname | OS / Arch | INSTALL | BUILD | CHECK | BUILD BIN | ||||||||
| TimeSeriesExperiment 1.12.0 (landing page) Lan Huong Nguyen
| nebbiolo2 | Linux (Ubuntu 20.04.4 LTS) / x86_64 | OK | OK | OK | |||||||||
| tokay2 | Windows Server 2012 R2 Standard / x64 | OK | OK | OK | OK | |||||||||
| machv2 | macOS 10.14.6 Mojave / x86_64 | OK | OK | OK | OK | |||||||||
| Package: TimeSeriesExperiment |
| Version: 1.12.0 |
| Command: /home/biocbuild/bbs-3.14-bioc/R/bin/R CMD check --install=check:TimeSeriesExperiment.install-out.txt --library=/home/biocbuild/bbs-3.14-bioc/R/library --no-vignettes --timings TimeSeriesExperiment_1.12.0.tar.gz |
| StartedAt: 2022-04-12 09:40:28 -0400 (Tue, 12 Apr 2022) |
| EndedAt: 2022-04-12 09:44:06 -0400 (Tue, 12 Apr 2022) |
| EllapsedTime: 218.5 seconds |
| RetCode: 0 |
| Status: OK |
| CheckDir: TimeSeriesExperiment.Rcheck |
| Warnings: 0 |
##############################################################################
##############################################################################
###
### Running command:
###
### /home/biocbuild/bbs-3.14-bioc/R/bin/R CMD check --install=check:TimeSeriesExperiment.install-out.txt --library=/home/biocbuild/bbs-3.14-bioc/R/library --no-vignettes --timings TimeSeriesExperiment_1.12.0.tar.gz
###
##############################################################################
##############################################################################
* using log directory ‘/home/biocbuild/bbs-3.14-bioc/meat/TimeSeriesExperiment.Rcheck’
* using R version 4.1.3 (2022-03-10)
* using platform: x86_64-pc-linux-gnu (64-bit)
* using session charset: UTF-8
* using option ‘--no-vignettes’
* checking for file ‘TimeSeriesExperiment/DESCRIPTION’ ... OK
* checking extension type ... Package
* this is package ‘TimeSeriesExperiment’ version ‘1.12.0’
* package encoding: UTF-8
* checking package namespace information ... OK
* checking package dependencies ... OK
* checking if this is a source package ... OK
* checking if there is a namespace ... OK
* checking for hidden files and directories ... OK
* checking for portable file names ... OK
* checking for sufficient/correct file permissions ... OK
* checking whether package ‘TimeSeriesExperiment’ can be installed ... OK
* checking installed package size ... OK
* checking package directory ... OK
* checking ‘build’ directory ... OK
* checking DESCRIPTION meta-information ... OK
* checking top-level files ... OK
* checking for left-over files ... OK
* checking index information ... OK
* checking package subdirectories ... OK
* checking R files for non-ASCII characters ... OK
* checking R files for syntax errors ... OK
* checking whether the package can be loaded ... OK
* checking whether the package can be loaded with stated dependencies ... OK
* checking whether the package can be unloaded cleanly ... OK
* checking whether the namespace can be loaded with stated dependencies ... OK
* checking whether the namespace can be unloaded cleanly ... OK
* checking dependencies in R code ... NOTE
Unexported object imported by a ':::' call: ‘S4Vectors:::selectSome’
See the note in ?`:::` about the use of this operator.
* checking S3 generic/method consistency ... OK
* checking replacement functions ... OK
* checking foreign function calls ... OK
* checking R code for possible problems ... NOTE
clusterTimeSeries: no visible binding for global variable ‘freq’
clusterTimeSeries: no visible binding for global variable ‘.’
Undefined global functions or variables:
. freq
* checking Rd files ... OK
* checking Rd metadata ... OK
* checking Rd cross-references ... OK
* checking for missing documentation entries ... OK
* checking for code/documentation mismatches ... OK
* checking Rd \usage sections ... OK
* checking Rd contents ... OK
* checking for unstated dependencies in examples ... OK
* checking contents of ‘data’ directory ... OK
* checking data for non-ASCII characters ... OK
* checking data for ASCII and uncompressed saves ... OK
* checking files in ‘vignettes’ ... OK
* checking examples ... OK
Examples with CPU (user + system) or elapsed time > 5s
user system elapsed
differentialExpression 11.131 0.176 11.307
plotTimeSeriesPCA 4.895 0.180 5.076
* checking for unstated dependencies in vignettes ... OK
* checking package vignettes in ‘inst/doc’ ... OK
* checking running R code from vignettes ... SKIPPED
* checking re-building of vignette outputs ... SKIPPED
* checking PDF version of manual ... OK
* DONE
Status: 2 NOTEs
See
‘/home/biocbuild/bbs-3.14-bioc/meat/TimeSeriesExperiment.Rcheck/00check.log’
for details.
TimeSeriesExperiment.Rcheck/00install.out
############################################################################## ############################################################################## ### ### Running command: ### ### /home/biocbuild/bbs-3.14-bioc/R/bin/R CMD INSTALL TimeSeriesExperiment ### ############################################################################## ############################################################################## * installing to library ‘/home/biocbuild/bbs-3.14-bioc/R/library’ * installing *source* package ‘TimeSeriesExperiment’ ... ** using staged installation ** R ** data ** inst ** byte-compile and prepare package for lazy loading ** help *** installing help indices ** building package indices ** installing vignettes ** testing if installed package can be loaded from temporary location ** testing if installed package can be loaded from final location ** testing if installed package keeps a record of temporary installation path * DONE (TimeSeriesExperiment)
TimeSeriesExperiment.Rcheck/TimeSeriesExperiment-Ex.timings
| name | user | system | elapsed | |
| TimeSeriesExperiment | 0.301 | 0.004 | 0.305 | |
| addLags | 0.454 | 0.008 | 0.462 | |
| clusterAssignment | 0.611 | 0.032 | 0.644 | |
| clusterData | 0.122 | 0.000 | 0.122 | |
| clusterTimeSeries | 0.509 | 0.004 | 0.514 | |
| colData | 0.053 | 0.003 | 0.057 | |
| collapseReplicates | 0.124 | 0.004 | 0.128 | |
| collapsed-data | 0.221 | 0.004 | 0.225 | |
| dataToTimeSeries | 0.04 | 0.00 | 0.04 | |
| differentialExpression | 11.131 | 0.176 | 11.307 | |
| dimensionReduction | 0.074 | 0.008 | 0.081 | |
| filterFeatures | 0.079 | 0.004 | 0.083 | |
| groups | 0.019 | 0.000 | 0.019 | |
| makeTimeSeries | 0.172 | 0.008 | 0.180 | |
| makeTimeSeriesExperimentFromExpressionSet | 0.000 | 0.000 | 0.001 | |
| makeTimeSeriesExperimentFromSummarizedExperiment | 0.245 | 0.000 | 0.244 | |
| meltMatrix | 0.013 | 0.000 | 0.013 | |
| normalizeData | 0.04 | 0.00 | 0.04 | |
| pathwayEnrichment | 0.590 | 0.056 | 0.672 | |
| pipe | 0.001 | 0.000 | 0.000 | |
| plotEnrichment | 0.605 | 0.016 | 0.621 | |
| plotHeatmap | 0.035 | 0.000 | 0.035 | |
| plotSamplePCA | 0.242 | 0.000 | 0.242 | |
| plotTimeSeries | 1.865 | 0.100 | 1.966 | |
| plotTimeSeriesClusters | 1.439 | 0.016 | 1.455 | |
| plotTimeSeriesPCA | 4.895 | 0.180 | 5.076 | |
| replicates | 0.022 | 0.000 | 0.022 | |
| rowData | 0.04 | 0.00 | 0.04 | |
| row_and_colnames | 0.018 | 0.000 | 0.018 | |
| runPCA | 0.060 | 0.003 | 0.064 | |
| timeSeries | 0.326 | 0.084 | 0.410 | |
| timepointDE | 0.098 | 0.008 | 0.106 | |
| timepoints | 0.045 | 0.000 | 0.044 | |
| trajectoryDE | 0.218 | 0.000 | 0.218 | |
| varianceStabilization | 0.003 | 0.001 | 0.004 | |