| Back to Multiple platform build/check report for BioC 3.14 |
|
This page was generated on 2022-04-13 12:07:31 -0400 (Wed, 13 Apr 2022).
| Hostname | OS | Arch (*) | R version | Installed pkgs |
|---|---|---|---|---|
| nebbiolo2 | Linux (Ubuntu 20.04.4 LTS) | x86_64 | 4.1.3 (2022-03-10) -- "One Push-Up" | 4324 |
| tokay2 | Windows Server 2012 R2 Standard | x64 | 4.1.3 (2022-03-10) -- "One Push-Up" | 4077 |
| machv2 | macOS 10.14.6 Mojave | x86_64 | 4.1.3 (2022-03-10) -- "One Push-Up" | 4137 |
| Click on any hostname to see more info about the system (e.g. compilers) (*) as reported by 'uname -p', except on Windows and Mac OS X | ||||
|
To the developers/maintainers of the TSRchitect package: - Please allow up to 24 hours (and sometimes 48 hours) for your latest push to git@git.bioconductor.org:packages/TSRchitect.git to reflect on this report. See How and When does the builder pull? When will my changes propagate? for more information. - Make sure to use the following settings in order to reproduce any error or warning you see on this page. |
| Package 2013/2083 | Hostname | OS / Arch | INSTALL | BUILD | CHECK | BUILD BIN | ||||||||
| TSRchitect 1.20.0 (landing page) R. Taylor Raborn
| nebbiolo2 | Linux (Ubuntu 20.04.4 LTS) / x86_64 | OK | OK | WARNINGS | |||||||||
| tokay2 | Windows Server 2012 R2 Standard / x64 | OK | OK | WARNINGS | OK | |||||||||
| machv2 | macOS 10.14.6 Mojave / x86_64 | OK | OK | WARNINGS | OK | |||||||||
| Package: TSRchitect |
| Version: 1.20.0 |
| Command: rm -rf TSRchitect.buildbin-libdir && mkdir TSRchitect.buildbin-libdir && C:\Users\biocbuild\bbs-3.14-bioc\R\bin\R.exe CMD INSTALL --merge-multiarch --build --library=TSRchitect.buildbin-libdir TSRchitect_1.20.0.tar.gz |
| StartedAt: 2022-04-13 07:18:12 -0400 (Wed, 13 Apr 2022) |
| EndedAt: 2022-04-13 07:19:14 -0400 (Wed, 13 Apr 2022) |
| EllapsedTime: 62.0 seconds |
| RetCode: 0 |
| Status: OK |
| PackageFile: TSRchitect_1.20.0.zip |
| PackageFileSize: 1.289 MiB |
##############################################################################
##############################################################################
###
### Running command:
###
### rm -rf TSRchitect.buildbin-libdir && mkdir TSRchitect.buildbin-libdir && C:\Users\biocbuild\bbs-3.14-bioc\R\bin\R.exe CMD INSTALL --merge-multiarch --build --library=TSRchitect.buildbin-libdir TSRchitect_1.20.0.tar.gz
###
##############################################################################
##############################################################################
install for i386
* installing *source* package 'TSRchitect' ...
** using staged installation
** R
** inst
** byte-compile and prepare package for lazy loading
** help
*** installing help indices
converting help for package 'TSRchitect'
finding HTML links ... done
TSRchitectUsersGuide html
TSRmshapeIndex html
TSRshapeIndex html
addAnnotationToTSR-methods html
finding level-2 HTML links ... done
addTagCountsToTSR-methods html
bedToTSS-methods html
createSummarizedExperiment-methods html
detTSR-methods html
determineTSR-methods html
getBamDataFirstRead-methods html
getBamDataLastRead-methods html
getFileNames-methods html
getTSRdata-methods html
getTSScountData-methods html
getTSStagData-methods html
getTitle-methods html
gsq2bed-methods html
importAnnotationExternal-methods html
importAnnotationHub-methods html
inputToTSS-methods html
loadTSSobj-methods html
makeGRangesFromTSR-methods html
mergeSampleData-methods html
prcTSS html
processTSS-methods html
tagCountTSS html
tsrCluster html
tssArrayProperties html
tssObject html
writeTSR-methods html
writeTSS-methods html
** building package indices
** installing vignettes
** testing if installed package can be loaded from temporary location
** testing if installed package can be loaded from final location
** testing if installed package keeps a record of temporary installation path
install for x64
* installing *source* package 'TSRchitect' ...
** testing if installed package can be loaded
* MD5 sums
packaged installation of 'TSRchitect' as TSRchitect_1.20.0.zip
* DONE (TSRchitect)