| Back to Multiple platform build/check report for BioC 3.14 |
|
This page was generated on 2022-04-13 12:07:28 -0400 (Wed, 13 Apr 2022).
| Hostname | OS | Arch (*) | R version | Installed pkgs |
|---|---|---|---|---|
| nebbiolo2 | Linux (Ubuntu 20.04.4 LTS) | x86_64 | 4.1.3 (2022-03-10) -- "One Push-Up" | 4324 |
| tokay2 | Windows Server 2012 R2 Standard | x64 | 4.1.3 (2022-03-10) -- "One Push-Up" | 4077 |
| machv2 | macOS 10.14.6 Mojave | x86_64 | 4.1.3 (2022-03-10) -- "One Push-Up" | 4137 |
| Click on any hostname to see more info about the system (e.g. compilers) (*) as reported by 'uname -p', except on Windows and Mac OS X | ||||
|
To the developers/maintainers of the TBSignatureProfiler package: - Please allow up to 24 hours (and sometimes 48 hours) for your latest push to git@git.bioconductor.org:packages/TBSignatureProfiler.git to reflect on this report. See How and When does the builder pull? When will my changes propagate? for more information. - Make sure to use the following settings in order to reproduce any error or warning you see on this page. |
| Package 1935/2083 | Hostname | OS / Arch | INSTALL | BUILD | CHECK | BUILD BIN | ||||||||
| TBSignatureProfiler 1.6.0 (landing page) Aubrey Odom
| nebbiolo2 | Linux (Ubuntu 20.04.4 LTS) / x86_64 | OK | OK | OK | |||||||||
| tokay2 | Windows Server 2012 R2 Standard / x64 | OK | OK | OK | OK | |||||||||
| machv2 | macOS 10.14.6 Mojave / x86_64 | OK | OK | OK | OK | |||||||||
| Package: TBSignatureProfiler |
| Version: 1.6.0 |
| Command: rm -rf TBSignatureProfiler.buildbin-libdir && mkdir TBSignatureProfiler.buildbin-libdir && C:\Users\biocbuild\bbs-3.14-bioc\R\bin\R.exe CMD INSTALL --merge-multiarch --build --library=TBSignatureProfiler.buildbin-libdir TBSignatureProfiler_1.6.0.tar.gz |
| StartedAt: 2022-04-13 07:14:29 -0400 (Wed, 13 Apr 2022) |
| EndedAt: 2022-04-13 07:14:57 -0400 (Wed, 13 Apr 2022) |
| EllapsedTime: 28.4 seconds |
| RetCode: 0 |
| Status: OK |
| PackageFile: TBSignatureProfiler_1.6.0.zip |
| PackageFileSize: 5.215 MiB |
##############################################################################
##############################################################################
###
### Running command:
###
### rm -rf TBSignatureProfiler.buildbin-libdir && mkdir TBSignatureProfiler.buildbin-libdir && C:\Users\biocbuild\bbs-3.14-bioc\R\bin\R.exe CMD INSTALL --merge-multiarch --build --library=TBSignatureProfiler.buildbin-libdir TBSignatureProfiler_1.6.0.tar.gz
###
##############################################################################
##############################################################################
install for i386
* installing *source* package 'TBSignatureProfiler' ...
** using staged installation
** R
** data
*** moving datasets to lazyload DB
** inst
** byte-compile and prepare package for lazy loading
** help
*** installing help indices
converting help for package 'TBSignatureProfiler'
finding HTML links ... done
Bootstrap_LOOCV_LR_AUC html
COVIDsignatures html
LOOAUC_simple_multiple_noplot_one_df html
ObtainSampleScore_OriginalModel html
OriginalTrainingData html
SignatureQuantitative html
SulimanOriginalModel html
TBSPapp html
TB_hiv html
TB_indian html
TBcommon html
TBsignatures html
TBsignaturesSplit html
addTBsignature html
bootstrapAUC html
common_sigAnnotData html
compareAlgs html
compareBoxplots html
cv_glmnet_OriginalModel html
deseq2_norm_rle html
distinctColors html
dot-OriginalModel_NoRetraining html
dot-OriginalModel_Retraining html
evaluateOriginalModel html
knn_OriginalModel html
lda_OriginalModel html
mkAssay html
plotQuantitative html
randomForest_OriginalModel html
ref_combat_impute html
runTBsigProfiler html
sigAnnotData html
signatureBoxplot html
signatureGeneHeatmap html
signatureHeatmap html
signatureROCplot html
signatureROCplot_CI html
subsetGeneSet html
svm_OriginalModel html
tableAUC html
** building package indices
** installing vignettes
** testing if installed package can be loaded from temporary location
** testing if installed package can be loaded from final location
** testing if installed package keeps a record of temporary installation path
install for x64
* installing *source* package 'TBSignatureProfiler' ...
** testing if installed package can be loaded
* MD5 sums
packaged installation of 'TBSignatureProfiler' as TBSignatureProfiler_1.6.0.zip
* DONE (TBSignatureProfiler)