| Back to Multiple platform build/check report for BioC 3.14 | 
 | 
This page was generated on 2022-04-13 12:07:27 -0400 (Wed, 13 Apr 2022).
| Hostname | OS | Arch (*) | R version | Installed pkgs | 
|---|---|---|---|---|
| nebbiolo2 | Linux (Ubuntu 20.04.4 LTS) | x86_64 | 4.1.3 (2022-03-10) -- "One Push-Up" | 4324 | 
| tokay2 | Windows Server 2012 R2 Standard | x64 | 4.1.3 (2022-03-10) -- "One Push-Up" | 4077 | 
| machv2 | macOS 10.14.6 Mojave | x86_64 | 4.1.3 (2022-03-10) -- "One Push-Up" | 4137 | 
| Click on any hostname to see more info about the system (e.g. compilers) (*) as reported by 'uname -p', except on Windows and Mac OS X | ||||
| To the developers/maintainers of the Sushi package: - Please allow up to 24 hours (and sometimes 48 hours) for your latest push to git@git.bioconductor.org:packages/Sushi.git to reflect on this report. See How and When does the builder pull? When will my changes propagate? for more information. - Make sure to use the following settings in order to reproduce any error or warning you see on this page. | 
| Package 1908/2083 | Hostname | OS / Arch | INSTALL | BUILD | CHECK | BUILD BIN | ||||||||
| Sushi 1.32.0  (landing page) Douglas H Phanstiel 
 | nebbiolo2 | Linux (Ubuntu 20.04.4 LTS) / x86_64 | OK | OK | WARNINGS |  | ||||||||
| tokay2 | Windows Server 2012 R2 Standard / x64 | OK | OK | WARNINGS | OK |  | ||||||||
| machv2 | macOS 10.14.6 Mojave / x86_64 | OK | OK | WARNINGS | OK |  | ||||||||
| Package: Sushi | 
| Version: 1.32.0 | 
| Command: rm -rf Sushi.buildbin-libdir && mkdir Sushi.buildbin-libdir && C:\Users\biocbuild\bbs-3.14-bioc\R\bin\R.exe CMD INSTALL --merge-multiarch --build --library=Sushi.buildbin-libdir Sushi_1.32.0.tar.gz | 
| StartedAt: 2022-04-13 07:13:21 -0400 (Wed, 13 Apr 2022) | 
| EndedAt: 2022-04-13 07:13:54 -0400 (Wed, 13 Apr 2022) | 
| EllapsedTime: 32.8 seconds | 
| RetCode: 0 | 
| Status: OK | 
| PackageFile: Sushi_1.32.0.zip | 
| PackageFileSize: 3.497 MiB | 
##############################################################################
##############################################################################
###
### Running command:
###
###   rm -rf Sushi.buildbin-libdir && mkdir Sushi.buildbin-libdir && C:\Users\biocbuild\bbs-3.14-bioc\R\bin\R.exe CMD INSTALL --merge-multiarch --build --library=Sushi.buildbin-libdir Sushi_1.32.0.tar.gz
###
##############################################################################
##############################################################################
install for i386
* installing *source* package 'Sushi' ...
** using staged installation
** R
** data
** inst
** byte-compile and prepare package for lazy loading
** help
*** installing help indices
  converting help for package 'Sushi'
    finding HTML links ... done
    SushiColors                             html  
    Sushi_5C.bedpe                          html  
    Sushi_ChIAPET_pol2.bedpe                html  
    Sushi_ChIPExo_CTCF.bedgraph             html  
    Sushi_ChIPSeq_CTCF.bedgraph             html  
    Sushi_ChIPSeq_pol2.bed                  html  
    Sushi_ChIPSeq_pol2.bedgraph             html  
    Sushi_ChIPSeq_severalfactors.bed        html  
    Sushi_DNaseI.bedgraph                   html  
    Sushi_GWAS.bed                          html  
    Sushi_HiC.matrix                        html  
    Sushi_RNASeq_K562.bedgraph              html  
    Sushi_genes.bed                         html  
    Sushi_hg18_genome                       html  
    Sushi_transcripts.bed                   html  
    addlegend                               html  
    chromOffsets                            html  
    convertstrandinfo                       html  
    labelgenome                             html  
    labelplot                               html  
    maptocolors                             html  
    maptolwd                                html  
    opaque                                  html  
    plotBed                                 html  
    plotBedgraph                            html  
    plotBedpe                               html  
    plotGenes                               html  
    finding level-2 HTML links ... done
    plotHic                                 html  
    plotManhattan                           html  
    sortChrom                               html  
    zoombox                                 html  
    zoomsregion                             html  
** building package indices
** installing vignettes
** testing if installed package can be loaded from temporary location
** testing if installed package can be loaded from final location
** testing if installed package keeps a record of temporary installation path
install for x64
* installing *source* package 'Sushi' ...
** testing if installed package can be loaded
* MD5 sums
packaged installation of 'Sushi' as Sushi_1.32.0.zip
* DONE (Sushi)