| Back to Multiple platform build/check report for BioC 3.14 |
|
This page was generated on 2022-04-13 12:07:24 -0400 (Wed, 13 Apr 2022).
| Hostname | OS | Arch (*) | R version | Installed pkgs |
|---|---|---|---|---|
| nebbiolo2 | Linux (Ubuntu 20.04.4 LTS) | x86_64 | 4.1.3 (2022-03-10) -- "One Push-Up" | 4324 |
| tokay2 | Windows Server 2012 R2 Standard | x64 | 4.1.3 (2022-03-10) -- "One Push-Up" | 4077 |
| machv2 | macOS 10.14.6 Mojave | x86_64 | 4.1.3 (2022-03-10) -- "One Push-Up" | 4137 |
| Click on any hostname to see more info about the system (e.g. compilers) (*) as reported by 'uname -p', except on Windows and Mac OS X | ||||
|
To the developers/maintainers of the SpidermiR package: - Please allow up to 24 hours (and sometimes 48 hours) for your latest push to git@git.bioconductor.org:packages/SpidermiR.git to reflect on this report. See How and When does the builder pull? When will my changes propagate? for more information. - Make sure to use the following settings in order to reproduce any error or warning you see on this page. |
| Package 1857/2083 | Hostname | OS / Arch | INSTALL | BUILD | CHECK | BUILD BIN | ||||||||
| SpidermiR 1.24.0 (landing page) Claudia Cava
| nebbiolo2 | Linux (Ubuntu 20.04.4 LTS) / x86_64 | OK | OK | OK | |||||||||
| tokay2 | Windows Server 2012 R2 Standard / x64 | OK | OK | ERROR | OK | |||||||||
| machv2 | macOS 10.14.6 Mojave / x86_64 | OK | OK | OK | OK | |||||||||
| Package: SpidermiR |
| Version: 1.24.0 |
| Command: rm -rf SpidermiR.buildbin-libdir && mkdir SpidermiR.buildbin-libdir && C:\Users\biocbuild\bbs-3.14-bioc\R\bin\R.exe CMD INSTALL --merge-multiarch --build --library=SpidermiR.buildbin-libdir SpidermiR_1.24.0.tar.gz |
| StartedAt: 2022-04-13 07:11:48 -0400 (Wed, 13 Apr 2022) |
| EndedAt: 2022-04-13 07:12:13 -0400 (Wed, 13 Apr 2022) |
| EllapsedTime: 25.2 seconds |
| RetCode: 0 |
| Status: OK |
| PackageFile: SpidermiR_1.24.0.zip |
| PackageFileSize: 79.84 KiB |
##############################################################################
##############################################################################
###
### Running command:
###
### rm -rf SpidermiR.buildbin-libdir && mkdir SpidermiR.buildbin-libdir && C:\Users\biocbuild\bbs-3.14-bioc\R\bin\R.exe CMD INSTALL --merge-multiarch --build --library=SpidermiR.buildbin-libdir SpidermiR_1.24.0.tar.gz
###
##############################################################################
##############################################################################
install for i386
* installing *source* package 'SpidermiR' ...
** using staged installation
** R
** inst
** byte-compile and prepare package for lazy loading
** help
*** installing help indices
converting help for package 'SpidermiR'
finding HTML links ... done
SpidermiRanalyze_degree_centrality html
SpidermiRanalyze_direct_net html
SpidermiRanalyze_direct_subnetwork html
SpidermiRanalyze_subnetwork_neigh html
SpidermiRdownload_drug_gene html
SpidermiRdownload_miRNAextra_cir html
SpidermiRdownload_miRNAprediction html
SpidermiRdownload_miRNAvalidate html
SpidermiRdownload_net html
SpidermiRprepare_NET html
SpidermiRquery_disease html
SpidermiRquery_networks_type html
SpidermiRquery_spec_networks html
SpidermiRquery_species html
** building package indices
** testing if installed package can be loaded from temporary location
** testing if installed package can be loaded from final location
** testing if installed package keeps a record of temporary installation path
install for x64
* installing *source* package 'SpidermiR' ...
** testing if installed package can be loaded
* MD5 sums
packaged installation of 'SpidermiR' as SpidermiR_1.24.0.zip
* DONE (SpidermiR)