| Back to Multiple platform build/check report for BioC 3.14 | 
  | 
This page was generated on 2022-04-13 12:07:24 -0400 (Wed, 13 Apr 2022).
| Hostname | OS | Arch (*) | R version | Installed pkgs | 
|---|---|---|---|---|
| nebbiolo2 | Linux (Ubuntu 20.04.4 LTS) | x86_64 | 4.1.3 (2022-03-10) -- "One Push-Up" | 4324 | 
| tokay2 | Windows Server 2012 R2 Standard | x64 | 4.1.3 (2022-03-10) -- "One Push-Up" | 4077 | 
| machv2 | macOS 10.14.6 Mojave | x86_64 | 4.1.3 (2022-03-10) -- "One Push-Up" | 4137 | 
| Click on any hostname to see more info about the system (e.g. compilers) (*) as reported by 'uname -p', except on Windows and Mac OS X | ||||
| 
To the developers/maintainers of the SparseSignatures package: - Please allow up to 24 hours (and sometimes 48 hours) for your latest push to git@git.bioconductor.org:packages/SparseSignatures.git to reflect on this report. See How and When does the builder pull? When will my changes propagate? for more information. - Make sure to use the following settings in order to reproduce any error or warning you see on this page.  | 
| Package 1843/2083 | Hostname | OS / Arch | INSTALL | BUILD | CHECK | BUILD BIN | ||||||||
| SparseSignatures 2.4.0  (landing page) Luca De Sano 
  | nebbiolo2 | Linux (Ubuntu 20.04.4 LTS) / x86_64 | OK | OK | OK | |||||||||
| tokay2 | Windows Server 2012 R2 Standard / x64 | OK | OK | OK | OK | |||||||||
| machv2 | macOS 10.14.6 Mojave / x86_64 | OK | OK | OK | OK | |||||||||
| Package: SparseSignatures | 
| Version: 2.4.0 | 
| Command: rm -rf SparseSignatures.buildbin-libdir && mkdir SparseSignatures.buildbin-libdir && C:\Users\biocbuild\bbs-3.14-bioc\R\bin\R.exe CMD INSTALL --merge-multiarch --build --library=SparseSignatures.buildbin-libdir SparseSignatures_2.4.0.tar.gz | 
| StartedAt: 2022-04-13 07:11:02 -0400 (Wed, 13 Apr 2022) | 
| EndedAt: 2022-04-13 07:11:58 -0400 (Wed, 13 Apr 2022) | 
| EllapsedTime: 56.1 seconds | 
| RetCode: 0 | 
| Status: OK | 
| PackageFile: SparseSignatures_2.4.0.zip | 
| PackageFileSize: 1.116 MiB | 
##############################################################################
##############################################################################
###
### Running command:
###
###   rm -rf SparseSignatures.buildbin-libdir && mkdir SparseSignatures.buildbin-libdir && C:\Users\biocbuild\bbs-3.14-bioc\R\bin\R.exe CMD INSTALL --merge-multiarch --build --library=SparseSignatures.buildbin-libdir SparseSignatures_2.4.0.tar.gz
###
##############################################################################
##############################################################################
install for i386
* installing *source* package 'SparseSignatures' ...
** using staged installation
** R
** data
** inst
** byte-compile and prepare package for lazy loading
** help
*** installing help indices
  converting help for package 'SparseSignatures'
    finding HTML links ... done
    background                              html  
    background2                             html  
    cv_example                              html  
    import.trinucleotides.counts            html  
    imported_data                           html  
    lambdaRangeAlphaEvaluation              html  
    lambdaRangeBetaEvaluation               html  
    lambda_range_example                    html  
    mutation_categories                     html  
    nmfLasso                                html  
    nmfLassoBootstrap                       html  
    nmfLassoCV                              html  
    nmf_LassoK_example                      html  
    patients                                html  
    patients.plot                           html  
    sigAssignmentCV                         html  
    sigAssignmentEvaluation                 html  
    sigAssignmentLasso                      html  
    signatures.plot                         html  
    ssm560_reduced                          html  
    startingBetaEstimation                  html  
    starting_betas_example                  html  
** building package indices
** installing vignettes
** testing if installed package can be loaded from temporary location
** testing if installed package can be loaded from final location
** testing if installed package keeps a record of temporary installation path
install for x64
* installing *source* package 'SparseSignatures' ...
** testing if installed package can be loaded
* MD5 sums
packaged installation of 'SparseSignatures' as SparseSignatures_2.4.0.zip
* DONE (SparseSignatures)