| Back to Multiple platform build/check report for BioC 3.14 |
|
This page was generated on 2022-04-13 12:07:21 -0400 (Wed, 13 Apr 2022).
| Hostname | OS | Arch (*) | R version | Installed pkgs |
|---|---|---|---|---|
| nebbiolo2 | Linux (Ubuntu 20.04.4 LTS) | x86_64 | 4.1.3 (2022-03-10) -- "One Push-Up" | 4324 |
| tokay2 | Windows Server 2012 R2 Standard | x64 | 4.1.3 (2022-03-10) -- "One Push-Up" | 4077 |
| machv2 | macOS 10.14.6 Mojave | x86_64 | 4.1.3 (2022-03-10) -- "One Push-Up" | 4137 |
| Click on any hostname to see more info about the system (e.g. compilers) (*) as reported by 'uname -p', except on Windows and Mac OS X | ||||
|
To the developers/maintainers of the SeqVarTools package: - Please allow up to 24 hours (and sometimes 48 hours) for your latest push to git@git.bioconductor.org:packages/SeqVarTools.git to reflect on this report. See How and When does the builder pull? When will my changes propagate? for more information. - Make sure to use the following settings in order to reproduce any error or warning you see on this page. |
| Package 1774/2083 | Hostname | OS / Arch | INSTALL | BUILD | CHECK | BUILD BIN | ||||||||
| SeqVarTools 1.32.0 (landing page) Stephanie M. Gogarten
| nebbiolo2 | Linux (Ubuntu 20.04.4 LTS) / x86_64 | OK | OK | OK | |||||||||
| tokay2 | Windows Server 2012 R2 Standard / x64 | OK | OK | OK | OK | |||||||||
| machv2 | macOS 10.14.6 Mojave / x86_64 | OK | OK | OK | OK | |||||||||
| Package: SeqVarTools |
| Version: 1.32.0 |
| Command: C:\cygwin\bin\curl.exe -O http://155.52.207.166/BBS/3.14/bioc/src/contrib/SeqVarTools_1.32.0.tar.gz && rm -rf SeqVarTools.buildbin-libdir && mkdir SeqVarTools.buildbin-libdir && C:\Users\biocbuild\bbs-3.14-bioc\R\bin\R.exe CMD INSTALL --merge-multiarch --build --library=SeqVarTools.buildbin-libdir SeqVarTools_1.32.0.tar.gz && C:\Users\biocbuild\bbs-3.14-bioc\R\bin\R.exe CMD INSTALL SeqVarTools_1.32.0.zip && rm SeqVarTools_1.32.0.tar.gz SeqVarTools_1.32.0.zip |
| StartedAt: 2022-04-12 06:47:26 -0400 (Tue, 12 Apr 2022) |
| EndedAt: 2022-04-12 06:49:06 -0400 (Tue, 12 Apr 2022) |
| EllapsedTime: 99.8 seconds |
| RetCode: 0 |
| Status: OK |
##############################################################################
##############################################################################
###
### Running command:
###
### C:\cygwin\bin\curl.exe -O http://155.52.207.166/BBS/3.14/bioc/src/contrib/SeqVarTools_1.32.0.tar.gz && rm -rf SeqVarTools.buildbin-libdir && mkdir SeqVarTools.buildbin-libdir && C:\Users\biocbuild\bbs-3.14-bioc\R\bin\R.exe CMD INSTALL --merge-multiarch --build --library=SeqVarTools.buildbin-libdir SeqVarTools_1.32.0.tar.gz && C:\Users\biocbuild\bbs-3.14-bioc\R\bin\R.exe CMD INSTALL SeqVarTools_1.32.0.zip && rm SeqVarTools_1.32.0.tar.gz SeqVarTools_1.32.0.zip
###
##############################################################################
##############################################################################
% Total % Received % Xferd Average Speed Time Time Time Current
Dload Upload Total Spent Left Speed
0 0 0 0 0 0 0 0 --:--:-- --:--:-- --:--:-- 0
69 529k 69 368k 0 0 1205k 0 --:--:-- --:--:-- --:--:-- 1205k
100 529k 100 529k 0 0 726k 0 --:--:-- --:--:-- --:--:-- 725k
install for i386
* installing *source* package 'SeqVarTools' ...
** using staged installation
** R
** data
*** moving datasets to lazyload DB
** inst
** byte-compile and prepare package for lazy loading
** help
*** installing help indices
converting help for package 'SeqVarTools'
finding HTML links ... done
Iterator-class html
finding level-2 HTML links ... done
SeqVarData-class html
SeqVarTools-package html
allele-methods html
alleleFrequency html
alternateAlleleDetection html
applyMethod html
chromWithPAR html
countSingletons html
duplicateDiscordance html
getGenotype html
getVariableLengthData html
heterozygosity html
hwe html
imputedDosage html
inbreedCoeff html
isSNV html
isVariant html
meanBySample html
mendelErr html
missingGenotypeRate html
pca html
pedigree html
refFrac html
regression html
setVariantID html
titv html
variantInfo html
** building package indices
** installing vignettes
** testing if installed package can be loaded from temporary location
** testing if installed package can be loaded from final location
** testing if installed package keeps a record of temporary installation path
install for x64
* installing *source* package 'SeqVarTools' ...
** testing if installed package can be loaded
* MD5 sums
packaged installation of 'SeqVarTools' as SeqVarTools_1.32.0.zip
* DONE (SeqVarTools)
* installing to library 'C:/Users/biocbuild/bbs-3.14-bioc/R/library'
package 'SeqVarTools' successfully unpacked and MD5 sums checked