| Back to Multiple platform build/check report for BioC 3.14 | 
 | 
This page was generated on 2022-04-13 12:07:17 -0400 (Wed, 13 Apr 2022).
| Hostname | OS | Arch (*) | R version | Installed pkgs | 
|---|---|---|---|---|
| nebbiolo2 | Linux (Ubuntu 20.04.4 LTS) | x86_64 | 4.1.3 (2022-03-10) -- "One Push-Up" | 4324 | 
| tokay2 | Windows Server 2012 R2 Standard | x64 | 4.1.3 (2022-03-10) -- "One Push-Up" | 4077 | 
| machv2 | macOS 10.14.6 Mojave | x86_64 | 4.1.3 (2022-03-10) -- "One Push-Up" | 4137 | 
| Click on any hostname to see more info about the system (e.g. compilers) (*) as reported by 'uname -p', except on Windows and Mac OS X | ||||
| To the developers/maintainers of the Scale4C package: - Please allow up to 24 hours (and sometimes 48 hours) for your latest push to git@git.bioconductor.org:packages/Scale4C.git to reflect on this report. See How and When does the builder pull? When will my changes propagate? for more information. - Make sure to use the following settings in order to reproduce any error or warning you see on this page. | 
| Package 1700/2083 | Hostname | OS / Arch | INSTALL | BUILD | CHECK | BUILD BIN | ||||||||
| Scale4C 1.16.0  (landing page) Carolin Walter 
 | nebbiolo2 | Linux (Ubuntu 20.04.4 LTS) / x86_64 | OK | OK | OK |  | ||||||||
| tokay2 | Windows Server 2012 R2 Standard / x64 | OK | OK | OK | OK |  | ||||||||
| machv2 | macOS 10.14.6 Mojave / x86_64 | OK | OK | OK | OK |  | ||||||||
| Package: Scale4C | 
| Version: 1.16.0 | 
| Command: C:\cygwin\bin\curl.exe -O http://155.52.207.166/BBS/3.14/bioc/src/contrib/Scale4C_1.16.0.tar.gz && rm -rf Scale4C.buildbin-libdir && mkdir Scale4C.buildbin-libdir && C:\Users\biocbuild\bbs-3.14-bioc\R\bin\R.exe CMD INSTALL --merge-multiarch --build --library=Scale4C.buildbin-libdir Scale4C_1.16.0.tar.gz && C:\Users\biocbuild\bbs-3.14-bioc\R\bin\R.exe CMD INSTALL Scale4C_1.16.0.zip && rm Scale4C_1.16.0.tar.gz Scale4C_1.16.0.zip | 
| StartedAt: 2022-04-12 05:31:47 -0400 (Tue, 12 Apr 2022) | 
| EndedAt: 2022-04-12 05:33:02 -0400 (Tue, 12 Apr 2022) | 
| EllapsedTime: 75.9 seconds | 
| RetCode: 0 | 
| Status: OK | 
##############################################################################
##############################################################################
###
### Running command:
###
###   C:\cygwin\bin\curl.exe -O http://155.52.207.166/BBS/3.14/bioc/src/contrib/Scale4C_1.16.0.tar.gz && rm -rf Scale4C.buildbin-libdir && mkdir Scale4C.buildbin-libdir && C:\Users\biocbuild\bbs-3.14-bioc\R\bin\R.exe CMD INSTALL --merge-multiarch --build --library=Scale4C.buildbin-libdir Scale4C_1.16.0.tar.gz && C:\Users\biocbuild\bbs-3.14-bioc\R\bin\R.exe CMD INSTALL Scale4C_1.16.0.zip && rm Scale4C_1.16.0.tar.gz Scale4C_1.16.0.zip
###
##############################################################################
##############################################################################
  % Total    % Received % Xferd  Average Speed   Time    Time     Time  Current
                                 Dload  Upload   Total   Spent    Left  Speed
  0     0    0     0    0     0      0      0 --:--:-- --:--:-- --:--:--     0
  1 3300k    1 49737    0     0   254k      0  0:00:12 --:--:--  0:00:12  254k
 25 3300k   25  855k    0     0   717k      0  0:00:04  0:00:01  0:00:03  717k
 69 3300k   69 2283k    0     0  1040k      0  0:00:03  0:00:02  0:00:01 1041k
100 3300k  100 3300k    0     0  1138k      0  0:00:02  0:00:02 --:--:-- 1138k
install for i386
* installing *source* package 'Scale4C' ...
** using staged installation
** R
** data
** inst
** byte-compile and prepare package for lazy loading
** help
*** installing help indices
  converting help for package 'Scale4C'
    finding HTML links ... done
    Scale4C-class                           html  
    Scale4C                                 html  
    addPointsOfInterest                     html  
    calculateFingerprintMap                 html  
    calculateScaleSpace                     html  
    findSingularities                       html  
    importBasic4CseqData                    html  
    liverData                               html  
    liverDataVP                             html  
    outputScaleSpaceTree                    html  
    plotInflectionPoints                    html  
    plotTesselation                         html  
    plotTraceback                           html  
** building package indices
** installing vignettes
** testing if installed package can be loaded from temporary location
** testing if installed package can be loaded from final location
** testing if installed package keeps a record of temporary installation path
install for x64
* installing *source* package 'Scale4C' ...
** testing if installed package can be loaded
* MD5 sums
packaged installation of 'Scale4C' as Scale4C_1.16.0.zip
* DONE (Scale4C)
* installing to library 'C:/Users/biocbuild/bbs-3.14-bioc/R/library'
package 'Scale4C' successfully unpacked and MD5 sums checked