| Back to Multiple platform build/check report for BioC 3.14 |
|
This page was generated on 2022-04-13 12:07:25 -0400 (Wed, 13 Apr 2022).
| Hostname | OS | Arch (*) | R version | Installed pkgs |
|---|---|---|---|---|
| nebbiolo2 | Linux (Ubuntu 20.04.4 LTS) | x86_64 | 4.1.3 (2022-03-10) -- "One Push-Up" | 4324 |
| tokay2 | Windows Server 2012 R2 Standard | x64 | 4.1.3 (2022-03-10) -- "One Push-Up" | 4077 |
| machv2 | macOS 10.14.6 Mojave | x86_64 | 4.1.3 (2022-03-10) -- "One Push-Up" | 4137 |
| Click on any hostname to see more info about the system (e.g. compilers) (*) as reported by 'uname -p', except on Windows and Mac OS X | ||||
|
To the developers/maintainers of the SRGnet package: - Please allow up to 24 hours (and sometimes 48 hours) for your latest push to git@git.bioconductor.org:packages/SRGnet.git to reflect on this report. See How and When does the builder pull? When will my changes propagate? for more information. - Make sure to use the following settings in order to reproduce any error or warning you see on this page. |
| Package 1874/2083 | Hostname | OS / Arch | INSTALL | BUILD | CHECK | BUILD BIN | ||||||||
Isar Nassiri
| nebbiolo2 | Linux (Ubuntu 20.04.4 LTS) / x86_64 | ERROR | ERROR | skipped | |||||||||
| tokay2 | Windows Server 2012 R2 Standard / x64 | ERROR | ERROR | skipped | skipped | |||||||||
| machv2 | macOS 10.14.6 Mojave / x86_64 | ERROR | ERROR | skipped | skipped | |||||||||
| Package: SRGnet |
| Version: 1.20.0 |
| Command: chmod a+r SRGnet -R && C:\Users\biocbuild\bbs-3.14-bioc\R\bin\R.exe CMD build --keep-empty-dirs --no-resave-data SRGnet |
| StartedAt: 2022-04-12 14:38:34 -0400 (Tue, 12 Apr 2022) |
| EndedAt: 2022-04-12 14:38:40 -0400 (Tue, 12 Apr 2022) |
| EllapsedTime: 6.0 seconds |
| RetCode: 1 |
| Status: ERROR |
| PackageFile: SRGnet_1.20.0.tar.gz |
| PackageFileSize: 161 KiB |
##############################################################################
##############################################################################
###
### Running command:
###
### chmod a+r SRGnet -R && C:\Users\biocbuild\bbs-3.14-bioc\R\bin\R.exe CMD build --keep-empty-dirs --no-resave-data SRGnet
###
##############################################################################
##############################################################################
* checking for file 'SRGnet/DESCRIPTION' ... OK
* preparing 'SRGnet':
* checking DESCRIPTION meta-information ... OK
* installing the package to build vignettes
-----------------------------------
ERROR: dependency 'DMwR' is not available for package 'SRGnet'
* removing 'C:/Users/biocbuild/bbs-3.14-bioc/tmpdir/RtmpIp0Sl1/Rinst17c44d4f70c3/SRGnet'
-----------------------------------
ERROR: package installation failed