| Back to Multiple platform build/check report for BioC 3.14 |
|
This page was generated on 2022-04-13 12:07:25 -0400 (Wed, 13 Apr 2022).
| Hostname | OS | Arch (*) | R version | Installed pkgs |
|---|---|---|---|---|
| nebbiolo2 | Linux (Ubuntu 20.04.4 LTS) | x86_64 | 4.1.3 (2022-03-10) -- "One Push-Up" | 4324 |
| tokay2 | Windows Server 2012 R2 Standard | x64 | 4.1.3 (2022-03-10) -- "One Push-Up" | 4077 |
| machv2 | macOS 10.14.6 Mojave | x86_64 | 4.1.3 (2022-03-10) -- "One Push-Up" | 4137 |
| Click on any hostname to see more info about the system (e.g. compilers) (*) as reported by 'uname -p', except on Windows and Mac OS X | ||||
|
To the developers/maintainers of the SRAdb package: - Please allow up to 24 hours (and sometimes 48 hours) for your latest push to git@git.bioconductor.org:packages/SRAdb.git to reflect on this report. See How and When does the builder pull? When will my changes propagate? for more information. - Make sure to use the following settings in order to reproduce any error or warning you see on this page. |
| Package 1873/2083 | Hostname | OS / Arch | INSTALL | BUILD | CHECK | BUILD BIN | ||||||||
| SRAdb 1.56.0 (landing page) Jack Zhu
| nebbiolo2 | Linux (Ubuntu 20.04.4 LTS) / x86_64 | OK | OK | OK | |||||||||
| tokay2 | Windows Server 2012 R2 Standard / x64 | OK | OK | OK | OK | |||||||||
| machv2 | macOS 10.14.6 Mojave / x86_64 | OK | OK | OK | OK | |||||||||
| Package: SRAdb |
| Version: 1.56.0 |
| Command: rm -rf SRAdb.buildbin-libdir && mkdir SRAdb.buildbin-libdir && C:\Users\biocbuild\bbs-3.14-bioc\R\bin\R.exe CMD INSTALL --merge-multiarch --build --library=SRAdb.buildbin-libdir SRAdb_1.56.0.tar.gz |
| StartedAt: 2022-04-13 07:12:12 -0400 (Wed, 13 Apr 2022) |
| EndedAt: 2022-04-13 07:12:31 -0400 (Wed, 13 Apr 2022) |
| EllapsedTime: 18.9 seconds |
| RetCode: 0 |
| Status: OK |
| PackageFile: SRAdb_1.56.0.zip |
| PackageFileSize: 800 KiB |
##############################################################################
##############################################################################
###
### Running command:
###
### rm -rf SRAdb.buildbin-libdir && mkdir SRAdb.buildbin-libdir && C:\Users\biocbuild\bbs-3.14-bioc\R\bin\R.exe CMD INSTALL --merge-multiarch --build --library=SRAdb.buildbin-libdir SRAdb_1.56.0.tar.gz
###
##############################################################################
##############################################################################
install for i386
* installing *source* package 'SRAdb' ...
** using staged installation
** R
** inst
** byte-compile and prepare package for lazy loading
** help
*** installing help indices
converting help for package 'SRAdb'
finding HTML links ... done
IGVclear html
IGVcollapse html
IGVgenome html
IGVgoto html
IGVload html
IGVsession html
IGVsnapshot html
IGVsocket html
IGVsort html
SRAdb-package html
ascpR html
ascpSRA html
colDescriptions html
entityGraph html
getFASTQfile html
getFASTQinfo html
getSRA html
getSRAdbFile html
getSRAfile html
getSRAinfo html
listSRAfile html
sraConvert html
sraGraph html
startIGV html
** building package indices
** installing vignettes
** testing if installed package can be loaded from temporary location
** testing if installed package can be loaded from final location
** testing if installed package keeps a record of temporary installation path
install for x64
* installing *source* package 'SRAdb' ...
** testing if installed package can be loaded
* MD5 sums
packaged installation of 'SRAdb' as SRAdb_1.56.0.zip
* DONE (SRAdb)