| Back to Multiple platform build/check report for BioC 3.14 |
|
This page was generated on 2022-04-13 12:07:22 -0400 (Wed, 13 Apr 2022).
| Hostname | OS | Arch (*) | R version | Installed pkgs |
|---|---|---|---|---|
| nebbiolo2 | Linux (Ubuntu 20.04.4 LTS) | x86_64 | 4.1.3 (2022-03-10) -- "One Push-Up" | 4324 |
| tokay2 | Windows Server 2012 R2 Standard | x64 | 4.1.3 (2022-03-10) -- "One Push-Up" | 4077 |
| machv2 | macOS 10.14.6 Mojave | x86_64 | 4.1.3 (2022-03-10) -- "One Push-Up" | 4137 |
| Click on any hostname to see more info about the system (e.g. compilers) (*) as reported by 'uname -p', except on Windows and Mac OS X | ||||
|
To the developers/maintainers of the SIM package: - Please allow up to 24 hours (and sometimes 48 hours) for your latest push to git@git.bioconductor.org:packages/SIM.git to reflect on this report. See How and When does the builder pull? When will my changes propagate? for more information. - Make sure to use the following settings in order to reproduce any error or warning you see on this page. |
| Package 1796/2083 | Hostname | OS / Arch | INSTALL | BUILD | CHECK | BUILD BIN | ||||||||
| SIM 1.64.0 (landing page) Renee X. de Menezes
| nebbiolo2 | Linux (Ubuntu 20.04.4 LTS) / x86_64 | OK | OK | OK | |||||||||
| tokay2 | Windows Server 2012 R2 Standard / x64 | OK | OK | OK | OK | |||||||||
| machv2 | macOS 10.14.6 Mojave / x86_64 | OK | OK | OK | OK | |||||||||
| Package: SIM |
| Version: 1.64.0 |
| Command: C:\cygwin\bin\curl.exe -O http://155.52.207.166/BBS/3.14/bioc/src/contrib/SIM_1.64.0.tar.gz && rm -rf SIM.buildbin-libdir && mkdir SIM.buildbin-libdir && C:\Users\biocbuild\bbs-3.14-bioc\R\bin\R.exe CMD INSTALL --merge-multiarch --build --library=SIM.buildbin-libdir SIM_1.64.0.tar.gz && C:\Users\biocbuild\bbs-3.14-bioc\R\bin\R.exe CMD INSTALL SIM_1.64.0.zip && rm SIM_1.64.0.tar.gz SIM_1.64.0.zip |
| StartedAt: 2022-04-12 05:52:09 -0400 (Tue, 12 Apr 2022) |
| EndedAt: 2022-04-12 05:53:23 -0400 (Tue, 12 Apr 2022) |
| EllapsedTime: 73.9 seconds |
| RetCode: 0 |
| Status: OK |
##############################################################################
##############################################################################
###
### Running command:
###
### C:\cygwin\bin\curl.exe -O http://155.52.207.166/BBS/3.14/bioc/src/contrib/SIM_1.64.0.tar.gz && rm -rf SIM.buildbin-libdir && mkdir SIM.buildbin-libdir && C:\Users\biocbuild\bbs-3.14-bioc\R\bin\R.exe CMD INSTALL --merge-multiarch --build --library=SIM.buildbin-libdir SIM_1.64.0.tar.gz && C:\Users\biocbuild\bbs-3.14-bioc\R\bin\R.exe CMD INSTALL SIM_1.64.0.zip && rm SIM_1.64.0.tar.gz SIM_1.64.0.zip
###
##############################################################################
##############################################################################
% Total % Received % Xferd Average Speed Time Time Time Current
Dload Upload Total Spent Left Speed
0 0 0 0 0 0 0 0 --:--:-- --:--:-- --:--:-- 0
100 264k 100 264k 0 0 452k 0 --:--:-- --:--:-- --:--:-- 452k
100 264k 100 264k 0 0 452k 0 --:--:-- --:--:-- --:--:-- 452k
install for i386
* installing *source* package 'SIM' ...
** using staged installation
** libs
"C:/rtools40/mingw32/bin/"gcc -I"C:/Users/BIOCBU~1/BBS-3~1.14-/R/include" -DNDEBUG -I"C:/extsoft/include" -O2 -Wall -std=gnu99 -mfpmath=sse -msse2 -mstackrealign -c withinWindow.c -o withinWindow.o
C:/rtools40/mingw32/bin/gcc -shared -s -static-libgcc -o SIM.dll tmp.def withinWindow.o -LC:/extsoft/lib/i386 -LC:/extsoft/lib -LC:/Users/BIOCBU~1/BBS-3~1.14-/R/bin/i386 -lR
installing to C:/Users/biocbuild/bbs-3.14-bioc/meat/SIM.buildbin-libdir/00LOCK-SIM/00new/SIM/libs/i386
** R
** data
** inst
** byte-compile and prepare package for lazy loading
** help
*** installing help indices
converting help for package 'SIM'
finding HTML links ... done
RESOURCERER.annotation.to.ID html
SIM-package html
acgh.data html
assemble.data html
chrom.table html
expr.data html
getoverlappingregions html
impute.nas.by.surrounding html
integrated.analysis html
link.metadata html
samples html
sim.plot.overlapping.indep.dep.features
html
sim.plot.pvals.on.genome html
sim.plot.pvals.on.region html
sim.plot.zoom.in html
sim.plot.zscore.heatmap html
sim.update.chrom.table html
tabulate.pvals html
tabulate.top.dep.features html
tabulate.top.indep.features html
** building package indices
** installing vignettes
** testing if installed package can be loaded from temporary location
** testing if installed package can be loaded from final location
** testing if installed package keeps a record of temporary installation path
install for x64
* installing *source* package 'SIM' ...
** libs
"C:/rtools40/mingw64/bin/"gcc -I"C:/Users/BIOCBU~1/BBS-3~1.14-/R/include" -DNDEBUG -I"C:/extsoft/include" -O2 -Wall -std=gnu99 -mfpmath=sse -msse2 -mstackrealign -c withinWindow.c -o withinWindow.o
C:/rtools40/mingw64/bin/gcc -shared -s -static-libgcc -o SIM.dll tmp.def withinWindow.o -LC:/extsoft/lib/x64 -LC:/extsoft/lib -LC:/Users/BIOCBU~1/BBS-3~1.14-/R/bin/x64 -lR
installing to C:/Users/biocbuild/bbs-3.14-bioc/meat/SIM.buildbin-libdir/SIM/libs/x64
** testing if installed package can be loaded
* MD5 sums
packaged installation of 'SIM' as SIM_1.64.0.zip
* DONE (SIM)
* installing to library 'C:/Users/biocbuild/bbs-3.14-bioc/R/library'
package 'SIM' successfully unpacked and MD5 sums checked