| Back to Multiple platform build/check report for BioC 3.14 | 
 | 
This page was generated on 2022-04-13 12:07:16 -0400 (Wed, 13 Apr 2022).
| Hostname | OS | Arch (*) | R version | Installed pkgs | 
|---|---|---|---|---|
| nebbiolo2 | Linux (Ubuntu 20.04.4 LTS) | x86_64 | 4.1.3 (2022-03-10) -- "One Push-Up" | 4324 | 
| tokay2 | Windows Server 2012 R2 Standard | x64 | 4.1.3 (2022-03-10) -- "One Push-Up" | 4077 | 
| machv2 | macOS 10.14.6 Mojave | x86_64 | 4.1.3 (2022-03-10) -- "One Push-Up" | 4137 | 
| Click on any hostname to see more info about the system (e.g. compilers) (*) as reported by 'uname -p', except on Windows and Mac OS X | ||||
| To the developers/maintainers of the Rtpca package: - Please allow up to 24 hours (and sometimes 48 hours) for your latest push to git@git.bioconductor.org:packages/Rtpca.git to reflect on this report. See How and When does the builder pull? When will my changes propagate? for more information. - Make sure to use the following settings in order to reproduce any error or warning you see on this page. | 
| Package 1674/2083 | Hostname | OS / Arch | INSTALL | BUILD | CHECK | BUILD BIN | ||||||||
| Rtpca 1.4.0  (landing page) Nils Kurzawa 
 | nebbiolo2 | Linux (Ubuntu 20.04.4 LTS) / x86_64 | OK | OK | OK | |||||||||
| tokay2 | Windows Server 2012 R2 Standard / x64 | OK | OK | OK | OK | |||||||||
| machv2 | macOS 10.14.6 Mojave / x86_64 | OK | OK | OK | OK | |||||||||
| Package: Rtpca | 
| Version: 1.4.0 | 
| Command: rm -rf Rtpca.buildbin-libdir && mkdir Rtpca.buildbin-libdir && C:\Users\biocbuild\bbs-3.14-bioc\R\bin\R.exe CMD INSTALL --merge-multiarch --build --library=Rtpca.buildbin-libdir Rtpca_1.4.0.tar.gz | 
| StartedAt: 2022-04-13 07:02:37 -0400 (Wed, 13 Apr 2022) | 
| EndedAt: 2022-04-13 07:02:58 -0400 (Wed, 13 Apr 2022) | 
| EllapsedTime: 21.7 seconds | 
| RetCode: 0 | 
| Status: OK | 
| PackageFile: Rtpca_1.4.0.zip | 
| PackageFileSize: 2.332 MiB | 
##############################################################################
##############################################################################
###
### Running command:
###
###   rm -rf Rtpca.buildbin-libdir && mkdir Rtpca.buildbin-libdir && C:\Users\biocbuild\bbs-3.14-bioc\R\bin\R.exe CMD INSTALL --merge-multiarch --build --library=Rtpca.buildbin-libdir Rtpca_1.4.0.tar.gz
###
##############################################################################
##############################################################################
install for i386
* installing *source* package 'Rtpca' ...
** using staged installation
** R
** data
** inst
** byte-compile and prepare package for lazy loading
** help
*** installing help indices
  converting help for package 'Rtpca'
    finding HTML links ... done
    CommonFeatures-tpcaResult-method        html  
    ComplexAnnotation-tpcaResult-method     html  
    ComplexBackgroundDistributionList-tpcaResult-method
                                            html  
    ComplexRocTable-tpcaResult-method       html  
    ContrastCondName-tpcaResult-method      html  
    ContrastDistMat-tpcaResult-method       html  
    ContrastList-tpcaResult-method          html  
    CtrlCondName-tpcaResult-method          html  
    DistMat-tpcaResult-method               html  
    DistMethod-tpcaResult-method            html  
    ObjList-tpcaResult-method               html  
    PPiAnnotation-tpcaResult-method         html  
    PPiRocTable-tpcaResult-method           html  
    PPiRocTableAnno-tpcaResult-method       html  
    SetCommonFeatures-tpcaResult-method     html  
    SetComplexAnnotation-tpcaResult-method
                                            html  
    SetComplexBackgroundDistributionList-tpcaResult-method
                                            html  
    SetComplexRocTable-tpcaResult-method    html  
    SetContrastCondName-tpcaResult-method   html  
    SetContrastDistMat-tpcaResult-method    html  
    SetCtrlCondName-tpcaResult-method       html  
    SetDiffTpcaResultTable-tpcaResult-method
                                            html  
    SetDistMat-tpcaResult-method            html  
    SetDistMethod-tpcaResult-method         html  
    SetPPiRocTable-tpcaResult-method        html  
    SetPPiRocTableAnno-tpcaResult-method    html  
    SetSummaryMethod-tpcaResult-method      html  
    SetTpcaResultTable-tpcaResult-method    html  
    SummaryMethod-tpcaResult-method         html  
    createDistMat                           html  
    diffTpcaResultTable-tpcaResult-method   html  
    ori_et_al_complex_ppis                  html  
    ori_et_al_complexes_df                  html  
    plotComplexRoc                          html  
    plotDiffTpcaVolcano                     html  
    plotPPiProfiles                         html  
    plotPPiRoc                              html  
    plotTpcaVolcano                         html  
    runDiffTPCA                             html  
    runTPCA                                 html  
    string_ppi_df                           html  
    tpcaResult-class                        html  
    tpcaResultTable-tpcaResult-method       html  
** building package indices
** installing vignettes
** testing if installed package can be loaded from temporary location
** testing if installed package can be loaded from final location
** testing if installed package keeps a record of temporary installation path
install for x64
* installing *source* package 'Rtpca' ...
** testing if installed package can be loaded
* MD5 sums
packaged installation of 'Rtpca' as Rtpca_1.4.0.zip
* DONE (Rtpca)