| Back to Multiple platform build/check report for BioC 3.14 | 
 | 
This page was generated on 2022-04-13 12:07:14 -0400 (Wed, 13 Apr 2022).
| Hostname | OS | Arch (*) | R version | Installed pkgs | 
|---|---|---|---|---|
| nebbiolo2 | Linux (Ubuntu 20.04.4 LTS) | x86_64 | 4.1.3 (2022-03-10) -- "One Push-Up" | 4324 | 
| tokay2 | Windows Server 2012 R2 Standard | x64 | 4.1.3 (2022-03-10) -- "One Push-Up" | 4077 | 
| machv2 | macOS 10.14.6 Mojave | x86_64 | 4.1.3 (2022-03-10) -- "One Push-Up" | 4137 | 
| Click on any hostname to see more info about the system (e.g. compilers) (*) as reported by 'uname -p', except on Windows and Mac OS X | ||||
| To the developers/maintainers of the Rmagpie package: - Please allow up to 24 hours (and sometimes 48 hours) for your latest push to git@git.bioconductor.org:packages/Rmagpie.git to reflect on this report. See How and When does the builder pull? When will my changes propagate? for more information. - Make sure to use the following settings in order to reproduce any error or warning you see on this page. | 
| Package 1620/2083 | Hostname | OS / Arch | INSTALL | BUILD | CHECK | BUILD BIN | ||||||||
| Rmagpie 1.50.0  (landing page) Camille Maumet 
 | nebbiolo2 | Linux (Ubuntu 20.04.4 LTS) / x86_64 | OK | OK | OK |  | ||||||||
| tokay2 | Windows Server 2012 R2 Standard / x64 | OK | OK | OK | OK |  | ||||||||
| machv2 | macOS 10.14.6 Mojave / x86_64 | OK | OK | OK | OK |  | ||||||||
| Package: Rmagpie | 
| Version: 1.50.0 | 
| Command: rm -rf Rmagpie.buildbin-libdir && mkdir Rmagpie.buildbin-libdir && C:\Users\biocbuild\bbs-3.14-bioc\R\bin\R.exe CMD INSTALL --merge-multiarch --build --library=Rmagpie.buildbin-libdir Rmagpie_1.50.0.tar.gz | 
| StartedAt: 2022-04-13 06:59:53 -0400 (Wed, 13 Apr 2022) | 
| EndedAt: 2022-04-13 07:00:17 -0400 (Wed, 13 Apr 2022) | 
| EllapsedTime: 23.9 seconds | 
| RetCode: 0 | 
| Status: OK | 
| PackageFile: Rmagpie_1.50.0.zip | 
| PackageFileSize: 773.3 KiB | 
##############################################################################
##############################################################################
###
### Running command:
###
###   rm -rf Rmagpie.buildbin-libdir && mkdir Rmagpie.buildbin-libdir && C:\Users\biocbuild\bbs-3.14-bioc\R\bin\R.exe CMD INSTALL --merge-multiarch --build --library=Rmagpie.buildbin-libdir Rmagpie_1.50.0.tar.gz
###
##############################################################################
##############################################################################
install for i386
* installing *source* package 'Rmagpie' ...
** using staged installation
** R
** data
** demo
** inst
** byte-compile and prepare package for lazy loading
** help
*** installing help indices
  converting help for package 'Rmagpie'
    finding HTML links ... done
    classifyNewSamples-methods              html  
    experiment-class                        html  
    featureSelectionOptions-class           html  
    finalClassifier-class                   html  
    findFinalClassifier-methods             html  
    geneSubsets-class                       html  
    getDataset-methods                      html  
    getFeatureSelectionOptions-methods      html  
    getFinalClassifier                      html  
    getResults-methods                      html  
    initialize-methods                      html  
    plotErrorsFoldTwoLayerCV-methods        html  
    plotErrorsRepeatedOneLayerCV            html  
    plotErrorsSummaryOneLayerCV-methods     html  
    rankedGenesImg-methods                  html  
    runOneLayerExtCV-methods                html  
    runTwoLayerExtCV-methods                html  
    setDataset-methods                      html  
    setFeatureSelectionOptions-methods      html  
    show-methods                            html  
    thresholds-class                        html  
    vV70genes                               html  
** building package indices
** installing vignettes
** testing if installed package can be loaded from temporary location
** testing if installed package can be loaded from final location
** testing if installed package keeps a record of temporary installation path
install for x64
* installing *source* package 'Rmagpie' ...
** testing if installed package can be loaded
* MD5 sums
packaged installation of 'Rmagpie' as Rmagpie_1.50.0.zip
* DONE (Rmagpie)