| Back to Multiple platform build/check report for BioC 3.14 |
|
This page was generated on 2022-04-13 12:07:11 -0400 (Wed, 13 Apr 2022).
| Hostname | OS | Arch (*) | R version | Installed pkgs |
|---|---|---|---|---|
| nebbiolo2 | Linux (Ubuntu 20.04.4 LTS) | x86_64 | 4.1.3 (2022-03-10) -- "One Push-Up" | 4324 |
| tokay2 | Windows Server 2012 R2 Standard | x64 | 4.1.3 (2022-03-10) -- "One Push-Up" | 4077 |
| machv2 | macOS 10.14.6 Mojave | x86_64 | 4.1.3 (2022-03-10) -- "One Push-Up" | 4137 |
| Click on any hostname to see more info about the system (e.g. compilers) (*) as reported by 'uname -p', except on Windows and Mac OS X | ||||
|
To the developers/maintainers of the RcisTarget package: - Please allow up to 24 hours (and sometimes 48 hours) for your latest push to git@git.bioconductor.org:packages/RcisTarget.git to reflect on this report. See How and When does the builder pull? When will my changes propagate? for more information. - Make sure to use the following settings in order to reproduce any error or warning you see on this page. |
| Package 1545/2083 | Hostname | OS / Arch | INSTALL | BUILD | CHECK | BUILD BIN | ||||||||
| RcisTarget 1.14.0 (landing page) Sara Aibar
| nebbiolo2 | Linux (Ubuntu 20.04.4 LTS) / x86_64 | OK | OK | WARNINGS | |||||||||
| tokay2 | Windows Server 2012 R2 Standard / x64 | OK | ERROR | skipped | skipped | |||||||||
| machv2 | macOS 10.14.6 Mojave / x86_64 | OK | OK | WARNINGS | OK | |||||||||
| Package: RcisTarget |
| Version: 1.14.0 |
| Command: C:\cygwin\bin\curl.exe -O http://155.52.207.166/BBS/3.14/bioc/src/contrib/RcisTarget_1.14.0.tar.gz && rm -rf RcisTarget.buildbin-libdir && mkdir RcisTarget.buildbin-libdir && C:\Users\biocbuild\bbs-3.14-bioc\R\bin\R.exe CMD INSTALL --merge-multiarch --build --library=RcisTarget.buildbin-libdir RcisTarget_1.14.0.tar.gz && C:\Users\biocbuild\bbs-3.14-bioc\R\bin\R.exe CMD INSTALL RcisTarget_1.14.0.zip && rm RcisTarget_1.14.0.tar.gz RcisTarget_1.14.0.zip |
| StartedAt: 2022-04-12 07:27:43 -0400 (Tue, 12 Apr 2022) |
| EndedAt: 2022-04-12 07:31:53 -0400 (Tue, 12 Apr 2022) |
| EllapsedTime: 250.1 seconds |
| RetCode: 0 |
| Status: OK |
##############################################################################
##############################################################################
###
### Running command:
###
### C:\cygwin\bin\curl.exe -O http://155.52.207.166/BBS/3.14/bioc/src/contrib/RcisTarget_1.14.0.tar.gz && rm -rf RcisTarget.buildbin-libdir && mkdir RcisTarget.buildbin-libdir && C:\Users\biocbuild\bbs-3.14-bioc\R\bin\R.exe CMD INSTALL --merge-multiarch --build --library=RcisTarget.buildbin-libdir RcisTarget_1.14.0.tar.gz && C:\Users\biocbuild\bbs-3.14-bioc\R\bin\R.exe CMD INSTALL RcisTarget_1.14.0.zip && rm RcisTarget_1.14.0.tar.gz RcisTarget_1.14.0.zip
###
##############################################################################
##############################################################################
% Total % Received % Xferd Average Speed Time Time Time Current
Dload Upload Total Spent Left Speed
0 0 0 0 0 0 0 0 --:--:-- --:--:-- --:--:-- 0
0 8476k 0 5187 0 0 64181 0 0:02:15 --:--:-- 0:02:15 64037
11 8476k 11 970k 0 0 897k 0 0:00:09 0:00:01 0:00:08 897k
33 8476k 33 2876k 0 0 1376k 0 0:00:06 0:00:02 0:00:04 1376k
55 8476k 55 4677k 0 0 1512k 0 0:00:05 0:00:03 0:00:02 1512k
83 8476k 83 7076k 0 0 1729k 0 0:00:04 0:00:04 --:--:-- 1729k
100 8476k 100 8476k 0 0 1865k 0 0:00:04 0:00:04 --:--:-- 1898k
install for i386
* installing *source* package 'RcisTarget' ...
** using staged installation
** R
** data
** inst
** byte-compile and prepare package for lazy loading
** help
*** installing help indices
converting help for package 'RcisTarget'
finding HTML links ... done
RcisTarget html
finding level-2 HTML links ... done
addLogo html
addMotifAnnotation html
addSignificantGenes html
aucScores-class html
calcAUC html
convertToTargetRegions html
dbRegionsLoc html
getDbRegionsLoc html
getMotifAnnotation html
importAnnotations html
importRankings html
motifAnnotations html
rankingRcisTarget-class html
reRank html
** building package indices
** installing vignettes
** testing if installed package can be loaded from temporary location
** testing if installed package can be loaded from final location
** testing if installed package keeps a record of temporary installation path
install for x64
* installing *source* package 'RcisTarget' ...
** testing if installed package can be loaded
* MD5 sums
packaged installation of 'RcisTarget' as RcisTarget_1.14.0.zip
* DONE (RcisTarget)
* installing to library 'C:/Users/biocbuild/bbs-3.14-bioc/R/library'
package 'RcisTarget' successfully unpacked and MD5 sums checked