| Back to Multiple platform build/check report for BioC 3.14 |
|
This page was generated on 2022-04-13 12:08:42 -0400 (Wed, 13 Apr 2022).
| Hostname | OS | Arch (*) | R version | Installed pkgs |
|---|---|---|---|---|
| nebbiolo2 | Linux (Ubuntu 20.04.4 LTS) | x86_64 | 4.1.3 (2022-03-10) -- "One Push-Up" | 4324 |
| tokay2 | Windows Server 2012 R2 Standard | x64 | 4.1.3 (2022-03-10) -- "One Push-Up" | 4077 |
| machv2 | macOS 10.14.6 Mojave | x86_64 | 4.1.3 (2022-03-10) -- "One Push-Up" | 4137 |
| Click on any hostname to see more info about the system (e.g. compilers) (*) as reported by 'uname -p', except on Windows and Mac OS X | ||||
|
To the developers/maintainers of the RTN package: - Please allow up to 24 hours (and sometimes 48 hours) for your latest push to git@git.bioconductor.org:packages/RTN.git to reflect on this report. See How and When does the builder pull? When will my changes propagate? for more information. - Make sure to use the following settings in order to reproduce any error or warning you see on this page. |
| Package 1670/2083 | Hostname | OS / Arch | INSTALL | BUILD | CHECK | BUILD BIN | ||||||||
| RTN 2.18.0 (landing page) Mauro Castro
| nebbiolo2 | Linux (Ubuntu 20.04.4 LTS) / x86_64 | OK | OK | OK | |||||||||
| tokay2 | Windows Server 2012 R2 Standard / x64 | OK | OK | OK | OK | |||||||||
| machv2 | macOS 10.14.6 Mojave / x86_64 | OK | OK | OK | OK | |||||||||
| Package: RTN |
| Version: 2.18.0 |
| Command: /Library/Frameworks/R.framework/Resources/bin/R CMD check --install=check:RTN.install-out.txt --library=/Library/Frameworks/R.framework/Resources/library --no-vignettes --timings RTN_2.18.0.tar.gz |
| StartedAt: 2022-04-12 17:55:31 -0400 (Tue, 12 Apr 2022) |
| EndedAt: 2022-04-12 18:01:12 -0400 (Tue, 12 Apr 2022) |
| EllapsedTime: 341.4 seconds |
| RetCode: 0 |
| Status: OK |
| CheckDir: RTN.Rcheck |
| Warnings: 0 |
##############################################################################
##############################################################################
###
### Running command:
###
### /Library/Frameworks/R.framework/Resources/bin/R CMD check --install=check:RTN.install-out.txt --library=/Library/Frameworks/R.framework/Resources/library --no-vignettes --timings RTN_2.18.0.tar.gz
###
##############################################################################
##############################################################################
* using log directory ‘/Users/biocbuild/bbs-3.14-bioc/meat/RTN.Rcheck’
* using R version 4.1.3 (2022-03-10)
* using platform: x86_64-apple-darwin17.0 (64-bit)
* using session charset: UTF-8
* using option ‘--no-vignettes’
* checking for file ‘RTN/DESCRIPTION’ ... OK
* checking extension type ... Package
* this is package ‘RTN’ version ‘2.18.0’
* checking package namespace information ... OK
* checking package dependencies ... OK
* checking if this is a source package ... OK
* checking if there is a namespace ... OK
* checking for hidden files and directories ... OK
* checking for portable file names ... OK
* checking for sufficient/correct file permissions ... OK
* checking whether package ‘RTN’ can be installed ... OK
* checking installed package size ... NOTE
installed size is 10.8Mb
sub-directories of 1Mb or more:
R 2.0Mb
data 8.6Mb
* checking package directory ... OK
* checking ‘build’ directory ... OK
* checking DESCRIPTION meta-information ... OK
* checking top-level files ... OK
* checking for left-over files ... OK
* checking index information ... OK
* checking package subdirectories ... OK
* checking R files for non-ASCII characters ... OK
* checking R files for syntax errors ... OK
* checking whether the package can be loaded ... OK
* checking whether the package can be loaded with stated dependencies ... OK
* checking whether the package can be unloaded cleanly ... OK
* checking whether the namespace can be loaded with stated dependencies ... OK
* checking whether the namespace can be unloaded cleanly ... OK
* checking dependencies in R code ... OK
* checking S3 generic/method consistency ... OK
* checking replacement functions ... OK
* checking foreign function calls ... OK
* checking R code for possible problems ... OK
* checking Rd files ... OK
* checking Rd metadata ... OK
* checking Rd cross-references ... OK
* checking for missing documentation entries ... OK
* checking for code/documentation mismatches ... OK
* checking Rd \usage sections ... OK
* checking Rd contents ... OK
* checking for unstated dependencies in examples ... OK
* checking contents of ‘data’ directory ... OK
* checking data for non-ASCII characters ... OK
* checking data for ASCII and uncompressed saves ... OK
* checking files in ‘vignettes’ ... OK
* checking examples ... OK
* checking for unstated dependencies in ‘tests’ ... OK
* checking tests ...
Running ‘runTests.R’
OK
* checking for unstated dependencies in vignettes ... OK
* checking package vignettes in ‘inst/doc’ ... OK
* checking running R code from vignettes ... SKIPPED
* checking re-building of vignette outputs ... SKIPPED
* checking PDF version of manual ... OK
* DONE
Status: 1 NOTE
See
‘/Users/biocbuild/bbs-3.14-bioc/meat/RTN.Rcheck/00check.log’
for details.
RTN.Rcheck/00install.out
############################################################################## ############################################################################## ### ### Running command: ### ### /Library/Frameworks/R.framework/Resources/bin/R CMD INSTALL RTN ### ############################################################################## ############################################################################## * installing to library ‘/Library/Frameworks/R.framework/Versions/4.1/Resources/library’ * installing *source* package ‘RTN’ ... ** using staged installation ** R ** data ** inst ** byte-compile and prepare package for lazy loading ** help *** installing help indices ** building package indices ** installing vignettes ** testing if installed package can be loaded from temporary location ** testing if installed package can be loaded from final location ** testing if installed package keeps a record of temporary installation path * DONE (RTN)
RTN.Rcheck/tests/runTests.Rout
R version 4.1.3 (2022-03-10) -- "One Push-Up"
Copyright (C) 2022 The R Foundation for Statistical Computing
Platform: x86_64-apple-darwin17.0 (64-bit)
R is free software and comes with ABSOLUTELY NO WARRANTY.
You are welcome to redistribute it under certain conditions.
Type 'license()' or 'licence()' for distribution details.
R is a collaborative project with many contributors.
Type 'contributors()' for more information and
'citation()' on how to cite R or R packages in publications.
Type 'demo()' for some demos, 'help()' for on-line help, or
'help.start()' for an HTML browser interface to help.
Type 'q()' to quit R.
> BiocGenerics:::testPackage("RTN")
-Preprocessing for input data...
--Mapping 'expData' to 'rowAnnotation'...
--Checking 'regulatoryElements' in 'rowAnnotation'...
--Checking 'expData'...
-Preprocessing complete!
-Performing permutation analysis...
--For 5 regulons...
|
| | 0%
|
|======= | 10%
|
|============== | 20%
|
|===================== | 30%
|
|============================ | 40%
|
|=================================== | 50%
|
|========================================== | 60%
|
|================================================= | 70%
|
|======================================================== | 80%
|
|=============================================================== | 90%
|
|======================================================================| 100%
-Permutation analysis complete!
-Performing bootstrap analysis...
--For 5 regulons...
|
| | 0%
|
|======= | 10%
|
|============== | 20%
|
|===================== | 30%
|
|============================ | 40%
|
|=================================== | 50%
|
|========================================== | 60%
|
|================================================= | 70%
|
|======================================================== | 80%
|
|=============================================================== | 90%
|
|======================================================================| 100%
-Bootstrap analysis complete!
-Applying dpi filter...
-DPI filter complete!
-Preprocessing for input data...
--Mapping 'phenotype' to 'phenoIDs'...
--Removing genes without names or values in 'phenotype'...
--Removing duplicated genes...
--Mapping 'hits' to 'phenoIDs'...
--Removing duplicated hits...
--Mapping 'transcriptionalNetwork' annotation to 'phenotype'...
--Checking agreement between 'transcriptionalNetwork' and 'phenotype'... 99.8% !
--Removing 'hits' not listed in 'transcriptionalNetwork' universe...
--Extracting regulons...
-Preprocessing complete!
-Performing master regulatory analysis...
--For 5 regulons...
|
| | 0%
|
|============== | 20%
|
|============================ | 40%
|
|========================================== | 60%
|
|======================================================== | 80%
|
|======================================================================| 100%
-Master regulatory analysis complete
-Performing gene set enrichment analysis...
--For 5 regulons...
|
| | 0%
|
|============== | 20%
|
|============================ | 40%
|
|========================================== | 60%
|
|======================================================== | 80%
|
|======================================================================| 100%
-Gene set enrichment analysis complete
-Performing two-tailed GSEA analysis...
--For 5 regulons...
|
| | 0%
|
|============== | 20%
|
|============================ | 40%
|
|========================================== | 60%
|
|======================================================== | 80%
|
|======================================================================| 100%
|
| | 0%
|
|============== | 20%
|
|============================ | 40%
|
|========================================== | 60%
|
|======================================================== | 80%
|
|======================================================================| 100%
-GSEA2 analysis complete
-Preprocessing for input data...
--Mapping 'expData' to 'rowAnnotation'...
--Checking 'regulatoryElements' in 'rowAnnotation'...
--Checking 'expData'...
-Preprocessing complete!
-Performing permutation analysis...
--For 2 regulons...
|
| | 0%
|
|======= | 10%
|
|============== | 20%
|
|===================== | 30%
|
|============================ | 40%
|
|=================================== | 50%
|
|========================================== | 60%
|
|================================================= | 70%
|
|======================================================== | 80%
|
|=============================================================== | 90%
|
|======================================================================| 100%
-Permutation analysis complete!
-Performing bootstrap analysis...
--For 2 regulons...
|
| | 0%
|
|======= | 10%
|
|============== | 20%
|
|===================== | 30%
|
|============================ | 40%
|
|=================================== | 50%
|
|========================================== | 60%
|
|================================================= | 70%
|
|======================================================== | 80%
|
|=============================================================== | 90%
|
|======================================================================| 100%
-Bootstrap analysis complete!
-Applying dpi filter...
-DPI filter complete!
-Preprocessing for input data...
--Checking modulators in the dataset...
--Extracting TF-targets...
--Applying modulator independence constraint...
--Applying modulator range constraint...
--Selecting subsamples...
-Estimating mutual information threshold...
|
| | 0%
|
|======= | 10%
|
|============== | 20%
|
|===================== | 30%
|
|============================ | 40%
|
|=================================== | 50%
|
|========================================== | 60%
|
|================================================= | 70%
|
|======================================================== | 80%
|
|=============================================================== | 90%
|
|======================================================================| 100%
-Performing conditional mutual information analysis...
--For 2 tfs and 2 candidate modulator(s)
|
| | 0%
|
|=================================== | 50%
|
|======================================================================| 100%
-Conditional analysis complete!
RUNIT TEST PROTOCOL -- Tue Apr 12 18:01:01 2022
***********************************************
Number of test functions: 2
Number of errors: 0
Number of failures: 0
1 Test Suite :
RTN RUnit Tests - 2 test functions, 0 errors, 0 failures
Number of test functions: 2
Number of errors: 0
Number of failures: 0
>
> proc.time()
user system elapsed
57.734 3.340 61.108
RTN.Rcheck/RTN-Ex.timings
| name | user | system | elapsed | |
| AVS-class | 0.000 | 0.001 | 0.001 | |
| RTN.data | 0.478 | 0.020 | 0.498 | |
| TNA-class | 0.000 | 0.000 | 0.001 | |
| TNI-class | 0 | 0 | 0 | |
| TNI.data | 0.416 | 0.008 | 0.424 | |
| avs.evse | 0.000 | 0.001 | 0.002 | |
| avs.get | 0.000 | 0.001 | 0.001 | |
| avs.pevse | 0.001 | 0.002 | 0.002 | |
| avs.plot1 | 0 | 0 | 0 | |
| avs.plot2 | 0.000 | 0.001 | 0.000 | |
| avs.rvse | 0.000 | 0.002 | 0.001 | |
| avs.vse | 0.001 | 0.002 | 0.002 | |
| tna.get | 0.987 | 0.009 | 0.996 | |
| tna.gsea1 | 0.390 | 0.010 | 0.399 | |
| tna.gsea2 | 0.344 | 0.010 | 0.354 | |
| tna.mra | 0.385 | 0.010 | 0.394 | |
| tna.plot.gsea1 | 0.404 | 0.007 | 0.411 | |
| tna.plot.gsea2 | 0.42 | 0.01 | 0.43 | |
| tni.alpha.adjust | 0.243 | 0.004 | 0.248 | |
| tni.annotate.regulons | 0.088 | 0.004 | 0.092 | |
| tni.annotate.samples | 0.095 | 0.008 | 0.102 | |
| tni.area3 | 0.089 | 0.007 | 0.096 | |
| tni.bootstrap | 0.074 | 0.003 | 0.077 | |
| tni.conditional | 0.097 | 0.009 | 0.107 | |
| tni.constructor | 0.337 | 0.022 | 0.359 | |
| tni.dpi.filter | 0.101 | 0.012 | 0.113 | |
| tni.get | 0.074 | 0.006 | 0.080 | |
| tni.graph | 0.068 | 0.003 | 0.070 | |
| tni.gsea2 | 0.095 | 0.007 | 0.101 | |
| tni.overlap.genesets | 0.067 | 0.005 | 0.072 | |
| tni.permutation | 0.087 | 0.007 | 0.094 | |
| tni.plot.checks | 0.089 | 0.013 | 0.102 | |
| tni.plot.sre | 0.076 | 0.004 | 0.079 | |
| tni.preprocess | 0.001 | 0.000 | 0.001 | |
| tni.prune | 0.078 | 0.006 | 0.084 | |
| tni.regulon.summary | 0.088 | 0.007 | 0.095 | |
| tni.replace.samples | 0 | 0 | 0 | |
| tni.sre | 0.095 | 0.007 | 0.102 | |
| tni2tna.preprocess | 0.438 | 0.014 | 0.452 | |
| upgradeTNA | 0.000 | 0.001 | 0.000 | |
| upgradeTNI | 0 | 0 | 0 | |